BEGIN:VCALENDAR
VERSION:2.0
PRODID:-//PARIS NORD 2 - ECPv6.15.18//NONSGML v1.0//EN
CALSCALE:GREGORIAN
METHOD:PUBLISH
X-WR-CALNAME:PARIS NORD 2
X-ORIGINAL-URL:https://www.parisnord2.fr/?lang=en
X-WR-CALDESC:Events for PARIS NORD 2
REFRESH-INTERVAL;VALUE=DURATION:PT1H
X-Robots-Tag:noindex
X-PUBLISHED-TTL:PT1H
BEGIN:VTIMEZONE
TZID:Europe/Paris
BEGIN:DAYLIGHT
TZOFFSETFROM:+0100
TZOFFSETTO:+0200
TZNAME:CEST
DTSTART:20170326T010000
END:DAYLIGHT
BEGIN:STANDARD
TZOFFSETFROM:+0200
TZOFFSETTO:+0100
TZNAME:CET
DTSTART:20171029T010000
END:STANDARD
BEGIN:DAYLIGHT
TZOFFSETFROM:+0100
TZOFFSETTO:+0200
TZNAME:CEST
DTSTART:20180325T010000
END:DAYLIGHT
BEGIN:STANDARD
TZOFFSETFROM:+0200
TZOFFSETTO:+0100
TZNAME:CET
DTSTART:20181028T010000
END:STANDARD
BEGIN:DAYLIGHT
TZOFFSETFROM:+0100
TZOFFSETTO:+0200
TZNAME:CEST
DTSTART:20190331T010000
END:DAYLIGHT
BEGIN:STANDARD
TZOFFSETFROM:+0200
TZOFFSETTO:+0100
TZNAME:CET
DTSTART:20191027T010000
END:STANDARD
END:VTIMEZONE
BEGIN:VEVENT
DTSTART;VALUE=DATE:20181025
DTEND;VALUE=DATE:20181026
DTSTAMP:20260420T162546
CREATED:20181128T144725Z
LAST-MODIFIED:20181129T090844Z
UID:10000348-1540425600-1540511999@www.parisnord2.fr
SUMMARY:Lancement nouveau service « Potager City »
DESCRIPTION:Lancement nouveau service « Potager City » \nRestaurants interentreprises \nVenez découvrir le nouveau service mis en place sur le parc Paris Nord 2\, « Potager City ». \nEnvie de manger de bons fruits et légumes extra-frais et à petits prix ?\nCe service est fait pour vous ! \nNous lançons dans le parc d’affaires Paris Nord 2 un service de livraison de paniers de fruits et légumes avec le concept Potager City (www.potagercity.fr).\nLa démarche vous permet de consommer librement (sans engagement) des produits de saison en direct des producteurs. \nChaque semaine\, retrouvez une sélection de 10 à 15 box différentes\, choisissez selon vos envies et faites-vous livrer directement à Paris Nord 2.\nCette démarche vous permet de manger plus équilibré\, vous garantit des produits extra-frais et riches en saveur. \nPotager City vous accompagne aussi au quotidien avec des conseils de préservation\, des recettes variées et une équipe à votre disposition pour répondre à vos questions.\nPour l’occasion de nombreuses surprises et réductions vous attendent. \nPartagez
URL:https://www.parisnord2.fr/event/launch-of-the-new-service-potager-city/?lang=en
LOCATION:RIE\, Villepinte\, 93420
CATEGORIES:RIE paris nord 2
END:VEVENT
BEGIN:VEVENT
DTSTART;VALUE=DATE:20181017
DTEND;VALUE=DATE:20181101
DTSTAMP:20260420T162546
CREATED:20181128T144557Z
LAST-MODIFIED:20181129T090754Z
UID:10000347-1539734400-1541030399@www.parisnord2.fr
SUMMARY:Les jours barrés Usines Center
DESCRIPTION:Les jours barrés Usines Center \nDu 17 au 31 Octobre  \n  \nProfitez des Jours barrés à Usines Center\, des réductions supplémentaires sur des prix déjà Outlet vous y attendent. \nPartagez
URL:https://www.parisnord2.fr/event/crazy-reduction-days-at-usines-center/?lang=en
LOCATION:Usines Center\, Zone industrielle Paris Nord 2 134\, avenue de la Plaine de France\, Gonesse\, 95500\, France
CATEGORIES:Paris Nord 2
END:VEVENT
END:VCALENDAR