BEGIN:VCALENDAR
VERSION:2.0
PRODID:-//PARIS NORD 2 - ECPv6.15.18//NONSGML v1.0//EN
CALSCALE:GREGORIAN
METHOD:PUBLISH
X-WR-CALNAME:PARIS NORD 2
X-ORIGINAL-URL:https://www.parisnord2.fr
X-WR-CALDESC:Évènements pour PARIS NORD 2
REFRESH-INTERVAL;VALUE=DURATION:PT1H
X-Robots-Tag:noindex
X-PUBLISHED-TTL:PT1H
BEGIN:VTIMEZONE
TZID:Europe/Paris
BEGIN:DAYLIGHT
TZOFFSETFROM:+0100
TZOFFSETTO:+0200
TZNAME:CEST
DTSTART:20250330T010000
END:DAYLIGHT
BEGIN:STANDARD
TZOFFSETFROM:+0200
TZOFFSETTO:+0100
TZNAME:CET
DTSTART:20251026T010000
END:STANDARD
BEGIN:DAYLIGHT
TZOFFSETFROM:+0100
TZOFFSETTO:+0200
TZNAME:CEST
DTSTART:20260329T010000
END:DAYLIGHT
BEGIN:STANDARD
TZOFFSETFROM:+0200
TZOFFSETTO:+0100
TZNAME:CET
DTSTART:20261025T010000
END:STANDARD
BEGIN:DAYLIGHT
TZOFFSETFROM:+0100
TZOFFSETTO:+0200
TZNAME:CEST
DTSTART:20270328T010000
END:DAYLIGHT
BEGIN:STANDARD
TZOFFSETFROM:+0200
TZOFFSETTO:+0100
TZNAME:CET
DTSTART:20271031T010000
END:STANDARD
END:VTIMEZONE
BEGIN:VEVENT
DTSTART;TZID=Europe/Paris:20260609T120000
DTEND;TZID=Europe/Paris:20260609T130000
DTSTAMP:20260419T162941
CREATED:20260410T085017Z
LAST-MODIFIED:20260410T085017Z
UID:10000931-1781006400-1781010000@www.parisnord2.fr
SUMMARY:🎤Rencontre Interentreprises ANRH
DESCRIPTION:
URL:https://www.parisnord2.fr/event/%f0%9f%8e%a4rencontre-interentreprises-anrh/
LOCATION:ANRH\, 209\, avenue des Nations\, TREMBLAY EN FRANCE\, Sélectionner un État :\, 93290\, France
CATEGORIES:Paris Nord 2
ATTACH;FMTTYPE=image/png:https://www.parisnord2.fr/wp-content/uploads/2026/04/Photo-1.png
END:VEVENT
END:VCALENDAR