BEGIN:VCALENDAR
VERSION:2.0
PRODID:-//PARIS NORD 2 - ECPv6.15.18//NONSGML v1.0//EN
CALSCALE:GREGORIAN
METHOD:PUBLISH
X-WR-CALNAME:PARIS NORD 2
X-ORIGINAL-URL:https://www.parisnord2.fr
X-WR-CALDESC:Évènements pour PARIS NORD 2
REFRESH-INTERVAL;VALUE=DURATION:PT1H
X-Robots-Tag:noindex
X-PUBLISHED-TTL:PT1H
BEGIN:VTIMEZONE
TZID:Europe/Paris
BEGIN:DAYLIGHT
TZOFFSETFROM:+0100
TZOFFSETTO:+0200
TZNAME:CEST
DTSTART:20240331T010000
END:DAYLIGHT
BEGIN:STANDARD
TZOFFSETFROM:+0200
TZOFFSETTO:+0100
TZNAME:CET
DTSTART:20241027T010000
END:STANDARD
BEGIN:DAYLIGHT
TZOFFSETFROM:+0100
TZOFFSETTO:+0200
TZNAME:CEST
DTSTART:20250330T010000
END:DAYLIGHT
BEGIN:STANDARD
TZOFFSETFROM:+0200
TZOFFSETTO:+0100
TZNAME:CET
DTSTART:20251026T010000
END:STANDARD
BEGIN:DAYLIGHT
TZOFFSETFROM:+0100
TZOFFSETTO:+0200
TZNAME:CEST
DTSTART:20260329T010000
END:DAYLIGHT
BEGIN:STANDARD
TZOFFSETFROM:+0200
TZOFFSETTO:+0100
TZNAME:CET
DTSTART:20261025T010000
END:STANDARD
END:VTIMEZONE
BEGIN:VEVENT
DTSTART;TZID=Europe/Paris:20251030T180000
DTEND;TZID=Europe/Paris:20251030T220000
DTSTAMP:20260419T174525
CREATED:20250919T073530Z
LAST-MODIFIED:20250919T073917Z
UID:10000636-1761847200-1761861600@www.parisnord2.fr
SUMMARY:Soirée Octobre Rose / Movember
DESCRIPTION:  \nPour clôturer notre programme Octobre Rose et lancer le Movember\, nous vous proposons une soirée spéciale aux couleurs Rose / Bleu :\ndes cocktails colorés\, une déco instagrammable\, des animations\, mais surtout et avant tout\, l’intervention d’experts de santé et des témoignages pour vous sensibiliser à un sujet de santé publique. \nOn vous donne rendez-vous le jeudi 30 octobre\, à partir de 18h30\, au Green Hôtels (62\, rue de la Perdrix – Tremblay-en-France). \n  \nCliquez ici pour vous inscrire à la soirée.
URL:https://www.parisnord2.fr/event/soiree-octobre-rose/
LOCATION:Green Hôtel\, 62\, rue de la perdrix\, TREMBLAY EN FRANCE\, 93290\, France
CATEGORIES:Paris Nord 2
ATTACH;FMTTYPE=image/jpeg:https://www.parisnord2.fr/wp-content/uploads/2025/09/Octobre-Rose-soiree-WEB.jpg
END:VEVENT
END:VCALENDAR