BEGIN:VCALENDAR
VERSION:2.0
PRODID:-//PARIS NORD 2 - ECPv6.15.18//NONSGML v1.0//EN
CALSCALE:GREGORIAN
METHOD:PUBLISH
X-ORIGINAL-URL:https://www.parisnord2.fr
X-WR-CALDESC:Évènements pour PARIS NORD 2
REFRESH-INTERVAL;VALUE=DURATION:PT1H
X-Robots-Tag:noindex
X-PUBLISHED-TTL:PT1H
BEGIN:VTIMEZONE
TZID:Europe/Paris
BEGIN:DAYLIGHT
TZOFFSETFROM:+0100
TZOFFSETTO:+0200
TZNAME:CEST
DTSTART:20220327T010000
END:DAYLIGHT
BEGIN:STANDARD
TZOFFSETFROM:+0200
TZOFFSETTO:+0100
TZNAME:CET
DTSTART:20221030T010000
END:STANDARD
BEGIN:DAYLIGHT
TZOFFSETFROM:+0100
TZOFFSETTO:+0200
TZNAME:CEST
DTSTART:20230326T010000
END:DAYLIGHT
BEGIN:STANDARD
TZOFFSETFROM:+0200
TZOFFSETTO:+0100
TZNAME:CET
DTSTART:20231029T010000
END:STANDARD
BEGIN:DAYLIGHT
TZOFFSETFROM:+0100
TZOFFSETTO:+0200
TZNAME:CEST
DTSTART:20240331T010000
END:DAYLIGHT
BEGIN:STANDARD
TZOFFSETFROM:+0200
TZOFFSETTO:+0100
TZNAME:CET
DTSTART:20241027T010000
END:STANDARD
END:VTIMEZONE
BEGIN:VEVENT
DTSTART;TZID=Europe/Paris:20230921T114500
DTEND;TZID=Europe/Paris:20230921T140000
DTSTAMP:20260420T143735
CREATED:20230914T144116Z
LAST-MODIFIED:20230914T144116Z
UID:10000482-1695296700-1695304800@www.parisnord2.fr
SUMMARY:Stand mobilité
DESCRIPTION:Dans le cadre de la Semaine de la Mobilité\, nous sommes à votre écoute sur notre stand le mardi 19 septembre\, au restaurant Cap’Nord et le jeudi 21\, à Cap’Sud. \n(Re)découvrez l’offre multimodale du parc et faites-nous part de toutes vos suggestions. \nExclusivité !\nNous avons le plaisir d’avoir à nos côtés les équipes de la Société du Grand Paris. \nIls pourront vous présenter le projet de la ligne 17 du Grand Paris Express\, la section aérienne\, la future gare Parc des Expositions et l’avancement des travaux sur Paris Nord 2. \n  \nOn vous attend nombreux ! \n  \n 
URL:https://www.parisnord2.fr/event/stand-mobilite-2/
LOCATION:Restaurant Cap’Sud\, 102\, avenue des Nations\, Villepinte\, 93420\, France
CATEGORIES:RIE Paris Nord 2
ATTACH;FMTTYPE=image/jpeg:https://www.parisnord2.fr/wp-content/uploads/2023/09/IMG_20230822_153944-e1694702075732.jpg
END:VEVENT
BEGIN:VEVENT
DTSTART;TZID=Europe/Paris:20230914T114500
DTEND;TZID=Europe/Paris:20230914T140000
DTSTAMP:20260420T143735
CREATED:20230914T093053Z
LAST-MODIFIED:20230914T093132Z
UID:10000480-1694691900-1694700000@www.parisnord2.fr
SUMMARY:Expo-Vente Société générale
DESCRIPTION:Offres spéciales particuliers pour les salariés de Paris Nord 2 et offres spéciales Pro.
URL:https://www.parisnord2.fr/event/expo-vente-societe-generale/
LOCATION:Restaurant Cap’Sud\, 102\, avenue des Nations\, Villepinte\, 93420\, France
CATEGORIES:RIE Paris Nord 2
ATTACH;FMTTYPE=image/jpeg:https://www.parisnord2.fr/wp-content/uploads/2023/09/Credit-Societe-Generale.jpg
END:VEVENT
END:VCALENDAR