BEGIN:VCALENDAR
VERSION:2.0
PRODID:-//PARIS NORD 2 - ECPv6.15.18//NONSGML v1.0//EN
CALSCALE:GREGORIAN
METHOD:PUBLISH
X-ORIGINAL-URL:https://www.parisnord2.fr
X-WR-CALDESC:Évènements pour PARIS NORD 2
REFRESH-INTERVAL;VALUE=DURATION:PT1H
X-Robots-Tag:noindex
X-PUBLISHED-TTL:PT1H
BEGIN:VTIMEZONE
TZID:Europe/Paris
BEGIN:DAYLIGHT
TZOFFSETFROM:+0100
TZOFFSETTO:+0200
TZNAME:CEST
DTSTART:20230326T010000
END:DAYLIGHT
BEGIN:STANDARD
TZOFFSETFROM:+0200
TZOFFSETTO:+0100
TZNAME:CET
DTSTART:20231029T010000
END:STANDARD
BEGIN:DAYLIGHT
TZOFFSETFROM:+0100
TZOFFSETTO:+0200
TZNAME:CEST
DTSTART:20240331T010000
END:DAYLIGHT
BEGIN:STANDARD
TZOFFSETFROM:+0200
TZOFFSETTO:+0100
TZNAME:CET
DTSTART:20241027T010000
END:STANDARD
BEGIN:DAYLIGHT
TZOFFSETFROM:+0100
TZOFFSETTO:+0200
TZNAME:CEST
DTSTART:20250330T010000
END:DAYLIGHT
BEGIN:STANDARD
TZOFFSETFROM:+0200
TZOFFSETTO:+0100
TZNAME:CET
DTSTART:20251026T010000
END:STANDARD
END:VTIMEZONE
BEGIN:VEVENT
DTSTART;VALUE=DATE:20240116
DTEND;VALUE=DATE:20240121
DTSTAMP:20260424T165646
CREATED:20250106T093539Z
LAST-MODIFIED:20250106T094611Z
UID:10000496-1705363200-1705795199@www.parisnord2.fr
SUMMARY:Salon Maison & Objet 2025
DESCRIPTION:DE NOUVEAUX HORIZONS CRÉATIFS\nhttps://www.maison-objet.com/paris \n\n\n\nAvec le thème d’inspiration Sur/Reality\, Maison&Objet et l’agence Peclers Paris explorent en janvier la vitalité prolifique d’un nouveau Surréalisme. Il se nourrit de fantaisie\, de distorsion\, d’aléatoire\, d’humour et de poésie pour mettre en récit de nouveaux paysages créatifs et des productions aussi surprenantes que désirables. \nCette tendance se dessine\, sur le salon\, en objets inattendus\, en mises en scènes oniriques qui invitent au lâcher-prise\, et rencontre le nouvel appétit des consommateurs pour l’étrange et la surprise.\n\n\n\nPartagez
URL:https://www.parisnord2.fr/event/salon-maison-objet-2024/
LOCATION:Parc des Expositions\, Villepinte\, Ile-de-France\, 93420\, France
CATEGORIES:Parc des expositions
ATTACH;FMTTYPE=image/jpeg:https://www.parisnord2.fr/wp-content/uploads/2023/01/MAISON-OBJET-2023-©-MAISON-OBJET_block_media_big.jpg
END:VEVENT
END:VCALENDAR