BEGIN:VCALENDAR
VERSION:2.0
PRODID:-//PARIS NORD 2 - ECPv6.15.18//NONSGML v1.0//EN
CALSCALE:GREGORIAN
METHOD:PUBLISH
X-ORIGINAL-URL:https://www.parisnord2.fr
X-WR-CALDESC:Évènements pour PARIS NORD 2
REFRESH-INTERVAL;VALUE=DURATION:PT1H
X-Robots-Tag:noindex
X-PUBLISHED-TTL:PT1H
BEGIN:VTIMEZONE
TZID:Europe/Paris
BEGIN:DAYLIGHT
TZOFFSETFROM:+0100
TZOFFSETTO:+0200
TZNAME:CEST
DTSTART:20230326T010000
END:DAYLIGHT
BEGIN:STANDARD
TZOFFSETFROM:+0200
TZOFFSETTO:+0100
TZNAME:CET
DTSTART:20231029T010000
END:STANDARD
BEGIN:DAYLIGHT
TZOFFSETFROM:+0100
TZOFFSETTO:+0200
TZNAME:CEST
DTSTART:20240331T010000
END:DAYLIGHT
BEGIN:STANDARD
TZOFFSETFROM:+0200
TZOFFSETTO:+0100
TZNAME:CET
DTSTART:20241027T010000
END:STANDARD
BEGIN:DAYLIGHT
TZOFFSETFROM:+0100
TZOFFSETTO:+0200
TZNAME:CEST
DTSTART:20250330T010000
END:DAYLIGHT
BEGIN:STANDARD
TZOFFSETFROM:+0200
TZOFFSETTO:+0100
TZNAME:CET
DTSTART:20251026T010000
END:STANDARD
END:VTIMEZONE
BEGIN:VEVENT
DTSTART;VALUE=DATE:20240408
DTEND;VALUE=DATE:20240413
DTSTAMP:20260424T120814
CREATED:20240208T163212Z
LAST-MODIFIED:20240209T080939Z
UID:10000512-1712534400-1712966399@www.parisnord2.fr
SUMMARY:Concours
DESCRIPTION:@pressfoto.freepik\n  \n\nPartagez
URL:https://www.parisnord2.fr/event/concours-8/
LOCATION:Parc des Expositions\, Villepinte\, Ile-de-France\, 93420\, France
CATEGORIES:Parc des expositions
ATTACH;FMTTYPE=image/jpeg:https://www.parisnord2.fr/wp-content/uploads/2023/01/@pressfoto-e1675095219138.jpg
END:VEVENT
BEGIN:VEVENT
DTSTART;VALUE=DATE:20240410
DTEND;VALUE=DATE:20240411
DTSTAMP:20260424T120814
CREATED:20240209T100421Z
LAST-MODIFIED:20240209T100421Z
UID:10000513-1712707200-1712793599@www.parisnord2.fr
SUMMARY:Concours
DESCRIPTION:@pressfoto.freepik\n  \n\nPartagez
URL:https://www.parisnord2.fr/event/concours-9/
LOCATION:Parc des Expositions\, Villepinte\, Ile-de-France\, 93420\, France
CATEGORIES:Parc des expositions
ATTACH;FMTTYPE=image/jpeg:https://www.parisnord2.fr/wp-content/uploads/2023/01/@pressfoto-e1675095219138.jpg
END:VEVENT
BEGIN:VEVENT
DTSTART;VALUE=DATE:20240411
DTEND;VALUE=DATE:20240412
DTSTAMP:20260424T120814
CREATED:20240209T100446Z
LAST-MODIFIED:20240209T100446Z
UID:10000514-1712793600-1712879999@www.parisnord2.fr
SUMMARY:Concours
DESCRIPTION:@pressfoto.freepik\n  \n\nPartagez
URL:https://www.parisnord2.fr/event/concours-10/
LOCATION:Parc des Expositions\, Villepinte\, Ile-de-France\, 93420\, France
CATEGORIES:Parc des expositions
ATTACH;FMTTYPE=image/jpeg:https://www.parisnord2.fr/wp-content/uploads/2023/01/@pressfoto-e1675095219138.jpg
END:VEVENT
BEGIN:VEVENT
DTSTART;VALUE=DATE:20240416
DTEND;VALUE=DATE:20240419
DTSTAMP:20260424T120814
CREATED:20240209T100520Z
LAST-MODIFIED:20240209T100520Z
UID:10000515-1713225600-1713484799@www.parisnord2.fr
SUMMARY:Concours
DESCRIPTION:@pressfoto.freepik\n  \n\nPartagez
URL:https://www.parisnord2.fr/event/concours-11/
LOCATION:Parc des Expositions\, Villepinte\, Ile-de-France\, 93420\, France
CATEGORIES:Parc des expositions
ATTACH;FMTTYPE=image/jpeg:https://www.parisnord2.fr/wp-content/uploads/2023/01/@pressfoto-e1675095219138.jpg
END:VEVENT
BEGIN:VEVENT
DTSTART;VALUE=DATE:20240419
DTEND;VALUE=DATE:20240420
DTSTAMP:20260424T120814
CREATED:20240209T100603Z
LAST-MODIFIED:20240209T100603Z
UID:10000516-1713484800-1713571199@www.parisnord2.fr
SUMMARY:Concours
DESCRIPTION:@pressfoto.freepik\n  \n\nPartagez
URL:https://www.parisnord2.fr/event/concours-12/
LOCATION:Parc des Expositions\, Villepinte\, Ile-de-France\, 93420\, France
CATEGORIES:Parc des expositions
ATTACH;FMTTYPE=image/jpeg:https://www.parisnord2.fr/wp-content/uploads/2023/01/@pressfoto-e1675095219138.jpg
END:VEVENT
BEGIN:VEVENT
DTSTART;VALUE=DATE:20240424
DTEND;VALUE=DATE:20240428
DTSTAMP:20260424T120814
CREATED:20240209T100833Z
LAST-MODIFIED:20240209T100833Z
UID:10000517-1713916800-1714262399@www.parisnord2.fr
SUMMARY:Salon INTERMAT
DESCRIPTION:https://www.intermatconstruction.com/fr-FR \nPartagez
URL:https://www.parisnord2.fr/event/salon-intermat/
LOCATION:Parc des Expositions\, Villepinte\, Ile-de-France\, 93420\, France
CATEGORIES:Parc des expositions
ATTACH;FMTTYPE=image/jpeg:https://www.parisnord2.fr/wp-content/uploads/2024/02/INTERMAT_2024.jpg
END:VEVENT
BEGIN:VEVENT
DTSTART;VALUE=DATE:20240430
DTEND;VALUE=DATE:20240501
DTSTAMP:20260424T120814
CREATED:20240209T100916Z
LAST-MODIFIED:20240209T100916Z
UID:10000518-1714435200-1714521599@www.parisnord2.fr
SUMMARY:Concours
DESCRIPTION:@pressfoto.freepik\n  \n\nPartagez
URL:https://www.parisnord2.fr/event/concours-13/
LOCATION:Parc des Expositions\, Villepinte\, Ile-de-France\, 93420\, France
CATEGORIES:Parc des expositions
ATTACH;FMTTYPE=image/jpeg:https://www.parisnord2.fr/wp-content/uploads/2023/01/@pressfoto-e1675095219138.jpg
END:VEVENT
END:VCALENDAR