BEGIN:VCALENDAR
VERSION:2.0
PRODID:-//PARIS NORD 2 - ECPv6.15.18//NONSGML v1.0//EN
CALSCALE:GREGORIAN
METHOD:PUBLISH
X-ORIGINAL-URL:https://www.parisnord2.fr
X-WR-CALDESC:Évènements pour PARIS NORD 2
REFRESH-INTERVAL;VALUE=DURATION:PT1H
X-Robots-Tag:noindex
X-PUBLISHED-TTL:PT1H
BEGIN:VTIMEZONE
TZID:Europe/Paris
BEGIN:DAYLIGHT
TZOFFSETFROM:+0100
TZOFFSETTO:+0200
TZNAME:CEST
DTSTART:20230326T010000
END:DAYLIGHT
BEGIN:STANDARD
TZOFFSETFROM:+0200
TZOFFSETTO:+0100
TZNAME:CET
DTSTART:20231029T010000
END:STANDARD
BEGIN:DAYLIGHT
TZOFFSETFROM:+0100
TZOFFSETTO:+0200
TZNAME:CEST
DTSTART:20240331T010000
END:DAYLIGHT
BEGIN:STANDARD
TZOFFSETFROM:+0200
TZOFFSETTO:+0100
TZNAME:CET
DTSTART:20241027T010000
END:STANDARD
BEGIN:DAYLIGHT
TZOFFSETFROM:+0100
TZOFFSETTO:+0200
TZNAME:CEST
DTSTART:20250330T010000
END:DAYLIGHT
BEGIN:STANDARD
TZOFFSETFROM:+0200
TZOFFSETTO:+0100
TZNAME:CET
DTSTART:20251026T010000
END:STANDARD
END:VTIMEZONE
BEGIN:VEVENT
DTSTART;VALUE=DATE:20241101
DTEND;VALUE=DATE:20241103
DTSTAMP:20260423T231320
CREATED:20240209T105239Z
LAST-MODIFIED:20240209T105239Z
UID:10000534-1730419200-1730591999@www.parisnord2.fr
SUMMARY:DREAMNATION (festival musique techno)
DESCRIPTION:©Dream_Nation_Festival_2021_Maxime_Potin\nLa soirée Dream Nation se propose de réunir tous les genres de musique électronique : Electro\, Techno\, Trance\, Dubstep\, Drum & Bass\, Hardtechno\, Hardcore… il y en a pour tous les goûts. \n  \n\nPartagez
URL:https://www.parisnord2.fr/event/dreamnation-festival-musique-techno/
LOCATION:Parc des Expositions\, Villepinte\, Ile-de-France\, 93420\, France
CATEGORIES:Parc des expositions
ATTACH;FMTTYPE=image/jpeg:https://www.parisnord2.fr/wp-content/uploads/2024/02/paris-manga-tgs.jpg
END:VEVENT
BEGIN:VEVENT
DTSTART;VALUE=DATE:20241104
DTEND;VALUE=DATE:20241108
DTSTAMP:20260423T231320
CREATED:20240209T105721Z
LAST-MODIFIED:20240209T105721Z
UID:10000535-1730678400-1731023999@www.parisnord2.fr
SUMMARY:Salon ALL4PACK 2024
DESCRIPTION:@ANNEEMMANUELLE_THION \nhttps://www.all4pack.com/ \nPartagez
URL:https://www.parisnord2.fr/event/salon-all4pack-2024/
LOCATION:Ile-de-France
CATEGORIES:Parc des expositions
ATTACH;FMTTYPE=image/jpeg:https://www.parisnord2.fr/wp-content/uploads/2024/02/Hall-ALL4PACK-EMBALLAGE-PARIS.jpg
END:VEVENT
BEGIN:VEVENT
DTSTART;VALUE=DATE:20241104
DTEND;VALUE=DATE:20241108
DTSTAMP:20260423T231320
CREATED:20240209T110221Z
LAST-MODIFIED:20240209T110221Z
UID:10000536-1730678400-1731023999@www.parisnord2.fr
SUMMARY:Salon EURONAVAL (industrie navale)
DESCRIPTION:Partagez
URL:https://www.parisnord2.fr/event/salon-euronaval-industrie-navale/
LOCATION:Ile-de-France
CATEGORIES:Parc des expositions
ATTACH;FMTTYPE=image/png:https://www.parisnord2.fr/wp-content/uploads/2024/02/euronaval-2024.png
END:VEVENT
BEGIN:VEVENT
DTSTART;VALUE=DATE:20241109
DTEND;VALUE=DATE:20241112
DTSTAMP:20260423T231320
CREATED:20240209T110847Z
LAST-MODIFIED:20240209T110847Z
UID:10000537-1731110400-1731369599@www.parisnord2.fr
SUMMARY:Salon CULTURE TURQUE
DESCRIPTION:https://www.kulturexpo.com/ \nPartagez
URL:https://www.parisnord2.fr/event/salon-culture-turque/
LOCATION:Ile-de-France
CATEGORIES:Parc des expositions
ATTACH;FMTTYPE=image/png:https://www.parisnord2.fr/wp-content/uploads/2024/02/logo-kulturexpo.png
END:VEVENT
BEGIN:VEVENT
DTSTART;VALUE=DATE:20241114
DTEND;VALUE=DATE:20241115
DTSTAMP:20260423T231320
CREATED:20240209T111016Z
LAST-MODIFIED:20240209T111016Z
UID:10000538-1731542400-1731628799@www.parisnord2.fr
SUMMARY:Concours CIGGC (attaché territorial)
DESCRIPTION:@pressfoto.freepik\n  \n\nPartagez
URL:https://www.parisnord2.fr/event/concours-ciggc-attache-territorial/
LOCATION:Parc des Expositions\, Villepinte\, Ile-de-France\, 93420\, France
CATEGORIES:Parc des expositions
ATTACH;FMTTYPE=image/jpeg:https://www.parisnord2.fr/wp-content/uploads/2023/01/@pressfoto-e1675095219138.jpg
END:VEVENT
BEGIN:VEVENT
DTSTART;VALUE=DATE:20241114
DTEND;VALUE=DATE:20241122
DTSTAMP:20260423T231320
CREATED:20240209T111103Z
LAST-MODIFIED:20240209T111103Z
UID:10000539-1731542400-1732233599@www.parisnord2.fr
SUMMARY:Concours
DESCRIPTION:@pressfoto.freepik\n  \n\nPartagez
URL:https://www.parisnord2.fr/event/concours-19/
LOCATION:Parc des Expositions\, Villepinte\, Ile-de-France\, 93420\, France
CATEGORIES:Parc des expositions
ATTACH;FMTTYPE=image/jpeg:https://www.parisnord2.fr/wp-content/uploads/2023/01/@pressfoto-e1675095219138.jpg
END:VEVENT
BEGIN:VEVENT
DTSTART;VALUE=DATE:20241124
DTEND;VALUE=DATE:20241128
DTSTAMP:20260423T231320
CREATED:20240209T111443Z
LAST-MODIFIED:20240209T111443Z
UID:10000540-1732406400-1732751999@www.parisnord2.fr
SUMMARY:Salon SIMA (machine agricole)
DESCRIPTION:@farmconnexion \n  \nhttps://www.simaonline.com/ \n  \nPartagez
URL:https://www.parisnord2.fr/event/salon-sima-machine-agricole/
LOCATION:Ile-de-France
CATEGORIES:Parc des expositions
ATTACH;FMTTYPE=image/jpeg:https://www.parisnord2.fr/wp-content/uploads/2024/02/sima-7388.jpg
END:VEVENT
END:VCALENDAR