BEGIN:VCALENDAR
VERSION:2.0
PRODID:-//PARIS NORD 2 - ECPv6.15.18//NONSGML v1.0//EN
CALSCALE:GREGORIAN
METHOD:PUBLISH
X-ORIGINAL-URL:https://www.parisnord2.fr
X-WR-CALDESC:Évènements pour PARIS NORD 2
REFRESH-INTERVAL;VALUE=DURATION:PT1H
X-Robots-Tag:noindex
X-PUBLISHED-TTL:PT1H
BEGIN:VTIMEZONE
TZID:Europe/Paris
BEGIN:DAYLIGHT
TZOFFSETFROM:+0100
TZOFFSETTO:+0200
TZNAME:CEST
DTSTART:20240331T010000
END:DAYLIGHT
BEGIN:STANDARD
TZOFFSETFROM:+0200
TZOFFSETTO:+0100
TZNAME:CET
DTSTART:20241027T010000
END:STANDARD
BEGIN:DAYLIGHT
TZOFFSETFROM:+0100
TZOFFSETTO:+0200
TZNAME:CEST
DTSTART:20250330T010000
END:DAYLIGHT
BEGIN:STANDARD
TZOFFSETFROM:+0200
TZOFFSETTO:+0100
TZNAME:CET
DTSTART:20251026T010000
END:STANDARD
BEGIN:DAYLIGHT
TZOFFSETFROM:+0100
TZOFFSETTO:+0200
TZNAME:CEST
DTSTART:20260329T010000
END:DAYLIGHT
BEGIN:STANDARD
TZOFFSETFROM:+0200
TZOFFSETTO:+0100
TZNAME:CET
DTSTART:20261025T010000
END:STANDARD
END:VTIMEZONE
BEGIN:VEVENT
DTSTART;VALUE=DATE:20250904
DTEND;VALUE=DATE:20250909
DTSTAMP:20260422T024545
CREATED:20250106T112125Z
LAST-MODIFIED:20250106T112125Z
UID:10000585-1756944000-1757375999@www.parisnord2.fr
SUMMARY:Salon Maison et Objets
DESCRIPTION:Le salon Maison et Objets est de retour sur le parc des Expositions. \nDécouvrez le programme ici \n\n\n\n\nLa circulation sur le parc peut être perturbée aux heures de pointes\, merci de prendre vos dispositions le temps du salon.\n\n\n\n\n  \nPartagez
URL:https://www.parisnord2.fr/event/salon-maison-et-objets/
LOCATION:Parc des Expositions\, Villepinte\, Ile-de-France\, 93420\, France
CATEGORIES:Parc des expositions
ATTACH;FMTTYPE=image/jpeg:https://www.parisnord2.fr/wp-content/uploads/2022/03/maison-et-objet.jpg
END:VEVENT
BEGIN:VEVENT
DTSTART;VALUE=DATE:20250916
DTEND;VALUE=DATE:20250919
DTSTAMP:20260422T024545
CREATED:20230126T151822Z
LAST-MODIFIED:20250106T112502Z
UID:10000436-1757980800-1758239999@www.parisnord2.fr
SUMMARY:Salon PREMIERE VISION
DESCRIPTION:©PREMIEREVISION\nVenez faire le plein d’inspiration à Première Vision Paris !\nRendez-vous biannuel des professionnels de la mode créative\, Première Vision Paris est un évènement unique pensé pour accompagner votre sourcing et alimenter votre créativité grâce à un panorama complet de matières premières et de services dédiés. \nAu service de votre créativité\, l’équipe de PV Paris s’est donné pour missions de créer un carrefour international de rencontres\, de savoir-faire et d’innovation\, de sélectionner les meilleurs experts pour accompagner votre sourcing\, d’anticiper l’air du temps\, les tendances et les couleurs au fil des saison et de s’engager avec vous pour une mode plus responsable. \nDu fil à la confection\, en passant par les tissus\, les cuirs\, les imprimés\, les couleurs et les accessoires\, vous trouverez de quoi élaborer vos futures collections de A à Z en arpentant les 9 univers du salon. \n  \nPV Paris c’est :\n3 jours de salon\, 2 fois par an à Paris Nord Villepinte \n9 univers dédiés aux tissus\, aux fils\, aux designs\, aux cuirs\, aux accessoires\, à la confection et à l’éco-responsabilité \n+ de 1200 exposants internationaux sélectionnés pour leur créativité \nDes talks pour faire le point sur les sujets du moment et vous inspirer \nDes forums d’inspiration mode avec les points forts de la saison \nUne gamme couleurs exclusive et une information mode pointue chaque saison \nPartagez
URL:https://www.parisnord2.fr/event/salon-premiere-vision-2/
LOCATION:Parc des Expositions\, Villepinte\, Ile-de-France\, 93420\, France
CATEGORIES:Parc des expositions
ATTACH;FMTTYPE=image/jpeg:https://www.parisnord2.fr/wp-content/uploads/2023/01/PremierevisionParisExhibitionHall.jpg
END:VEVENT
BEGIN:VEVENT
DTSTART;VALUE=DATE:20250917
DTEND;VALUE=DATE:20250919
DTSTAMP:20260422T024545
CREATED:20250106T150657Z
LAST-MODIFIED:20250106T150657Z
UID:10000589-1758067200-1758239999@www.parisnord2.fr
SUMMARY:Salon d’Enseigne GMS BRICOLAGE LEROY MERLIN
DESCRIPTION:Partagez
URL:https://www.parisnord2.fr/event/salon-denseigne-gms-bricolage-leroy-merlin-2/
LOCATION:Parc des Expositions\, Villepinte\, Ile-de-France\, 93420\, France
CATEGORIES:Parc des expositions
ATTACH;FMTTYPE=image/jpeg:https://www.parisnord2.fr/wp-content/uploads/2025/01/paris-nord-villepinte-3.jpg
END:VEVENT
BEGIN:VEVENT
DTSTART;TZID=Europe/Paris:20250923T120000
DTEND;TZID=Europe/Paris:20250923T140000
DTSTAMP:20260422T024545
CREATED:20250821T152027Z
LAST-MODIFIED:20250821T152027Z
UID:10000624-1758628800-1758636000@www.parisnord2.fr
SUMMARY:Visite de chantier de la gare Parc des Expositions – Ligne 17 du Grand Paris Express
DESCRIPTION:Visite de chantier de la gare Parc des Expositions – Ligne 17 du Grand Paris Express \n  \nÀ l’occasion de la Semaine de la Mobilité et du Développement Durable\, Paris Nord 2 et la Société des grands projets vous ouvrent\nles portes du chantier de la gare Parc des Expositions de la ligne 17 du Grand Paris Express. Une visite immersive qui aura lieu\nle mardi 23 septembre\, pour entrer dans les coulisses d’un projet d’envergure pour Paris Nord 2 et l’ensemble du territoire. \nOn vous donne rendez-vous devant l’entrée de la gare RER B Parc des Expositions (102\, avenue des Nations – Villepinte\, du côté\nde Paris Nord 2\, parvis gare routière). \nPour la bonne organisation de cette visite et pour des raisons de sécurité\, la jauge est limitée à 15 personnes par groupe\, c’est pourquoi nous vous proposons 2 horaires de visite à 12h ou à 13h (durée 1h) et vous demandons de bien vouloir arriver au moins 5 minutes avant le début de votre session (horaires au choix\, à préciser dans le formulaire d’inscription). \n  \nLa Société des grands projets vous fournira les EPI obligatoires (gants\, lunettes\, gilet haute visibilité\, casque et chaussures de sécurité). Vous devez porter une tenue confortable couvrant les bras et les jambes (pas de t-shirt\, short ou robe) et être munis d’une pièce d’identité. \n  \nCliquez ici pour vous inscrire \n  \n \nPartagez
URL:https://www.parisnord2.fr/event/visite-de-chantier-de-la-gare-parc-des-expositions-ligne-17-du-grand-paris-express/
LOCATION:Parc des Expositions\, Villepinte\, Ile-de-France\, 93420\, France
CATEGORIES:Parc des expositions,Paris Nord 2
ATTACH;FMTTYPE=image/jpeg:https://www.parisnord2.fr/wp-content/uploads/2025/07/Visite-de-chantier.jpg
END:VEVENT
BEGIN:VEVENT
DTSTART;VALUE=DATE:20250926
DTEND;VALUE=DATE:20250930
DTSTAMP:20260422T024545
CREATED:20250106T151214Z
LAST-MODIFIED:20250106T151214Z
UID:10000591-1758844800-1759190399@www.parisnord2.fr
SUMMARY:Salon SILMO (optique)
DESCRIPTION:@SIAL 2024 | CCI Bourgogne Franche-Comté\nhttps://event.silmoparis.com/ \nPartagez
URL:https://www.parisnord2.fr/event/salon-silmo-optique-2/
LOCATION:Ile-de-France
CATEGORIES:Parc des expositions
ATTACH;FMTTYPE=image/jpeg:https://www.parisnord2.fr/wp-content/uploads/2024/02/silmo-2024.jpg
END:VEVENT
END:VCALENDAR