BEGIN:VCALENDAR
VERSION:2.0
PRODID:-//PARIS NORD 2 - ECPv6.15.18//NONSGML v1.0//EN
CALSCALE:GREGORIAN
METHOD:PUBLISH
X-WR-CALNAME:PARIS NORD 2
X-ORIGINAL-URL:https://www.parisnord2.fr
X-WR-CALDESC:Évènements pour PARIS NORD 2
REFRESH-INTERVAL;VALUE=DURATION:PT1H
X-Robots-Tag:noindex
X-PUBLISHED-TTL:PT1H
BEGIN:VTIMEZONE
TZID:Europe/Paris
BEGIN:DAYLIGHT
TZOFFSETFROM:+0100
TZOFFSETTO:+0200
TZNAME:CEST
DTSTART:20220327T010000
END:DAYLIGHT
BEGIN:STANDARD
TZOFFSETFROM:+0200
TZOFFSETTO:+0100
TZNAME:CET
DTSTART:20221030T010000
END:STANDARD
BEGIN:DAYLIGHT
TZOFFSETFROM:+0100
TZOFFSETTO:+0200
TZNAME:CEST
DTSTART:20230326T010000
END:DAYLIGHT
BEGIN:STANDARD
TZOFFSETFROM:+0200
TZOFFSETTO:+0100
TZNAME:CET
DTSTART:20231029T010000
END:STANDARD
BEGIN:DAYLIGHT
TZOFFSETFROM:+0100
TZOFFSETTO:+0200
TZNAME:CEST
DTSTART:20240331T010000
END:DAYLIGHT
BEGIN:STANDARD
TZOFFSETFROM:+0200
TZOFFSETTO:+0100
TZNAME:CET
DTSTART:20241027T010000
END:STANDARD
END:VTIMEZONE
BEGIN:VEVENT
DTSTART;VALUE=DATE:20230307
DTEND;VALUE=DATE:20230310
DTSTAMP:20260425T134835
CREATED:20230130T161351Z
LAST-MODIFIED:20230130T161539Z
UID:10000438-1678147200-1678406399@www.parisnord2.fr
SUMMARY:Examens et concours
DESCRIPTION:@pressfoto.freepik\n  \n\nPartagez
URL:https://www.parisnord2.fr/event/examens-et-concours/
LOCATION:Parc des Expositions\, Villepinte\, Ile-de-France\, 93420\, France
CATEGORIES:Parc des expositions
ATTACH;FMTTYPE=image/jpeg:https://www.parisnord2.fr/wp-content/uploads/2023/01/@pressfoto-e1675095219138.jpg
END:VEVENT
BEGIN:VEVENT
DTSTART;VALUE=DATE:20230312
DTEND;VALUE=DATE:20230315
DTSTAMP:20260425T134835
CREATED:20240208T160527Z
LAST-MODIFIED:20240208T160541Z
UID:10000502-1678579200-1678838399@www.parisnord2.fr
SUMMARY:Examens et concours
DESCRIPTION:@pressfoto.freepik\n  \n\nPartagez
URL:https://www.parisnord2.fr/event/examens-et-concours-4/
LOCATION:Parc des Expositions\, Villepinte\, Ile-de-France\, 93420\, France
CATEGORIES:Parc des expositions
ATTACH;FMTTYPE=image/jpeg:https://www.parisnord2.fr/wp-content/uploads/2023/01/@pressfoto-e1675095219138.jpg
END:VEVENT
END:VCALENDAR