BEGIN:VCALENDAR
VERSION:2.0
PRODID:-//PARIS NORD 2 - ECPv6.15.18//NONSGML v1.0//EN
CALSCALE:GREGORIAN
METHOD:PUBLISH
X-ORIGINAL-URL:https://www.parisnord2.fr
X-WR-CALDESC:Évènements pour PARIS NORD 2
REFRESH-INTERVAL;VALUE=DURATION:PT1H
X-Robots-Tag:noindex
X-PUBLISHED-TTL:PT1H
BEGIN:VTIMEZONE
TZID:Europe/Paris
BEGIN:DAYLIGHT
TZOFFSETFROM:+0100
TZOFFSETTO:+0200
TZNAME:CEST
DTSTART:20230326T010000
END:DAYLIGHT
BEGIN:STANDARD
TZOFFSETFROM:+0200
TZOFFSETTO:+0100
TZNAME:CET
DTSTART:20231029T010000
END:STANDARD
BEGIN:DAYLIGHT
TZOFFSETFROM:+0100
TZOFFSETTO:+0200
TZNAME:CEST
DTSTART:20240331T010000
END:DAYLIGHT
BEGIN:STANDARD
TZOFFSETFROM:+0200
TZOFFSETTO:+0100
TZNAME:CET
DTSTART:20241027T010000
END:STANDARD
BEGIN:DAYLIGHT
TZOFFSETFROM:+0100
TZOFFSETTO:+0200
TZNAME:CEST
DTSTART:20250330T010000
END:DAYLIGHT
BEGIN:STANDARD
TZOFFSETFROM:+0200
TZOFFSETTO:+0100
TZNAME:CET
DTSTART:20251026T010000
END:STANDARD
END:VTIMEZONE
BEGIN:VEVENT
DTSTART;VALUE=DATE:20240726
DTEND;VALUE=DATE:20240908
DTSTAMP:20260424T054451
CREATED:20240209T102538Z
LAST-MODIFIED:20240806T074549Z
UID:10000527-1721952000-1725753599@www.parisnord2.fr
SUMMARY:Jeux Olympiques 2024
DESCRIPTION:@Paris_2024.svg\nPartenaire de Paris 2024\, Viparis et ses équipes sont mobilisés pour faire rayonner les Jeux Olympiques et Paralympiques de Paris 2024. \nhttps://www.viparis.com/jo-paris-2024 \n  \n \n  \n\nPartagez
URL:https://www.parisnord2.fr/event/jeux-olympiques-2024/
LOCATION:Parc des Expositions\, Villepinte\, Ile-de-France\, 93420\, France
CATEGORIES:Parc des expositions
ATTACH;FMTTYPE=image/png:https://www.parisnord2.fr/wp-content/uploads/2024/02/1200px-Logo_JO_dete_-_Paris_2024.svg_.png
END:VEVENT
BEGIN:VEVENT
DTSTART;VALUE=DATE:20240828
DTEND;VALUE=DATE:20240909
DTSTAMP:20260424T054451
CREATED:20240209T102928Z
LAST-MODIFIED:20240209T102928Z
UID:10000528-1724803200-1725839999@www.parisnord2.fr
SUMMARY:Jeux paralympiques 2024
DESCRIPTION:@Paris_2024.svg\nPartenaire de Paris 2024\, Viparis et ses équipes sont mobilisés pour faire rayonner les Jeux Olympiques et Paralympiques de Paris 2024. \nhttps://www.viparis.com/jo-paris-2024 \n  \n  \n  \n\nPartagez
URL:https://www.parisnord2.fr/event/jeux-paralympiques-2024/
LOCATION:Parc des Expositions\, Villepinte\, Ile-de-France\, 93420\, France
CATEGORIES:Parc des expositions
ATTACH;FMTTYPE=image/png:https://www.parisnord2.fr/wp-content/uploads/2024/02/1200px-Logo_JO_dete_-_Paris_2024.svg_.png
END:VEVENT
END:VCALENDAR