BEGIN:VCALENDAR
VERSION:2.0
PRODID:-//PARIS NORD 2 - ECPv6.15.18//NONSGML v1.0//EN
CALSCALE:GREGORIAN
METHOD:PUBLISH
X-ORIGINAL-URL:https://www.parisnord2.fr
X-WR-CALDESC:Évènements pour PARIS NORD 2
REFRESH-INTERVAL;VALUE=DURATION:PT1H
X-Robots-Tag:noindex
X-PUBLISHED-TTL:PT1H
BEGIN:VTIMEZONE
TZID:Europe/Paris
BEGIN:DAYLIGHT
TZOFFSETFROM:+0100
TZOFFSETTO:+0200
TZNAME:CEST
DTSTART:20230326T010000
END:DAYLIGHT
BEGIN:STANDARD
TZOFFSETFROM:+0200
TZOFFSETTO:+0100
TZNAME:CET
DTSTART:20231029T010000
END:STANDARD
BEGIN:DAYLIGHT
TZOFFSETFROM:+0100
TZOFFSETTO:+0200
TZNAME:CEST
DTSTART:20240331T010000
END:DAYLIGHT
BEGIN:STANDARD
TZOFFSETFROM:+0200
TZOFFSETTO:+0100
TZNAME:CET
DTSTART:20241027T010000
END:STANDARD
BEGIN:DAYLIGHT
TZOFFSETFROM:+0100
TZOFFSETTO:+0200
TZNAME:CEST
DTSTART:20250330T010000
END:DAYLIGHT
BEGIN:STANDARD
TZOFFSETFROM:+0200
TZOFFSETTO:+0100
TZNAME:CET
DTSTART:20251026T010000
END:STANDARD
END:VTIMEZONE
BEGIN:VEVENT
DTSTART;VALUE=DATE:20240920
DTEND;VALUE=DATE:20240924
DTSTAMP:20260424T070748
CREATED:20240209T104416Z
LAST-MODIFIED:20240209T104416Z
UID:10000531-1726790400-1727135999@www.parisnord2.fr
SUMMARY:Salon SILMO (optique)
DESCRIPTION:@SIAL 2024 | CCI Bourgogne Franche-Comté\nhttps://event.silmoparis.com/ \nPartagez
URL:https://www.parisnord2.fr/event/salon-silmo-optique/
LOCATION:Ile-de-France
CATEGORIES:Parc des expositions
ATTACH;FMTTYPE=image/jpeg:https://www.parisnord2.fr/wp-content/uploads/2024/02/silmo-2024.jpg
END:VEVENT
BEGIN:VEVENT
DTSTART;VALUE=DATE:20240921
DTEND;VALUE=DATE:20240930
DTSTAMP:20260424T070748
CREATED:20240209T104713Z
LAST-MODIFIED:20240209T104713Z
UID:10000532-1726876800-1727654399@www.parisnord2.fr
SUMMARY:Salon SVDL (véhicules de loisir)
DESCRIPTION:https://salonvdl.com/ \n  \nPartagez
URL:https://www.parisnord2.fr/event/salon-svdl-vehicules-de-loisir/
LOCATION:Ile-de-France
CATEGORIES:Parc des expositions
ATTACH;FMTTYPE=image/png:https://www.parisnord2.fr/wp-content/uploads/2023/07/Salon_des_vehicules_de_loisirs-2023.png
END:VEVENT
END:VCALENDAR