BEGIN:VCALENDAR
VERSION:2.0
PRODID:-//PARIS NORD 2 - ECPv6.15.18//NONSGML v1.0//EN
CALSCALE:GREGORIAN
METHOD:PUBLISH
X-ORIGINAL-URL:https://www.parisnord2.fr
X-WR-CALDESC:Évènements pour PARIS NORD 2
REFRESH-INTERVAL;VALUE=DURATION:PT1H
X-Robots-Tag:noindex
X-PUBLISHED-TTL:PT1H
BEGIN:VTIMEZONE
TZID:Europe/Paris
BEGIN:DAYLIGHT
TZOFFSETFROM:+0100
TZOFFSETTO:+0200
TZNAME:CEST
DTSTART:20230326T010000
END:DAYLIGHT
BEGIN:STANDARD
TZOFFSETFROM:+0200
TZOFFSETTO:+0100
TZNAME:CET
DTSTART:20231029T010000
END:STANDARD
BEGIN:DAYLIGHT
TZOFFSETFROM:+0100
TZOFFSETTO:+0200
TZNAME:CEST
DTSTART:20240331T010000
END:DAYLIGHT
BEGIN:STANDARD
TZOFFSETFROM:+0200
TZOFFSETTO:+0100
TZNAME:CET
DTSTART:20241027T010000
END:STANDARD
BEGIN:DAYLIGHT
TZOFFSETFROM:+0100
TZOFFSETTO:+0200
TZNAME:CEST
DTSTART:20250330T010000
END:DAYLIGHT
BEGIN:STANDARD
TZOFFSETFROM:+0200
TZOFFSETTO:+0100
TZNAME:CET
DTSTART:20251026T010000
END:STANDARD
END:VTIMEZONE
BEGIN:VEVENT
DTSTART;TZID=Europe/Paris:20241003T120000
DTEND;TZID=Europe/Paris:20241003T140000
DTSTAMP:20260423T001420
CREATED:20240910T093351Z
LAST-MODIFIED:20240910T093351Z
UID:10000549-1727956800-1727964000@www.parisnord2.fr
SUMMARY:Fête des voisins au travail
DESCRIPTION:Rendez-vous à la Fête des voisins au travail\, sous forme de Rencontre interentreprises\, à The Atrium Hotel by Penta\, le jeudi 3 octobre\, de 12h à 14h. \nAu programme : découverte de l’hôtel\, ses rénovations\, ses nouveautés\, son restaurant\, animations Octobre Rose : quizz\, stand de sensibilisation\, vente de goodies et de rubans roses. \nCliquez ici pour vous inscrire \nPartagez
URL:https://www.parisnord2.fr/event/fete-des-voisins-au-travail/
LOCATION:Hôtel Atrium by Pentahôtel\, 351\, avenue du Bois de la Pie\, Roissy en France
CATEGORIES:Paris Nord 2
ATTACH;FMTTYPE=image/jpeg:https://www.parisnord2.fr/wp-content/uploads/2024/09/Invitation-Fete-des-voisins-The-Atrium.jpg
END:VEVENT
BEGIN:VEVENT
DTSTART;TZID=Europe/Paris:20241008T123000
DTEND;TZID=Europe/Paris:20241008T131500
DTSTAMP:20260423T001420
CREATED:20240913T090802Z
LAST-MODIFIED:20240913T090802Z
UID:10000551-1728390600-1728393300@www.parisnord2.fr
SUMMARY:Sport solidaire
DESCRIPTION:Danse cardio\, le mardi 8 octobre\, de 12h30 à 13h15. \nLe cours aura lieu\, au club de sport Oxyty (10\, rue de l’Etang). \n  \nVous pourrez également assister à une animation de sensibilisation au cancer du sein\, par l’association Chez Rose ainsi qu’une vente de goodies. \nVente de rubans rose avec dons libres pour l’association. \n  \nInscrivez-vous ici  \nPartagez
URL:https://www.parisnord2.fr/event/sport-solidaire/
LOCATION:Club de sport Oxyty\, 87\, rue de l’Etang\, TREMBLAY-EN-FRANCE\, 93290\, France
CATEGORIES:Paris Nord 2
ATTACH;FMTTYPE=image/jpeg:https://www.parisnord2.fr/wp-content/uploads/2024/09/Affiche-Sport-solidaire.jpg
END:VEVENT
BEGIN:VEVENT
DTSTART;TZID=Europe/Paris:20241014T123000
DTEND;TZID=Europe/Paris:20241014T131500
DTSTAMP:20260423T001420
CREATED:20240913T091007Z
LAST-MODIFIED:20240926T144701Z
UID:10000552-1728909000-1728911700@www.parisnord2.fr
SUMMARY:Sport solidaire
DESCRIPTION:Pilates\, au centre d’affaires Today Coworking\, 6 avenue du Valquiou\, à Tremblay-en-France\, le lundi 14 octobre\, de 12h30 à 13h15. \n  \nVous pourrez également assister à une animation de sensibilisation au cancer du sein\, par l’association Chez Rose ainsi qu’une vente de goodies. \nVente de rubans rose avec dons libres pour l’association. \n  \nInscrivez-vous ici  \nPartagez
URL:https://www.parisnord2.fr/event/sport-solidaire-2/
LOCATION:Centre d’affaires Today AeroliansParis\, 6 avenue du Valquiou\, TREMBLAY EN FRANCE\, 93290
CATEGORIES:Paris Nord 2
ATTACH;FMTTYPE=image/jpeg:https://www.parisnord2.fr/wp-content/uploads/2024/09/Affiche-Sport-solidaire-Octobre-rose-A3-QR-Code-web.jpg
END:VEVENT
BEGIN:VEVENT
DTSTART;TZID=Europe/Paris:20241015T183000
DTEND;TZID=Europe/Paris:20241015T230000
DTSTAMP:20260423T001420
CREATED:20240926T143620Z
LAST-MODIFIED:20240926T143620Z
UID:10000553-1729017000-1729033200@www.parisnord2.fr
SUMMARY:Soirée 100 % filles
DESCRIPTION:Soirée 100% Filles – Animation spéciale Octobre Rose \n  \nDans le cadre de notre programme d’animations pour Octobre Rose\, participez à notre Soirée 100% Filles. \nDécor instagrammable\, cocktails et douceurs rosées à déguster\, massages\, vente de bougies artisanales\, animation de sensibilisation au cancer du sein par l’association Chez Rose… \nParticipez à une soirée 100% girly après le travail. \nOn vous donne rendez-vous le mardi 15 octobre\, à partir de 18h30\, à l’Hôtel du Parc\, 53 avenue des Nations\, Villepinte. \nPartagez
URL:https://www.parisnord2.fr/event/soiree-100-filles/
LOCATION:Hôtel Golden Tulip\, Villepinte\, 93420\, France
CATEGORIES:Paris Nord 2
ATTACH;FMTTYPE=image/jpeg:https://www.parisnord2.fr/wp-content/uploads/2024/09/Affiche-Octobre-Rose-A3-soirees-filles-QR-WEB.jpg
END:VEVENT
END:VCALENDAR