BEGIN:VCALENDAR
VERSION:2.0
PRODID:-//PARIS NORD 2 - ECPv6.15.18//NONSGML v1.0//EN
CALSCALE:GREGORIAN
METHOD:PUBLISH
X-ORIGINAL-URL:https://www.parisnord2.fr
X-WR-CALDESC:Évènements pour PARIS NORD 2
REFRESH-INTERVAL;VALUE=DURATION:PT1H
X-Robots-Tag:noindex
X-PUBLISHED-TTL:PT1H
BEGIN:VTIMEZONE
TZID:Europe/Paris
BEGIN:DAYLIGHT
TZOFFSETFROM:+0100
TZOFFSETTO:+0200
TZNAME:CEST
DTSTART:20240331T010000
END:DAYLIGHT
BEGIN:STANDARD
TZOFFSETFROM:+0200
TZOFFSETTO:+0100
TZNAME:CET
DTSTART:20241027T010000
END:STANDARD
BEGIN:DAYLIGHT
TZOFFSETFROM:+0100
TZOFFSETTO:+0200
TZNAME:CEST
DTSTART:20250330T010000
END:DAYLIGHT
BEGIN:STANDARD
TZOFFSETFROM:+0200
TZOFFSETTO:+0100
TZNAME:CET
DTSTART:20251026T010000
END:STANDARD
BEGIN:DAYLIGHT
TZOFFSETFROM:+0100
TZOFFSETTO:+0200
TZNAME:CEST
DTSTART:20260329T010000
END:DAYLIGHT
BEGIN:STANDARD
TZOFFSETFROM:+0200
TZOFFSETTO:+0100
TZNAME:CET
DTSTART:20261025T010000
END:STANDARD
END:VTIMEZONE
BEGIN:VEVENT
DTSTART;TZID=Europe/Paris:20250401T123000
DTEND;TZID=Europe/Paris:20250401T140000
DTSTAMP:20260422T024414
CREATED:20250401T080003Z
LAST-MODIFIED:20250401T080003Z
UID:10000609-1743510600-1743516000@www.parisnord2.fr
SUMMARY:Session essai Golf
DESCRIPTION:Cliquez sur l’image pour télécharger l’affiche. \nPartagez
URL:https://www.parisnord2.fr/event/session-essai-golf/
LOCATION:Golf de Roissy\, Allée du Golf\, ROISSY EN FRANCE\, France
CATEGORIES:Golf de Roissy
ATTACH;FMTTYPE=image/jpeg:https://www.parisnord2.fr/wp-content/uploads/2025/03/Golf-internationaldeRoissy.jpg
END:VEVENT
BEGIN:VEVENT
DTSTART;TZID=Europe/Paris:20250403T090000
DTEND;TZID=Europe/Paris:20250403T103000
DTSTAMP:20260422T024414
CREATED:20250321T164134Z
LAST-MODIFIED:20250321T164134Z
UID:10000607-1743670800-1743676200@www.parisnord2.fr
SUMMARY:Petit-Déjeuner conférence ligne 17
DESCRIPTION:Petit-déjeuner Conférence sur la ligne 17 du Grand Paris Express \n  \nLa mise en service de la ligne 17 du Grand Paris Express est prévue pour 2028 jusqu’à Paris Nord 2. À ce jour\, les travaux sont en cours sur l’ensemble de la ligne\, d’un bout à l’autre de son tracé allant de Saint-Denis – Pleyel au Mesnil-Amelot\, et près de 15 km de tunnel ont été réalisés. \nLe dernier tunnelier de la ligne\, Virginie\, s’est élancé en souterrain en décembre 2024 pour creuser les 6 km de tunnel restants entre Le Mesnil-Amelot et Tremblay-en-France. \nLes travaux de construction du viaduc sont en cours et avancent rapidement. Dans les prochains mois\, la partie aérienne\nde 5\,5 km s’élèvera en bonne partie sur Paris Nord 2. \nLes travaux de réalisation de la gare Parc des Expositions progressent également de manière soutenue. Les fondations\ndu bâtiment sont terminées\, sa structure a pris forme et les équipes en aménagent les différents espaces.\nFin février\, une étape majeure et particulièrement technique des travaux a eu lieu : la pose du viaduc de la ligne\nsur la gare. \n  \nPour plus de visibilité sur l’avancée de la ligne 17 et de sa gare\, nous vous proposons un Petit-déjeuner Conférence sur ce thème\, en présence des experts\nde la Société des grands projets\, qui pourront ainsi répondre à toutes vos questions.\nCelui-ci se tiendra le jeudi 3 avril 2025\, de 9h à 10h30 à l’Hôtel Golden Tulip\, 53 avenue des Nations – Villepinte.  \nUn événement en partenariat avec l’hôtel Golden Tulip et la Société des grands projets. \n  \nCliquez ici pour vous inscrire. \n  \n \nPartagez
URL:https://www.parisnord2.fr/event/petit-dejeuner-conference-ligne-17/
LOCATION:Hôtel Golden Tulip\, Villepinte\, 93420\, France
CATEGORIES:Paris Nord 2
ATTACH;FMTTYPE=image/jpeg:https://www.parisnord2.fr/wp-content/uploads/2025/03/Travaux-ligne-17-©Olivier-Brunet-Dietmar-Feichtinger-Societe-des-grands-projets.jpg
END:VEVENT
END:VCALENDAR