BEGIN:VCALENDAR
VERSION:2.0
PRODID:-//PARIS NORD 2 - ECPv6.15.18//NONSGML v1.0//EN
CALSCALE:GREGORIAN
METHOD:PUBLISH
X-ORIGINAL-URL:https://www.parisnord2.fr
X-WR-CALDESC:Évènements pour PARIS NORD 2
REFRESH-INTERVAL;VALUE=DURATION:PT1H
X-Robots-Tag:noindex
X-PUBLISHED-TTL:PT1H
BEGIN:VTIMEZONE
TZID:Europe/Paris
BEGIN:DAYLIGHT
TZOFFSETFROM:+0100
TZOFFSETTO:+0200
TZNAME:CEST
DTSTART:20240331T010000
END:DAYLIGHT
BEGIN:STANDARD
TZOFFSETFROM:+0200
TZOFFSETTO:+0100
TZNAME:CET
DTSTART:20241027T010000
END:STANDARD
BEGIN:DAYLIGHT
TZOFFSETFROM:+0100
TZOFFSETTO:+0200
TZNAME:CEST
DTSTART:20250330T010000
END:DAYLIGHT
BEGIN:STANDARD
TZOFFSETFROM:+0200
TZOFFSETTO:+0100
TZNAME:CET
DTSTART:20251026T010000
END:STANDARD
BEGIN:DAYLIGHT
TZOFFSETFROM:+0100
TZOFFSETTO:+0200
TZNAME:CEST
DTSTART:20260329T010000
END:DAYLIGHT
BEGIN:STANDARD
TZOFFSETFROM:+0200
TZOFFSETTO:+0100
TZNAME:CET
DTSTART:20261025T010000
END:STANDARD
END:VTIMEZONE
BEGIN:VEVENT
DTSTART;TZID=Europe/Paris:20251202T110000
DTEND;TZID=Europe/Paris:20251202T140000
DTSTAMP:20260420T110934
CREATED:20251104T095115Z
LAST-MODIFIED:20251117T155133Z
UID:10000903-1764673200-1764684000@www.parisnord2.fr
SUMMARY:Brunch AFM Téléthon
DESCRIPTION:Mardi 2 décembre\, de 11h à 14h00 \nÀ l’hôtel Golden Tulip \n53 avenue des nations – Villepinte \n  \nAu programme : \n– un délicieux brunch pour partager un moment convivial entre collègues 🍽️ \n– un stand cadeau de Noël pour préparer vos fêtes 🎁 \nEt surtout… l’occasion de soutenir une cause qui nous tient à cœur 💖 \n  \nLes recettes et les dons seront reversés à l’AFM Téléthon afin de soutenir la recherche et vaincre les maladies neuromusculaires. \n  \nInscrivez-vous ici \n  \n \nPartagez
URL:https://www.parisnord2.fr/event/brunch-afm-telethon/
LOCATION:Hôtel Golden Tulip\, Villepinte\, 93420\, France
CATEGORIES:Paris Nord 2
ATTACH;FMTTYPE=image/jpeg:https://www.parisnord2.fr/wp-content/uploads/2025/11/2b9da5a2de38fea9958aa3e76bea04.jpg
END:VEVENT
END:VCALENDAR