BEGIN:VCALENDAR
VERSION:2.0
PRODID:-//PARIS NORD 2 - ECPv6.15.18//NONSGML v1.0//EN
CALSCALE:GREGORIAN
METHOD:PUBLISH
X-ORIGINAL-URL:https://www.parisnord2.fr
X-WR-CALDESC:Évènements pour PARIS NORD 2
REFRESH-INTERVAL;VALUE=DURATION:PT1H
X-Robots-Tag:noindex
X-PUBLISHED-TTL:PT1H
BEGIN:VTIMEZONE
TZID:Europe/Paris
BEGIN:DAYLIGHT
TZOFFSETFROM:+0100
TZOFFSETTO:+0200
TZNAME:CEST
DTSTART:20240331T010000
END:DAYLIGHT
BEGIN:STANDARD
TZOFFSETFROM:+0200
TZOFFSETTO:+0100
TZNAME:CET
DTSTART:20241027T010000
END:STANDARD
BEGIN:DAYLIGHT
TZOFFSETFROM:+0100
TZOFFSETTO:+0200
TZNAME:CEST
DTSTART:20250330T010000
END:DAYLIGHT
BEGIN:STANDARD
TZOFFSETFROM:+0200
TZOFFSETTO:+0100
TZNAME:CET
DTSTART:20251026T010000
END:STANDARD
BEGIN:DAYLIGHT
TZOFFSETFROM:+0100
TZOFFSETTO:+0200
TZNAME:CEST
DTSTART:20260329T010000
END:DAYLIGHT
BEGIN:STANDARD
TZOFFSETFROM:+0200
TZOFFSETTO:+0100
TZNAME:CET
DTSTART:20261025T010000
END:STANDARD
END:VTIMEZONE
BEGIN:VEVENT
DTSTART;TZID=Europe/Paris:20250923T120000
DTEND;TZID=Europe/Paris:20250923T140000
DTSTAMP:20260421T062216
CREATED:20250821T152027Z
LAST-MODIFIED:20250821T152027Z
UID:10000624-1758628800-1758636000@www.parisnord2.fr
SUMMARY:Visite de chantier de la gare Parc des Expositions – Ligne 17 du Grand Paris Express
DESCRIPTION:Visite de chantier de la gare Parc des Expositions – Ligne 17 du Grand Paris Express \n  \nÀ l’occasion de la Semaine de la Mobilité et du Développement Durable\, Paris Nord 2 et la Société des grands projets vous ouvrent\nles portes du chantier de la gare Parc des Expositions de la ligne 17 du Grand Paris Express. Une visite immersive qui aura lieu\nle mardi 23 septembre\, pour entrer dans les coulisses d’un projet d’envergure pour Paris Nord 2 et l’ensemble du territoire. \nOn vous donne rendez-vous devant l’entrée de la gare RER B Parc des Expositions (102\, avenue des Nations – Villepinte\, du côté\nde Paris Nord 2\, parvis gare routière). \nPour la bonne organisation de cette visite et pour des raisons de sécurité\, la jauge est limitée à 15 personnes par groupe\, c’est pourquoi nous vous proposons 2 horaires de visite à 12h ou à 13h (durée 1h) et vous demandons de bien vouloir arriver au moins 5 minutes avant le début de votre session (horaires au choix\, à préciser dans le formulaire d’inscription). \n  \nLa Société des grands projets vous fournira les EPI obligatoires (gants\, lunettes\, gilet haute visibilité\, casque et chaussures de sécurité). Vous devez porter une tenue confortable couvrant les bras et les jambes (pas de t-shirt\, short ou robe) et être munis d’une pièce d’identité. \n  \nCliquez ici pour vous inscrire \n  \n \nPartagez
URL:https://www.parisnord2.fr/event/visite-de-chantier-de-la-gare-parc-des-expositions-ligne-17-du-grand-paris-express/
LOCATION:Parc des Expositions\, Villepinte\, Ile-de-France\, 93420\, France
CATEGORIES:Parc des expositions,Paris Nord 2
ATTACH;FMTTYPE=image/jpeg:https://www.parisnord2.fr/wp-content/uploads/2025/07/Visite-de-chantier.jpg
END:VEVENT
END:VCALENDAR