BEGIN:VCALENDAR
VERSION:2.0
PRODID:-//PARIS NORD 2 - ECPv6.15.18//NONSGML v1.0//EN
CALSCALE:GREGORIAN
METHOD:PUBLISH
X-WR-CALNAME:PARIS NORD 2
X-ORIGINAL-URL:https://www.parisnord2.fr
X-WR-CALDESC:Évènements pour PARIS NORD 2
REFRESH-INTERVAL;VALUE=DURATION:PT1H
X-Robots-Tag:noindex
X-PUBLISHED-TTL:PT1H
BEGIN:VTIMEZONE
TZID:Europe/Paris
BEGIN:DAYLIGHT
TZOFFSETFROM:+0100
TZOFFSETTO:+0200
TZNAME:CEST
DTSTART:20250330T010000
END:DAYLIGHT
BEGIN:STANDARD
TZOFFSETFROM:+0200
TZOFFSETTO:+0100
TZNAME:CET
DTSTART:20251026T010000
END:STANDARD
BEGIN:DAYLIGHT
TZOFFSETFROM:+0100
TZOFFSETTO:+0200
TZNAME:CEST
DTSTART:20260329T010000
END:DAYLIGHT
BEGIN:STANDARD
TZOFFSETFROM:+0200
TZOFFSETTO:+0100
TZNAME:CET
DTSTART:20261025T010000
END:STANDARD
BEGIN:DAYLIGHT
TZOFFSETFROM:+0100
TZOFFSETTO:+0200
TZNAME:CEST
DTSTART:20270328T010000
END:DAYLIGHT
BEGIN:STANDARD
TZOFFSETFROM:+0200
TZOFFSETTO:+0100
TZNAME:CET
DTSTART:20271031T010000
END:STANDARD
END:VTIMEZONE
BEGIN:VEVENT
DTSTART;TZID=Europe/Paris:20260409T120000
DTEND;TZID=Europe/Paris:20260409T140000
DTSTAMP:20260420T030704
CREATED:20260302T144058Z
LAST-MODIFIED:20260302T150212Z
UID:10000926-1775736000-1775743200@www.parisnord2.fr
SUMMARY:Session essai Golf
DESCRIPTION:⛳ PORTES OUVERTES – Golf International de Roissy \n📅 9 & 11 avril 2026 \nNous vous ouvrons les portes du Golf International de Roissy pour deux journées exceptionnelles placées sous le signe de la découverte\, de l’échange et de la convivialité. \n🔹 Jeudi 9 avril – Spécial sociétés & professionnels\n👉 Découverte de nos espaces\, de nos offres événementielles et de notre Virtual Center \n🔹 Samedi 11 avril – Ouvert aux particuliers\n👉 Présentation de nos solutions pour vos événements privés \nAu programme :\n✔ Découverte de nos activités\n✔ Rencontre avec nos équipes\n✔ Visite de nos espaces\n✔ Moments d’échange conviviaux\n🎯 L’occasion idéale pour imaginer vos futurs séminaires\, événements d’entreprise ou réceptions privées dans un cadre unique. \n📩 Inscription gratuite mais obligatoire – lien juste ici⬇️ \nhttps://jouer.golf/portes-ouvertes-golf-international-roissy-avril-2026/ \nPartagez
URL:https://www.parisnord2.fr/event/session-essai-golf-5/
LOCATION:Golf de Roissy\, Allée du Golf\, ROISSY EN FRANCE\, France
CATEGORIES:Golf de Roissy
ATTACH;FMTTYPE=image/jpeg:https://www.parisnord2.fr/wp-content/uploads/2025/03/Golf-internationaldeRoissy.jpg
END:VEVENT
END:VCALENDAR