BEGIN:VCALENDAR
VERSION:2.0
PRODID:-//PARIS NORD 2 - ECPv6.15.18//NONSGML v1.0//EN
CALSCALE:GREGORIAN
METHOD:PUBLISH
X-WR-CALNAME:PARIS NORD 2
X-ORIGINAL-URL:https://www.parisnord2.fr
X-WR-CALDESC:Évènements pour PARIS NORD 2
REFRESH-INTERVAL;VALUE=DURATION:PT1H
X-Robots-Tag:noindex
X-PUBLISHED-TTL:PT1H
BEGIN:VTIMEZONE
TZID:Europe/Paris
BEGIN:DAYLIGHT
TZOFFSETFROM:+0100
TZOFFSETTO:+0200
TZNAME:CEST
DTSTART:20210328T010000
END:DAYLIGHT
BEGIN:STANDARD
TZOFFSETFROM:+0200
TZOFFSETTO:+0100
TZNAME:CET
DTSTART:20211031T010000
END:STANDARD
BEGIN:DAYLIGHT
TZOFFSETFROM:+0100
TZOFFSETTO:+0200
TZNAME:CEST
DTSTART:20220327T010000
END:DAYLIGHT
BEGIN:STANDARD
TZOFFSETFROM:+0200
TZOFFSETTO:+0100
TZNAME:CET
DTSTART:20221030T010000
END:STANDARD
BEGIN:DAYLIGHT
TZOFFSETFROM:+0100
TZOFFSETTO:+0200
TZNAME:CEST
DTSTART:20230326T010000
END:DAYLIGHT
BEGIN:STANDARD
TZOFFSETFROM:+0200
TZOFFSETTO:+0100
TZNAME:CET
DTSTART:20231029T010000
END:STANDARD
END:VTIMEZONE
BEGIN:VEVENT
DTSTART;VALUE=DATE:20221121
DTEND;VALUE=DATE:20221210
DTSTAMP:20260426T025556
CREATED:20221128T133153Z
LAST-MODIFIED:20221128T133153Z
UID:10000429-1668988800-1670630399@www.parisnord2.fr
SUMMARY:Collecte de jouets pour les enfants des Restos du Cœur
DESCRIPTION:Partagez
URL:https://www.parisnord2.fr/event/collecte-de-jouets-pour-les-enfants-des-restos-du-coeur/
LOCATION:Restaurant Cap’Nord\, 1\, rue des épis\, VILLEPINTE\, France
CATEGORIES:RIE Paris Nord 2
END:VEVENT
END:VCALENDAR