BEGIN:VCALENDAR
VERSION:2.0
PRODID:-//PARIS NORD 2 - ECPv6.15.18//NONSGML v1.0//EN
CALSCALE:GREGORIAN
METHOD:PUBLISH
X-WR-CALNAME:PARIS NORD 2
X-ORIGINAL-URL:https://www.parisnord2.fr
X-WR-CALDESC:Évènements pour PARIS NORD 2
REFRESH-INTERVAL;VALUE=DURATION:PT1H
X-Robots-Tag:noindex
X-PUBLISHED-TTL:PT1H
BEGIN:VTIMEZONE
TZID:Europe/Paris
BEGIN:DAYLIGHT
TZOFFSETFROM:+0100
TZOFFSETTO:+0200
TZNAME:CEST
DTSTART:20240331T010000
END:DAYLIGHT
BEGIN:STANDARD
TZOFFSETFROM:+0200
TZOFFSETTO:+0100
TZNAME:CET
DTSTART:20241027T010000
END:STANDARD
BEGIN:DAYLIGHT
TZOFFSETFROM:+0100
TZOFFSETTO:+0200
TZNAME:CEST
DTSTART:20250330T010000
END:DAYLIGHT
BEGIN:STANDARD
TZOFFSETFROM:+0200
TZOFFSETTO:+0100
TZNAME:CET
DTSTART:20251026T010000
END:STANDARD
BEGIN:DAYLIGHT
TZOFFSETFROM:+0100
TZOFFSETTO:+0200
TZNAME:CEST
DTSTART:20260329T010000
END:DAYLIGHT
BEGIN:STANDARD
TZOFFSETFROM:+0200
TZOFFSETTO:+0100
TZNAME:CET
DTSTART:20261025T010000
END:STANDARD
END:VTIMEZONE
BEGIN:VEVENT
DTSTART;TZID=Europe/Paris:20250408T114500
DTEND;TZID=Europe/Paris:20250408T140000
DTSTAMP:20260423T234716
CREATED:20250331T141721Z
LAST-MODIFIED:20250331T141721Z
UID:10000608-1744112700-1744120800@www.parisnord2.fr
SUMMARY:Animation Menu oriental
DESCRIPTION:Kit Com’ : cliquez sur l’image pour télécharger le menu. \nPartagez
URL:https://www.parisnord2.fr/event/animation-menu-oriental/
LOCATION:Restaurant Cap’Nord\, 1\, rue des épis\, VILLEPINTE\, France
CATEGORIES:RIE Paris Nord 2
ATTACH;FMTTYPE=image/jpeg:https://www.parisnord2.fr/wp-content/uploads/2025/03/Save-the-date-Menu-oriental-8-avril.jpg
END:VEVENT
BEGIN:VEVENT
DTSTART;TZID=Europe/Paris:20250415T114500
DTEND;TZID=Europe/Paris:20250415T140000
DTSTAMP:20260423T234716
CREATED:20250411T083009Z
LAST-MODIFIED:20250411T083009Z
UID:10000613-1744717500-1744725600@www.parisnord2.fr
SUMMARY:Animation Banana Split
DESCRIPTION:  \n  \nKit comm \n  \nPartagez
URL:https://www.parisnord2.fr/event/animation-banana-split/
LOCATION:Restaurant Cap’Est\, 10 rue de l'Etang\, TREMBLAY-EN-FRANCE\, 93290
CATEGORIES:RIE Paris Nord 2
END:VEVENT
BEGIN:VEVENT
DTSTART;TZID=Europe/Paris:20250429T114500
DTEND;TZID=Europe/Paris:20250429T140000
DTSTAMP:20260423T234716
CREATED:20250422T134853Z
LAST-MODIFIED:20250428T150849Z
UID:10000614-1745927100-1745935200@www.parisnord2.fr
SUMMARY:Animation Super Green
DESCRIPTION:Partagez
URL:https://www.parisnord2.fr/event/animation-super-green/
LOCATION:Restaurant Cap’Est\, 10 rue de l'Etang\, TREMBLAY-EN-FRANCE\, 93290
CATEGORIES:RIE Paris Nord 2
ATTACH;FMTTYPE=image/jpeg:https://www.parisnord2.fr/wp-content/uploads/2025/04/Super-Green.jpg
END:VEVENT
END:VCALENDAR