BEGIN:VCALENDAR
VERSION:2.0
PRODID:-//PARIS NORD 2 - ECPv6.15.18//NONSGML v1.0//EN
CALSCALE:GREGORIAN
METHOD:PUBLISH
X-ORIGINAL-URL:https://www.parisnord2.fr
X-WR-CALDESC:Évènements pour PARIS NORD 2
REFRESH-INTERVAL;VALUE=DURATION:PT1H
X-Robots-Tag:noindex
X-PUBLISHED-TTL:PT1H
BEGIN:VTIMEZONE
TZID:Europe/Paris
BEGIN:DAYLIGHT
TZOFFSETFROM:+0100
TZOFFSETTO:+0200
TZNAME:CEST
DTSTART:20240331T010000
END:DAYLIGHT
BEGIN:STANDARD
TZOFFSETFROM:+0200
TZOFFSETTO:+0100
TZNAME:CET
DTSTART:20241027T010000
END:STANDARD
BEGIN:DAYLIGHT
TZOFFSETFROM:+0100
TZOFFSETTO:+0200
TZNAME:CEST
DTSTART:20250330T010000
END:DAYLIGHT
BEGIN:STANDARD
TZOFFSETFROM:+0200
TZOFFSETTO:+0100
TZNAME:CET
DTSTART:20251026T010000
END:STANDARD
BEGIN:DAYLIGHT
TZOFFSETFROM:+0100
TZOFFSETTO:+0200
TZNAME:CEST
DTSTART:20260329T010000
END:DAYLIGHT
BEGIN:STANDARD
TZOFFSETFROM:+0200
TZOFFSETTO:+0100
TZNAME:CET
DTSTART:20261025T010000
END:STANDARD
END:VTIMEZONE
BEGIN:VEVENT
DTSTART;TZID=Europe/Paris:20250916T114500
DTEND;TZID=Europe/Paris:20250916T140000
DTSTAMP:20260423T002635
CREATED:20250915T082110Z
LAST-MODIFIED:20250915T082110Z
UID:10000631-1758023100-1758031200@www.parisnord2.fr
SUMMARY:Menu Rentrée
DESCRIPTION:Partagez
URL:https://www.parisnord2.fr/event/menu-rentree/
LOCATION:Restaurant Cap’Est\, 10 rue de l'Etang\, TREMBLAY-EN-FRANCE\, 93290
CATEGORIES:RIE Paris Nord 2
ATTACH;FMTTYPE=image/jpeg:https://www.parisnord2.fr/wp-content/uploads/2025/09/Cest-la-rentree-CapNord-WEB.jpg
END:VEVENT
BEGIN:VEVENT
DTSTART;TZID=Europe/Paris:20250916T114500
DTEND;TZID=Europe/Paris:20250916T140000
DTSTAMP:20260423T002635
CREATED:20250915T124033Z
LAST-MODIFIED:20250915T124154Z
UID:10000634-1758023100-1758031200@www.parisnord2.fr
SUMMARY:Stand Société des grands projets
DESCRIPTION:Partagez
URL:https://www.parisnord2.fr/event/stand-societe-des-grands-projets/
LOCATION:Restaurant Cap’Nord\, 1\, rue des épis\, VILLEPINTE\, France
CATEGORIES:RIE Paris Nord 2
ATTACH;FMTTYPE=image/jpeg:https://www.parisnord2.fr/wp-content/uploads/2025/09/Affiche-Semaine-Mobilite-2025.jpg
END:VEVENT
BEGIN:VEVENT
DTSTART;TZID=Europe/Paris:20250917T114500
DTEND;TZID=Europe/Paris:20250917T140000
DTSTAMP:20260423T002635
CREATED:20250915T124406Z
LAST-MODIFIED:20250915T124406Z
UID:10000635-1758109500-1758117600@www.parisnord2.fr
SUMMARY:Stand Société des grands projets
DESCRIPTION:Partagez
URL:https://www.parisnord2.fr/event/stand-societe-des-grands-projets-2/
LOCATION:Restaurant Cap’Est\, 10 rue de l'Etang\, TREMBLAY-EN-FRANCE\, 93290
CATEGORIES:RIE Paris Nord 2
ATTACH;FMTTYPE=image/jpeg:https://www.parisnord2.fr/wp-content/uploads/2025/09/Affiche-Semaine-Mobilite-2025.jpg
END:VEVENT
BEGIN:VEVENT
DTSTART;TZID=Europe/Paris:20250918T114500
DTEND;TZID=Europe/Paris:20250918T140000
DTSTAMP:20260423T002635
CREATED:20250905T081706Z
LAST-MODIFIED:20250905T081706Z
UID:10000627-1758195900-1758204000@www.parisnord2.fr
SUMMARY:Animation Automne
DESCRIPTION:Partagez
URL:https://www.parisnord2.fr/event/animation-automne/
LOCATION:Restaurant Cap’Est\, 10 rue de l'Etang\, TREMBLAY-EN-FRANCE\, 93290
CATEGORIES:RIE Paris Nord 2
ATTACH;FMTTYPE=image/jpeg:https://www.parisnord2.fr/wp-content/uploads/2025/09/CapEst-Automne-WEB.jpg
END:VEVENT
END:VCALENDAR