BEGIN:VCALENDAR
VERSION:2.0
PRODID:-//PARIS NORD 2 - ECPv6.15.18//NONSGML v1.0//EN
CALSCALE:GREGORIAN
METHOD:PUBLISH
X-ORIGINAL-URL:https://www.parisnord2.fr
X-WR-CALDESC:Évènements pour PARIS NORD 2
REFRESH-INTERVAL;VALUE=DURATION:PT1H
X-Robots-Tag:noindex
X-PUBLISHED-TTL:PT1H
BEGIN:VTIMEZONE
TZID:Europe/Paris
BEGIN:DAYLIGHT
TZOFFSETFROM:+0100
TZOFFSETTO:+0200
TZNAME:CEST
DTSTART:20240331T010000
END:DAYLIGHT
BEGIN:STANDARD
TZOFFSETFROM:+0200
TZOFFSETTO:+0100
TZNAME:CET
DTSTART:20241027T010000
END:STANDARD
BEGIN:DAYLIGHT
TZOFFSETFROM:+0100
TZOFFSETTO:+0200
TZNAME:CEST
DTSTART:20250330T010000
END:DAYLIGHT
BEGIN:STANDARD
TZOFFSETFROM:+0200
TZOFFSETTO:+0100
TZNAME:CET
DTSTART:20251026T010000
END:STANDARD
BEGIN:DAYLIGHT
TZOFFSETFROM:+0100
TZOFFSETTO:+0200
TZNAME:CEST
DTSTART:20260329T010000
END:DAYLIGHT
BEGIN:STANDARD
TZOFFSETFROM:+0200
TZOFFSETTO:+0100
TZNAME:CET
DTSTART:20261025T010000
END:STANDARD
END:VTIMEZONE
BEGIN:VEVENT
DTSTART;TZID=Europe/Paris:20251002T120000
DTEND;TZID=Europe/Paris:20251002T140000
DTSTAMP:20260420T120123
CREATED:20250821T153042Z
LAST-MODIFIED:20250821T153058Z
UID:10000626-1759406400-1759413600@www.parisnord2.fr
SUMMARY:Fête des Voisins au Travail : rendez-vous à l’hôtel Golden Tulip
DESCRIPTION:Fête des Voisins au Travail : rendez-vous à l’hôtel Golden Tulip \n  \nNous vous invitons à participer à la Fête des Voisins au Travail\, qui aura lieu le jeudi 2 octobre 2025\, de 12h à 14h\, à l’hôtel Golden Tulip (53\, avenue des Nations – Villepinte). \nUn moment privilégié de convivialité pour networker entre voisins de Paris Nord 2\, favoriser les rencontres\, les synergies et le business local autour d’un cocktail déjeunatoire. Vous pourrez en profiter pour découvrir le programme de rénovation d’envergure entrepris par le Golden Tulip. Notre partenaire Chez Rose\, sera également présent dans le cadre d’Octobre Rose pour animer un stand de prévention / vente de goodies. \n  \nCliquez ici pour vous inscrire. \n  \n \nPartagez
URL:https://www.parisnord2.fr/event/fete-des-voisins-au-travail-rendez-vous-a-lhotel-golden-tulip/
LOCATION:Hôtel Golden Tulip\, Villepinte\, 93420\, France
CATEGORIES:Villepinte
ATTACH;FMTTYPE=image/jpeg:https://www.parisnord2.fr/wp-content/uploads/2025/07/Fete-Voisins-Travail-Golden-Tulip.jpg
END:VEVENT
END:VCALENDAR