BEGIN:VCALENDAR
VERSION:2.0
PRODID:-//PARIS NORD 2 - ECPv6.15.18//NONSGML v1.0//EN
CALSCALE:GREGORIAN
METHOD:PUBLISH
X-WR-CALNAME:PARIS NORD 2
X-ORIGINAL-URL:https://www.parisnord2.fr
X-WR-CALDESC:Évènements pour PARIS NORD 2
REFRESH-INTERVAL;VALUE=DURATION:PT1H
X-Robots-Tag:noindex
X-PUBLISHED-TTL:PT1H
BEGIN:VTIMEZONE
TZID:Europe/Paris
BEGIN:DAYLIGHT
TZOFFSETFROM:+0100
TZOFFSETTO:+0200
TZNAME:CEST
DTSTART:20240331T010000
END:DAYLIGHT
BEGIN:STANDARD
TZOFFSETFROM:+0200
TZOFFSETTO:+0100
TZNAME:CET
DTSTART:20241027T010000
END:STANDARD
BEGIN:DAYLIGHT
TZOFFSETFROM:+0100
TZOFFSETTO:+0200
TZNAME:CEST
DTSTART:20250330T010000
END:DAYLIGHT
BEGIN:STANDARD
TZOFFSETFROM:+0200
TZOFFSETTO:+0100
TZNAME:CET
DTSTART:20251026T010000
END:STANDARD
BEGIN:DAYLIGHT
TZOFFSETFROM:+0100
TZOFFSETTO:+0200
TZNAME:CEST
DTSTART:20260329T010000
END:DAYLIGHT
BEGIN:STANDARD
TZOFFSETFROM:+0200
TZOFFSETTO:+0100
TZNAME:CET
DTSTART:20261025T010000
END:STANDARD
END:VTIMEZONE
BEGIN:VEVENT
DTSTART;VALUE=DATE:20250321
DTEND;VALUE=DATE:20250324
DTSTAMP:20260422T033640
CREATED:20250313T143758Z
LAST-MODIFIED:20250314T081722Z
UID:10000605-1742515200-1742774399@www.parisnord2.fr
SUMMARY:Braderie enseignes Usines Center
DESCRIPTION:21-23 mars (braderie sur Usines Center)\n22-23 mars : présence de commerçants (bien-être\, épicerie fine\, mangas\, bijoux …)\n22 mars : collecte de petit électroménager et petit mobilier en bon état au profit de l’association « tout pour 1 € »\n\n \nPartagez
URL:https://www.parisnord2.fr/event/braderie-enseignes-usines-center/
CATEGORIES:Usines Center
ATTACH;FMTTYPE=image/png:https://www.parisnord2.fr/wp-content/uploads/2025/03/braderie-Usines-center-e1741876633213.png
END:VEVENT
END:VCALENDAR