BEGIN:VCALENDAR
VERSION:2.0
PRODID:-//PARIS NORD 2 - ECPv6.15.18//NONSGML v1.0//EN
CALSCALE:GREGORIAN
METHOD:PUBLISH
X-ORIGINAL-URL:https://www.parisnord2.fr
X-WR-CALDESC:Évènements pour PARIS NORD 2
REFRESH-INTERVAL;VALUE=DURATION:PT1H
X-Robots-Tag:noindex
X-PUBLISHED-TTL:PT1H
BEGIN:VTIMEZONE
TZID:Europe/Paris
BEGIN:DAYLIGHT
TZOFFSETFROM:+0100
TZOFFSETTO:+0200
TZNAME:CEST
DTSTART:20220327T010000
END:DAYLIGHT
BEGIN:STANDARD
TZOFFSETFROM:+0200
TZOFFSETTO:+0100
TZNAME:CET
DTSTART:20221030T010000
END:STANDARD
BEGIN:DAYLIGHT
TZOFFSETFROM:+0100
TZOFFSETTO:+0200
TZNAME:CEST
DTSTART:20230326T010000
END:DAYLIGHT
BEGIN:STANDARD
TZOFFSETFROM:+0200
TZOFFSETTO:+0100
TZNAME:CET
DTSTART:20231029T010000
END:STANDARD
BEGIN:DAYLIGHT
TZOFFSETFROM:+0100
TZOFFSETTO:+0200
TZNAME:CEST
DTSTART:20240331T010000
END:DAYLIGHT
BEGIN:STANDARD
TZOFFSETFROM:+0200
TZOFFSETTO:+0100
TZNAME:CET
DTSTART:20241027T010000
END:STANDARD
END:VTIMEZONE
BEGIN:VEVENT
DTSTART;VALUE=DATE:20230218
DTEND;VALUE=DATE:20230306
DTSTAMP:20260425T173340
CREATED:20230109T160246Z
LAST-MODIFIED:20230123T104409Z
UID:10000433-1676678400-1678060799@www.parisnord2.fr
SUMMARY:Vacances scolaires hiver
DESCRIPTION:Crédit photo : V.ivash – Freepik.com\n\nBonnes vacances !\nPartagez
URL:https://www.parisnord2.fr/event/vacances-scolaires-hiver/
LOCATION:Sélectionner un État :
ATTACH;FMTTYPE=image/jpeg:https://www.parisnord2.fr/wp-content/uploads/2023/01/vacances-hiver-2023.jpg
END:VEVENT
BEGIN:VEVENT
DTSTART;TZID=Europe/Paris:20230301T100000
DTEND;TZID=Europe/Paris:20230301T130000
DTSTAMP:20260425T173340
CREATED:20240123T132651Z
LAST-MODIFIED:20240123T132651Z
UID:10000499-1677664800-1677675600@www.parisnord2.fr
SUMMARY:A vos Baskets 2024 !
DESCRIPTION:Rendez-vous le dimanche 3 Mars pour la 8eme édition de la course. \nL’occasion idéale de chausser vos baskets\, pour votre défi personnel. \n  \nCet événement sportif se décline en deux épreuves de course sur route : \n\nSemi-marathon et 10 kms dont les parcours sont labellisés et qualificatifs des Championnats de France.\n\n  \nPour l’événement « À vos Baskets »\, des récompenses attendent les trois premiers de nombreuses catégories : \n\n10 kms et semi-marathon\nTrophée jeune\nTrophée du plus ancien et de la plus ancienne\nChallenge club par équipe\nChallenge entreprises\nChallenge ville\nChallenge Handicap\n\n  \nC’est aussi\, le rendez-vous pour représenter votre entreprise ou votre club afin de concourir pour « le challenge entreprise ou club » : \n  \nLe challenge entreprise : \n  \n\nVous devrez constituer une équipe d’au moins 3 coureurs (Femmes et ou hommes) pour forger ensemble un esprit d’équipe\, où la cohésion est de mise pour partager\, encourager à ne pas lâcher pour franchir ensemble ou seul la ligne d’arrivée et  pourquoi pas être sur le podium (à l’addition des 3 meilleurs temps toutes catégories confondues).\n\n  \nLe challenge club : \n  \n\nConstituer une équipe de minimum 4 coureurs (femmes et ou hommes)  pour ce même esprit de partages et de cohésion et être sur le podium (à l’addition de 4 meilleurs temps toutes catégories confondues).\n\n  \nÀ vos baskets\, c’est un accueil chaleureux\, courses conviviales\, parcours tout en relance et agréable ; avec sa particularité : l’arrivée dans une salle de spectacle. \n  \nUn certificat médical est obligatoire comportant la mention « apte à la course à pied en compétition » sauf pour les licenciés. \n  \n  \nPartagez
URL:https://www.parisnord2.fr/event/a-vos-baskets-2024/
LOCATION:Espace V\, Avenue Jean Fourgeaud\, VILLEPINTE\, 93420\, France
CATEGORIES:Villepinte
ATTACH;FMTTYPE=image/jpeg:https://www.parisnord2.fr/wp-content/uploads/2022/03/woman-tying-her-grey-sneaker.jpg
END:VEVENT
BEGIN:VEVENT
DTSTART;VALUE=DATE:20230307
DTEND;VALUE=DATE:20230310
DTSTAMP:20260425T173340
CREATED:20230130T161351Z
LAST-MODIFIED:20230130T161539Z
UID:10000438-1678147200-1678406399@www.parisnord2.fr
SUMMARY:Examens et concours
DESCRIPTION:@pressfoto.freepik\n  \n\nPartagez
URL:https://www.parisnord2.fr/event/examens-et-concours/
LOCATION:Parc des Expositions\, Villepinte\, Ile-de-France\, 93420\, France
CATEGORIES:Parc des expositions
ATTACH;FMTTYPE=image/jpeg:https://www.parisnord2.fr/wp-content/uploads/2023/01/@pressfoto-e1675095219138.jpg
END:VEVENT
BEGIN:VEVENT
DTSTART;VALUE=DATE:20230312
DTEND;VALUE=DATE:20230315
DTSTAMP:20260425T173340
CREATED:20240208T160527Z
LAST-MODIFIED:20240208T160541Z
UID:10000502-1678579200-1678838399@www.parisnord2.fr
SUMMARY:Examens et concours
DESCRIPTION:@pressfoto.freepik\n  \n\nPartagez
URL:https://www.parisnord2.fr/event/examens-et-concours-4/
LOCATION:Parc des Expositions\, Villepinte\, Ile-de-France\, 93420\, France
CATEGORIES:Parc des expositions
ATTACH;FMTTYPE=image/jpeg:https://www.parisnord2.fr/wp-content/uploads/2023/01/@pressfoto-e1675095219138.jpg
END:VEVENT
BEGIN:VEVENT
DTSTART;VALUE=DATE:20230319
DTEND;VALUE=DATE:20230322
DTSTAMP:20260425T173340
CREATED:20230130T162250Z
LAST-MODIFIED:20230130T162250Z
UID:10000440-1679184000-1679443199@www.parisnord2.fr
SUMMARY:Salon des MARQUES – CENTRO PARIS
DESCRIPTION:©Paris-mange-sci-fi-show\nCENTRO CHAUSSURES PARIS est l’émanation de toutes les expositions régionales françaises et de l’association des agents italiens du CENTRO.\nSes dates d’exposition se positionneront toujours après celles des salons régionaux et finaliseront la période d’achats des acheteurs dans le domaine des chaussures et accessoires. \nCENTRO CHAUSSURES PARIS a l’ambition de devenir l’évènement de référence pour tous les acteurs de la chaussure et être une vitrine privilégiée pour la promotion de nouvelles collections. \n  \n\nPartagez
URL:https://www.parisnord2.fr/event/salon-des-marques-centro-paris/
LOCATION:Parc des Expositions\, Villepinte\, Ile-de-France\, 93420\, France
CATEGORIES:Parc des expositions
ATTACH;FMTTYPE=image/png:https://www.parisnord2.fr/wp-content/uploads/2023/01/salon-des-marques-Centro-paris.png
END:VEVENT
BEGIN:VEVENT
DTSTART;TZID=Europe/Paris:20230319T100000
DTEND;TZID=Europe/Paris:20230319T130000
DTSTAMP:20260425T173340
CREATED:20230123T081119Z
LAST-MODIFIED:20230123T134222Z
UID:10000392-1679220000-1679230800@www.parisnord2.fr
SUMMARY:A vos Baskets 2023 !
DESCRIPTION:Rendez-vous le dimanche 19 Mars pour la 7eme édition de la course. \nL’occasion idéale de chausser vos baskets\, pour votre défi personnel. \n  \nCet événement sportif se décline en deux épreuves de course sur route : \n\nSemi-marathon et 10 kms dont les parcours sont labellisés et qualificatifs des Championnats de France.\n\n  \nPour l’événement « À vos Baskets »\, des récompenses attendent les trois premiers de nombreuses catégories : \n\n10 kms et semi-marathon\nTrophée jeune\nTrophée du plus ancien et de la plus ancienne\nChallenge club par équipe\nChallenge entreprises\nChallenge ville\nChallenge Handicap\n\n  \nC’est aussi\, le rendez-vous pour représenter votre entreprise ou votre club afin de concourir pour « le challenge entreprise ou club » : \n  \nLe challenge entreprise : \n  \n\nVous devrez constituer une équipe d’au moins 3 coureurs (Femmes et ou hommes) pour forger ensemble un esprit d’équipe\, où la cohésion est de mise pour partager\, encourager à ne pas lâcher pour franchir ensemble ou seul la ligne d’arrivée et  pourquoi pas être sur le podium (à l’addition des 3 meilleurs temps toutes catégories confondues).\n\n  \nLe challenge club : \n  \n\nConstituer une équipe de minimum 4 coureurs (femmes et ou hommes)  pour ce même esprit de partages et de cohésion et être sur le podium (à l’addition de 4 meilleurs temps toutes catégories confondues).\n\n  \nÀ vos baskets\, c’est un accueil chaleureux\, courses conviviales\, parcours tout en relance et agréable ; avec sa particularité : l’arrivée dans une salle de spectacle. \n  \nUn certificat médical est obligatoire comportant la mention « apte à la course à pied en compétition » sauf pour les licenciés. \n  \nVous pouvez vous inscrire directement  : \nCliquez-ici pour vous inscrire \n  \nPartagez
URL:https://www.parisnord2.fr/event/a-vos-baskets-2020/
LOCATION:Espace V\, Avenue Jean Fourgeaud\, VILLEPINTE\, 93420\, France
CATEGORIES:Villepinte
ATTACH;FMTTYPE=image/jpeg:https://www.parisnord2.fr/wp-content/uploads/2022/03/woman-tying-her-grey-sneaker.jpg
END:VEVENT
BEGIN:VEVENT
DTSTART;TZID=Europe/Paris:20230322T113000
DTEND;TZID=Europe/Paris:20230322T140000
DTSTAMP:20260425T173340
CREATED:20230310T155657Z
LAST-MODIFIED:20230310T155657Z
UID:10000460-1679484600-1679493600@www.parisnord2.fr
SUMMARY:Expo-Vente Tefal
DESCRIPTION:Venez profter de bonnes affaires !\nPartagez
URL:https://www.parisnord2.fr/event/expo-vente-tefal/
LOCATION:Restaurant Cap’Nord\, 1\, rue des épis\, VILLEPINTE\, France
CATEGORIES:RIE Paris Nord 2
ATTACH;FMTTYPE=image/jpeg:https://www.parisnord2.fr/wp-content/uploads/2023/03/TEFAL-2023.jpg
END:VEVENT
BEGIN:VEVENT
DTSTART;VALUE=DATE:20230330
DTEND;VALUE=DATE:20230401
DTSTAMP:20260425T173340
CREATED:20230130T161500Z
LAST-MODIFIED:20230130T161500Z
UID:10000439-1680134400-1680307199@www.parisnord2.fr
SUMMARY:Examens et concours
DESCRIPTION:@pressfoto.freepik\n  \n\nPartagez
URL:https://www.parisnord2.fr/event/examens-et-concours-2/
LOCATION:Parc des Expositions\, Villepinte\, Ile-de-France\, 93420\, France
CATEGORIES:Parc des expositions
ATTACH;FMTTYPE=image/jpeg:https://www.parisnord2.fr/wp-content/uploads/2023/01/@pressfoto-e1675095219138.jpg
END:VEVENT
BEGIN:VEVENT
DTSTART;TZID=Europe/Paris:20230330T150000
DTEND;TZID=Europe/Paris:20230330T193000
DTSTAMP:20260425T173340
CREATED:20230302T091843Z
LAST-MODIFIED:20230302T092606Z
UID:10000459-1680188400-1680204600@www.parisnord2.fr
SUMMARY:Don du sang Villepinte
DESCRIPTION:  \n \nPrenez rendez-vous ici  \nPartagez
URL:https://www.parisnord2.fr/event/don-du-sang-villepinte/
LOCATION:Espace V\, Avenue Jean Fourgeaud\, VILLEPINTE\, 93420\, France
CATEGORIES:Villepinte
ATTACH;FMTTYPE=image/jpeg:https://www.parisnord2.fr/wp-content/uploads/2023/03/affiche-don-du-sang-villepinte-mars.jpg
END:VEVENT
END:VCALENDAR