BEGIN:VCALENDAR
VERSION:2.0
PRODID:-//PARIS NORD 2 - ECPv6.15.18//NONSGML v1.0//EN
CALSCALE:GREGORIAN
METHOD:PUBLISH
X-ORIGINAL-URL:https://www.parisnord2.fr
X-WR-CALDESC:Évènements pour PARIS NORD 2
REFRESH-INTERVAL;VALUE=DURATION:PT1H
X-Robots-Tag:noindex
X-PUBLISHED-TTL:PT1H
BEGIN:VTIMEZONE
TZID:Europe/Paris
BEGIN:DAYLIGHT
TZOFFSETFROM:+0100
TZOFFSETTO:+0200
TZNAME:CEST
DTSTART:20220327T010000
END:DAYLIGHT
BEGIN:STANDARD
TZOFFSETFROM:+0200
TZOFFSETTO:+0100
TZNAME:CET
DTSTART:20221030T010000
END:STANDARD
BEGIN:DAYLIGHT
TZOFFSETFROM:+0100
TZOFFSETTO:+0200
TZNAME:CEST
DTSTART:20230326T010000
END:DAYLIGHT
BEGIN:STANDARD
TZOFFSETFROM:+0200
TZOFFSETTO:+0100
TZNAME:CET
DTSTART:20231029T010000
END:STANDARD
BEGIN:DAYLIGHT
TZOFFSETFROM:+0100
TZOFFSETTO:+0200
TZNAME:CEST
DTSTART:20240331T010000
END:DAYLIGHT
BEGIN:STANDARD
TZOFFSETFROM:+0200
TZOFFSETTO:+0100
TZNAME:CET
DTSTART:20241027T010000
END:STANDARD
END:VTIMEZONE
BEGIN:VEVENT
DTSTART;VALUE=DATE:20230401
DTEND;VALUE=DATE:20230403
DTSTAMP:20260425T154321
CREATED:20230130T160719Z
LAST-MODIFIED:20230130T161512Z
UID:10000437-1680307200-1680479999@www.parisnord2.fr
SUMMARY:Salon PARIS MANGA
DESCRIPTION:©Paris-mange-sci-fi-show\nParis Manga & Sci-Fi Show est le premier festival parisien de la pop culture ! Nous avons à cœur de partager nos passions avec nos visiteurs sur des thématiques très variées : culture et traditions japonaises\, comics\, jeux vidéo\, cinéma\, séries télévisées\, culture web\, manga\, animation japonaise\, cosplay\, arts martiaux et plein d’autres choses encore ! \n  \n\nPartagez
URL:https://www.parisnord2.fr/event/salon-paris-manga/
LOCATION:Parc des Expositions\, Villepinte\, Ile-de-France\, 93420\, France
CATEGORIES:Parc des expositions
ATTACH;FMTTYPE=image/jpeg:https://www.parisnord2.fr/wp-content/uploads/2023/01/paris-manga-2023-e1675094831106.jpg
END:VEVENT
BEGIN:VEVENT
DTSTART;VALUE=DATE:20230403
DTEND;VALUE=DATE:20230405
DTSTAMP:20260425T154321
CREATED:20230131T085936Z
LAST-MODIFIED:20230131T085936Z
UID:10000441-1680480000-1680652799@www.parisnord2.fr
SUMMARY:Examens et concours
DESCRIPTION:@pressfoto.freepik\n  \n\nPartagez
URL:https://www.parisnord2.fr/event/examens-et-concours-3/
LOCATION:Parc des Expositions\, Villepinte\, Ile-de-France\, 93420\, France
CATEGORIES:Parc des expositions
ATTACH;FMTTYPE=image/jpeg:https://www.parisnord2.fr/wp-content/uploads/2023/01/@pressfoto-e1675095219138.jpg
END:VEVENT
BEGIN:VEVENT
DTSTART;VALUE=DATE:20230415
DTEND;VALUE=DATE:20230416
DTSTAMP:20260425T154321
CREATED:20230131T090025Z
LAST-MODIFIED:20230131T090025Z
UID:10000442-1681516800-1681603199@www.parisnord2.fr
SUMMARY:Examens
DESCRIPTION:@pressfoto.freepik\n  \n\nPartagez
URL:https://www.parisnord2.fr/event/examens/
LOCATION:Parc des Expositions\, Villepinte\, Ile-de-France\, 93420\, France
CATEGORIES:Parc des expositions
ATTACH;FMTTYPE=image/jpeg:https://www.parisnord2.fr/wp-content/uploads/2023/01/@pressfoto-e1675095219138.jpg
END:VEVENT
BEGIN:VEVENT
DTSTART;VALUE=DATE:20230417
DTEND;VALUE=DATE:20230513
DTSTAMP:20260425T154321
CREATED:20230131T090131Z
LAST-MODIFIED:20230131T090131Z
UID:10000443-1681689600-1683935999@www.parisnord2.fr
SUMMARY:Concours
DESCRIPTION:@pressfoto.freepik\n  \n\nPartagez
URL:https://www.parisnord2.fr/event/concours-2/
LOCATION:Parc des Expositions\, Villepinte\, Ile-de-France\, 93420\, France
CATEGORIES:Parc des expositions
ATTACH;FMTTYPE=image/jpeg:https://www.parisnord2.fr/wp-content/uploads/2023/01/@pressfoto-e1675095219138.jpg
END:VEVENT
BEGIN:VEVENT
DTSTART;TZID=Europe/Paris:20230418T114500
DTEND;TZID=Europe/Paris:20230418T140000
DTSTAMP:20260425T154321
CREATED:20230417T154011Z
LAST-MODIFIED:20230417T154011Z
UID:10000461-1681818300-1681826400@www.parisnord2.fr
SUMMARY:Expo-Vente BailArt
DESCRIPTION:Partagez
URL:https://www.parisnord2.fr/event/expo-vente-bailart/
LOCATION:Restaurant Cap’Nord\, 1\, rue des épis\, VILLEPINTE\, France
CATEGORIES:RIE Paris Nord 2
ATTACH;FMTTYPE=image/png:https://www.parisnord2.fr/wp-content/uploads/2023/04/affiche-Bail-Art.png
END:VEVENT
BEGIN:VEVENT
DTSTART;VALUE=DATE:20230425
DTEND;VALUE=DATE:20230428
DTSTAMP:20260425T154321
CREATED:20230131T090213Z
LAST-MODIFIED:20230407T144022Z
UID:10000444-1682380800-1682639999@www.parisnord2.fr
SUMMARY:Salon JEC World
DESCRIPTION:@-JEC-World-2023\n  \n\nPartagez
URL:https://www.parisnord2.fr/event/examens-2/
LOCATION:Parc des Expositions\, Villepinte\, Ile-de-France\, 93420\, France
CATEGORIES:Parc des expositions
ATTACH;FMTTYPE=image/jpeg:https://www.parisnord2.fr/wp-content/uploads/2023/01/JEC-WORL.jpg
END:VEVENT
BEGIN:VEVENT
DTSTART;VALUE=DATE:20230426
DTEND;VALUE=DATE:20230429
DTSTAMP:20260425T154321
CREATED:20230131T091608Z
LAST-MODIFIED:20230131T091608Z
UID:10000445-1682467200-1682726399@www.parisnord2.fr
SUMMARY:Concours
DESCRIPTION:@pressfoto.freepik\n  \n\nPartagez
URL:https://www.parisnord2.fr/event/concours-3/
LOCATION:Parc des Expositions\, Villepinte\, Ile-de-France\, 93420\, France
CATEGORIES:Parc des expositions
ATTACH;FMTTYPE=image/jpeg:https://www.parisnord2.fr/wp-content/uploads/2023/01/@pressfoto-e1675095219138.jpg
END:VEVENT
BEGIN:VEVENT
DTSTART;VALUE=DATE:20230429
DTEND;VALUE=DATE:20230503
DTSTAMP:20260425T154321
CREATED:20230131T091648Z
LAST-MODIFIED:20230131T091648Z
UID:10000446-1682726400-1683071999@www.parisnord2.fr
SUMMARY:Concours
DESCRIPTION:@pressfoto.freepik\n  \n\nPartagez
URL:https://www.parisnord2.fr/event/concours-4/
LOCATION:Parc des Expositions\, Villepinte\, Ile-de-France\, 93420\, France
CATEGORIES:Parc des expositions
ATTACH;FMTTYPE=image/jpeg:https://www.parisnord2.fr/wp-content/uploads/2023/01/@pressfoto-e1675095219138.jpg
END:VEVENT
END:VCALENDAR