BEGIN:VCALENDAR
VERSION:2.0
PRODID:-//PARIS NORD 2 - ECPv6.15.18//NONSGML v1.0//EN
CALSCALE:GREGORIAN
METHOD:PUBLISH
X-ORIGINAL-URL:https://www.parisnord2.fr
X-WR-CALDESC:Évènements pour PARIS NORD 2
REFRESH-INTERVAL;VALUE=DURATION:PT1H
X-Robots-Tag:noindex
X-PUBLISHED-TTL:PT1H
BEGIN:VTIMEZONE
TZID:Europe/Paris
BEGIN:DAYLIGHT
TZOFFSETFROM:+0100
TZOFFSETTO:+0200
TZNAME:CEST
DTSTART:20220327T010000
END:DAYLIGHT
BEGIN:STANDARD
TZOFFSETFROM:+0200
TZOFFSETTO:+0100
TZNAME:CET
DTSTART:20221030T010000
END:STANDARD
BEGIN:DAYLIGHT
TZOFFSETFROM:+0100
TZOFFSETTO:+0200
TZNAME:CEST
DTSTART:20230326T010000
END:DAYLIGHT
BEGIN:STANDARD
TZOFFSETFROM:+0200
TZOFFSETTO:+0100
TZNAME:CET
DTSTART:20231029T010000
END:STANDARD
BEGIN:DAYLIGHT
TZOFFSETFROM:+0100
TZOFFSETTO:+0200
TZNAME:CEST
DTSTART:20240331T010000
END:DAYLIGHT
BEGIN:STANDARD
TZOFFSETFROM:+0200
TZOFFSETTO:+0100
TZNAME:CET
DTSTART:20241027T010000
END:STANDARD
END:VTIMEZONE
BEGIN:VEVENT
DTSTART;VALUE=DATE:20231007
DTEND;VALUE=DATE:20231016
DTSTAMP:20260425T044342
CREATED:20230720T145108Z
LAST-MODIFIED:20230720T145108Z
UID:10000468-1696636800-1697414399@www.parisnord2.fr
SUMMARY:Salon des véhicules de loisirs 2023
DESCRIPTION:https://salonvdl.com/prochaine-edition/ \n  \nPartagez
URL:https://www.parisnord2.fr/event/salon-des-vehicules-de-loisirs-2023/
LOCATION:Parc des Expositions\, Villepinte\, Ile-de-France\, 93420\, France
CATEGORIES:Parc des expositions
ATTACH;FMTTYPE=image/png:https://www.parisnord2.fr/wp-content/uploads/2023/07/Salon_des_vehicules_de_loisirs-2023.png
END:VEVENT
BEGIN:VEVENT
DTSTART;VALUE=DATE:20231022
DTEND;VALUE=DATE:20231025
DTSTAMP:20260425T044342
CREATED:20230720T145643Z
LAST-MODIFIED:20230720T145643Z
UID:10000469-1697932800-1698191999@www.parisnord2.fr
SUMMARY:Salon NATEXPO 2023
DESCRIPTION:Le salon Natexpo en 2026 \n \n  \nPartagez
URL:https://www.parisnord2.fr/event/salon-natexpo-2023/
LOCATION:Parc des Expositions\, Villepinte\, Ile-de-France\, 93420\, France
CATEGORIES:Parc des expositions
ATTACH;FMTTYPE=image/jpeg:https://www.parisnord2.fr/wp-content/uploads/2023/07/NATEXPO-2023.jpg
END:VEVENT
BEGIN:VEVENT
DTSTART;TZID=Europe/Paris:20231025T123000
DTEND;TZID=Europe/Paris:20231025T140000
DTSTAMP:20260425T044342
CREATED:20230810T152734Z
LAST-MODIFIED:20230810T152734Z
UID:10000473-1698237000-1698242400@www.parisnord2.fr
SUMMARY:Apéritifs-contacts CEEVO
DESCRIPTION:Réunions conviviales qui permettent de développer des relations interentreprises et d’échanger sur un thème autour d’un buffet léger. \nPartagez
URL:https://www.parisnord2.fr/event/aperitifs-contacts-ceevo-2/
LOCATION:Salons du Conseil Départemental du Val d’Oise\, 2 avenue du Parc\, CERGY-PONTOISE\, 95032\, France
CATEGORIES:CEEVO 95
ATTACH;FMTTYPE=image/jpeg:https://www.parisnord2.fr/wp-content/uploads/2022/02/CEEVO.jpg
END:VEVENT
BEGIN:VEVENT
DTSTART;VALUE=DATE:20231028
DTEND;VALUE=DATE:20231030
DTSTAMP:20260425T044342
CREATED:20230720T145946Z
LAST-MODIFIED:20231005T072804Z
UID:10000470-1698451200-1698623999@www.parisnord2.fr
SUMMARY:Salon PARIS MANGA
DESCRIPTION:©Paris-mange-sci-fi-show\nParis Manga & Sci-Fi Show est le premier festival parisien de la pop culture ! Nous avons à cœur de partager nos passions avec nos visiteurs sur des thématiques très variées : culture et traditions japonaises\, comics\, jeux vidéo\, cinéma\, séries télévisées\, culture web\, manga\, animation japonaise\, cosplay\, arts martiaux et plein d’autres choses encore ! \n  \n\nPartagez
URL:https://www.parisnord2.fr/event/salon-paris-manga-2/
LOCATION:Parc des Expositions\, Villepinte\, Ile-de-France\, 93420\, France
CATEGORIES:Parc des expositions
ATTACH;FMTTYPE=image/jpeg:https://www.parisnord2.fr/wp-content/uploads/2023/07/pm34_v2_tgs-e1696490873726.jpg
END:VEVENT
BEGIN:VEVENT
DTSTART;TZID=Europe/Paris:20231031T114500
DTEND;TZID=Europe/Paris:20231031T140000
DTSTAMP:20260425T044342
CREATED:20231017T094725Z
LAST-MODIFIED:20231030T095646Z
UID:10000486-1698752700-1698760800@www.parisnord2.fr
SUMMARY:Animation Halloween dans votre restaurant Cap'Nord
DESCRIPTION:Partagez
URL:https://www.parisnord2.fr/event/animation-halloween-dans-votre-restaurant/
LOCATION:Restaurant Cap’Nord\, 1\, rue des épis\, VILLEPINTE\, France
CATEGORIES:RIE Paris Nord 2
ATTACH;FMTTYPE=image/jpeg:https://www.parisnord2.fr/wp-content/uploads/2023/10/Ecran-Animation-culinaire-Halloween.jpg
END:VEVENT
END:VCALENDAR