BEGIN:VCALENDAR
VERSION:2.0
PRODID:-//PARIS NORD 2 - ECPv6.15.18//NONSGML v1.0//EN
CALSCALE:GREGORIAN
METHOD:PUBLISH
X-ORIGINAL-URL:https://www.parisnord2.fr
X-WR-CALDESC:Évènements pour PARIS NORD 2
REFRESH-INTERVAL;VALUE=DURATION:PT1H
X-Robots-Tag:noindex
X-PUBLISHED-TTL:PT1H
BEGIN:VTIMEZONE
TZID:Europe/Paris
BEGIN:DAYLIGHT
TZOFFSETFROM:+0100
TZOFFSETTO:+0200
TZNAME:CEST
DTSTART:20220327T010000
END:DAYLIGHT
BEGIN:STANDARD
TZOFFSETFROM:+0200
TZOFFSETTO:+0100
TZNAME:CET
DTSTART:20221030T010000
END:STANDARD
BEGIN:DAYLIGHT
TZOFFSETFROM:+0100
TZOFFSETTO:+0200
TZNAME:CEST
DTSTART:20230326T010000
END:DAYLIGHT
BEGIN:STANDARD
TZOFFSETFROM:+0200
TZOFFSETTO:+0100
TZNAME:CET
DTSTART:20231029T010000
END:STANDARD
BEGIN:DAYLIGHT
TZOFFSETFROM:+0100
TZOFFSETTO:+0200
TZNAME:CEST
DTSTART:20240331T010000
END:DAYLIGHT
BEGIN:STANDARD
TZOFFSETFROM:+0200
TZOFFSETTO:+0100
TZNAME:CET
DTSTART:20241027T010000
END:STANDARD
END:VTIMEZONE
BEGIN:VEVENT
DTSTART;TZID=Europe/Paris:20231107T113000
DTEND;TZID=Europe/Paris:20231107T140000
DTSTAMP:20260425T030202
CREATED:20231006T123931Z
LAST-MODIFIED:20231030T095621Z
UID:10000484-1699356600-1699365600@www.parisnord2.fr
SUMMARY:Animation Canada dans votre restaurant Cap'Est
DESCRIPTION:Partagez
URL:https://www.parisnord2.fr/event/animation-canada-dans-votre-restaurant/
LOCATION:Restaurant Cap’Est\, 10 rue de l'Etang\, TREMBLAY-EN-FRANCE\, 93290
CATEGORIES:RIE Paris Nord 2
ATTACH;FMTTYPE=image/jpeg:https://www.parisnord2.fr/wp-content/uploads/2023/10/PN2-Ecran-Animation-culinaire-canada-6000x4004-pxl-v2.jpg
END:VEVENT
BEGIN:VEVENT
DTSTART;TZID=Europe/Paris:20231107T113000
DTEND;TZID=Europe/Paris:20231107T140000
DTSTAMP:20260425T030202
CREATED:20231006T124116Z
LAST-MODIFIED:20231006T124116Z
UID:10000485-1699356600-1699365600@www.parisnord2.fr
SUMMARY:Animation Nord de la France dans votre restaurant
DESCRIPTION:Partagez
URL:https://www.parisnord2.fr/event/animation-nord-de-la-france-dans-votre-restaurant/
LOCATION:Restaurant Cap’Nord\, 1\, rue des épis\, VILLEPINTE\, France
CATEGORIES:RIE Paris Nord 2
ATTACH;FMTTYPE=image/jpeg:https://www.parisnord2.fr/wp-content/uploads/2023/09/PN2-Ecran-Animation-culinaire-le-nord-6000x4004-pxl-v2.jpg
END:VEVENT
BEGIN:VEVENT
DTSTART;VALUE=DATE:20231114
DTEND;VALUE=DATE:20231118
DTSTAMP:20260425T030202
CREATED:20230720T150336Z
LAST-MODIFIED:20230720T150336Z
UID:10000471-1699920000-1700265599@www.parisnord2.fr
SUMMARY:Salon MILIPOL 2023
DESCRIPTION:https://event.milipol.com/2023/ \n  \n  \nPartagez
URL:https://www.parisnord2.fr/event/salon-milipol-2023/
LOCATION:Parc des Expositions\, Villepinte\, Ile-de-France\, 93420\, France
CATEGORIES:Parc des expositions
ATTACH;FMTTYPE=image/jpeg:https://www.parisnord2.fr/wp-content/uploads/2023/07/MILIPOL-2023.jpg
END:VEVENT
BEGIN:VEVENT
DTSTART;TZID=Europe/Paris:20231115T123000
DTEND;TZID=Europe/Paris:20231115T140000
DTSTAMP:20260425T030202
CREATED:20230810T152936Z
LAST-MODIFIED:20230810T152936Z
UID:10000474-1700051400-1700056800@www.parisnord2.fr
SUMMARY:Apéritifs-contacts CEEVO
DESCRIPTION:Réunions conviviales qui permettent de développer des relations interentreprises et d’échanger sur un thème autour d’un buffet léger. \nPartagez
URL:https://www.parisnord2.fr/event/aperitifs-contacts-ceevo-3/
LOCATION:Salons du Conseil Départemental du Val d’Oise\, 2 avenue du Parc\, CERGY-PONTOISE\, 95032\, France
CATEGORIES:CEEVO 95
ATTACH;FMTTYPE=image/jpeg:https://www.parisnord2.fr/wp-content/uploads/2022/02/CEEVO.jpg
END:VEVENT
BEGIN:VEVENT
DTSTART;TZID=Europe/Paris:20231116T113000
DTEND;TZID=Europe/Paris:20231116T140000
DTSTAMP:20260425T030202
CREATED:20231110T092415Z
LAST-MODIFIED:20231110T092415Z
UID:10000487-1700134200-1700143200@www.parisnord2.fr
SUMMARY:Animation Beaujolais Nouveau sur Cap'Nord
DESCRIPTION:Partagez
URL:https://www.parisnord2.fr/event/animation-beaujolais-nouveau-sur-capnord/
LOCATION:Restaurant Cap’Nord\, 1\, rue des épis\, VILLEPINTE\, France
CATEGORIES:RIE Paris Nord 2
ATTACH;FMTTYPE=image/jpeg:https://www.parisnord2.fr/wp-content/uploads/2023/11/Beaujolais-2023.jpg
END:VEVENT
BEGIN:VEVENT
DTSTART;TZID=Europe/Paris:20231120T114500
DTEND;TZID=Europe/Paris:20231208T140000
DTSTAMP:20260425T030202
CREATED:20231114T094323Z
LAST-MODIFIED:20231114T094323Z
UID:10000490-1700480700-1702044000@www.parisnord2.fr
SUMMARY:Collecte de jouet 2023
DESCRIPTION:Partagez
URL:https://www.parisnord2.fr/event/collecte-de-jouet-2023/
LOCATION:Restaurant Cap’Nord\, 1\, rue des épis\, VILLEPINTE\, France
CATEGORIES:RIE Paris Nord 2
ATTACH;FMTTYPE=image/jpeg:https://www.parisnord2.fr/wp-content/uploads/2023/11/Un-Noel-pour-tous.jpg
END:VEVENT
BEGIN:VEVENT
DTSTART;TZID=Europe/Paris:20231121T114500
DTEND;TZID=Europe/Paris:20231121T140000
DTSTAMP:20260425T030202
CREATED:20231110T092812Z
LAST-MODIFIED:20231110T093028Z
UID:10000488-1700567100-1700575200@www.parisnord2.fr
SUMMARY:Expo-Vente Phoneside
DESCRIPTION:Nouvelle invention qui va révolutionner votre façon de travailler… \n  \n \nPartagez
URL:https://www.parisnord2.fr/event/expo-vente-phoneside/
LOCATION:Restaurant Cap’Nord\, 1\, rue des épis\, VILLEPINTE\, France
CATEGORIES:RIE Paris Nord 2
ATTACH;FMTTYPE=image/jpeg:https://www.parisnord2.fr/wp-content/uploads/2023/11/Phoneside-CapNord-e1699608480815.jpg
END:VEVENT
BEGIN:VEVENT
DTSTART;TZID=Europe/Paris:20231129T113000
DTEND;TZID=Europe/Paris:20231129T140000
DTSTAMP:20260425T030202
CREATED:20231127T090128Z
LAST-MODIFIED:20231127T090128Z
UID:10000491-1701257400-1701266400@www.parisnord2.fr
SUMMARY:Expo-Vente Tefal
DESCRIPTION:Venez profiter de bonnes affaires !\nPartagez
URL:https://www.parisnord2.fr/event/expo-vente-tefal-2/
LOCATION:Restaurant Cap’Nord\, 1\, rue des épis\, VILLEPINTE\, France
CATEGORIES:RIE Paris Nord 2
ATTACH;FMTTYPE=image/jpeg:https://www.parisnord2.fr/wp-content/uploads/2023/03/TEFAL-2023.jpg
END:VEVENT
END:VCALENDAR