BEGIN:VCALENDAR
VERSION:2.0
PRODID:-//PARIS NORD 2 - ECPv6.15.18//NONSGML v1.0//EN
CALSCALE:GREGORIAN
METHOD:PUBLISH
X-WR-CALNAME:PARIS NORD 2
X-ORIGINAL-URL:https://www.parisnord2.fr
X-WR-CALDESC:Évènements pour PARIS NORD 2
REFRESH-INTERVAL;VALUE=DURATION:PT1H
X-Robots-Tag:noindex
X-PUBLISHED-TTL:PT1H
BEGIN:VTIMEZONE
TZID:Europe/Paris
BEGIN:DAYLIGHT
TZOFFSETFROM:+0100
TZOFFSETTO:+0200
TZNAME:CEST
DTSTART:20230326T010000
END:DAYLIGHT
BEGIN:STANDARD
TZOFFSETFROM:+0200
TZOFFSETTO:+0100
TZNAME:CET
DTSTART:20231029T010000
END:STANDARD
BEGIN:DAYLIGHT
TZOFFSETFROM:+0100
TZOFFSETTO:+0200
TZNAME:CEST
DTSTART:20240331T010000
END:DAYLIGHT
BEGIN:STANDARD
TZOFFSETFROM:+0200
TZOFFSETTO:+0100
TZNAME:CET
DTSTART:20241027T010000
END:STANDARD
BEGIN:DAYLIGHT
TZOFFSETFROM:+0100
TZOFFSETTO:+0200
TZNAME:CEST
DTSTART:20250330T010000
END:DAYLIGHT
BEGIN:STANDARD
TZOFFSETFROM:+0200
TZOFFSETTO:+0100
TZNAME:CET
DTSTART:20251026T010000
END:STANDARD
END:VTIMEZONE
BEGIN:VEVENT
DTSTART;TZID=Europe/Paris:20240303T103000
DTEND;TZID=Europe/Paris:20240303T140000
DTSTAMP:20260424T200000
CREATED:20240208T161812Z
LAST-MODIFIED:20240208T161901Z
UID:10000508-1709461800-1709474400@www.parisnord2.fr
SUMMARY:A vos Baskets 2024
DESCRIPTION:Participez à la course « À vos baskets » !\n\nIl est temps de (re)chausser vos baskets pour participer à la course « À vos baskets » : un événement dont le parc d’affaires Paris Nord 2 est sponsor depuis la première édition.\nComme toujours depuis 8 ans maintenant\, celui-ci se tiendra à Villepinte et une partie du tracé de la course traversera le parc. \nParis Nord 2 soutient les valeurs du sport\, de l’entraide\, de l’esprit d’équipe\, de la solidarité et plus largement du bien-être au travail. \n  \nNous vous donnons donc rendez-vous le : \n\n\n\n\n \nKit’Com : cliquez sur l’image pour télécharger l’affiche. \n\n  \n  \n\nDimanche 3 mars 2024\nde 10h à 12h\nDépart : Espaces V\, avenue Jean Fourgeaud\nVillepinte\n\n\n\n  \n \n  \n« À vos baskets » est un événement chaleureux et convivial\, dont le parcours est labellisé pour permettre aux licenciés de se qualifier pour le Championnat de France et le Championnat Départemental 93. \n  \nC’est aussi l’occasion idéale de relever le défi\, seul\, ou en équipe\, avec le Challenge Entreprises. \nTentez votre chance pour remporter le trophée 2024 !\n \n\n\n\n\n\n\n\n\n\n\n\n\n\n\n\n\n\n\n\n\n\nChallenge Entreprises \nSemi-marathon ou 10 km \nL’occasion idéale de partager avec vos collaborateurs une expérience riche en émotions et de détrôner les tenants du titre. Les éditions précédentes ont été remportées par deux sociétés de Paris Nord 2 : RAJA et Le Ludus\, mais aussi par Petit Forestier\, situé à Villepinte. \n  \nSemi-marathon (21\,1 km) \nQualificatif pour le Championnat Départemental 93 et le Championnat de France \nDépart de la course : 10h devant le parvis des Espaces V \nLigne d’arrivée : Espaces V\, salle Jacques Brel \nTarifs :\n– 14 € jusqu’au 29 février\n– 17 € le jour de la course \n  \n10 km \nQualificatif pour le Championnat de France \nDépart de la course : 10h15 aux Espaces V \nLigne d’arrivée : Espaces V\, salle Jacques Brel \nTarifs :\n– 12 € jusqu’au 29 février\n– 15 € le jour de la course \n  \nUn certificat médical comportant la mention « apte à la course à pied en compétition » est obligatoire\, sauf pour les licenciés. \n  \nCliquez ici pour vous inscrire. \n  \nCliquez ici pour télécharger le dépliant d’informations. \n  \nLes dossards seront à retirer\, sur présentation d’une pièce d’identité : \n– Du 26 février au 1er mars\nDu lundi au vendredi\, de 9h à 12h et de 14h à 17h\nDirection des Sports\, rue Pierre Audat\, Villepinte \n– Le jour de la course\nDe 8h à 10h \n  \nPour plus d’informations : \nDirection des Sports\, Villepinte\n01 43 84 84 51\nisportives@ville-villepinte.fr \n\n\n\n\n\n\nPartagez
URL:https://www.parisnord2.fr/event/a-vos-baskets-2024-2/
LOCATION:Espace V\, Avenue Jean Fourgeaud\, VILLEPINTE\, 93420\, France
CATEGORIES:Villepinte
ATTACH;FMTTYPE=image/jpeg:https://www.parisnord2.fr/wp-content/uploads/2022/04/A-vos-baskets-2022-2-e1649084154821.jpg
END:VEVENT
BEGIN:VEVENT
DTSTART;VALUE=DATE:20240305
DTEND;VALUE=DATE:20240308
DTSTAMP:20260424T200000
CREATED:20240208T162546Z
LAST-MODIFIED:20240208T162546Z
UID:10000509-1709596800-1709855999@www.parisnord2.fr
SUMMARY:Salon JEC 2024
DESCRIPTION:  \n  \n\nPartagez
URL:https://www.parisnord2.fr/event/salon-jec-2024/
LOCATION:Parc des Expositions\, Villepinte\, Ile-de-France\, 93420\, France
CATEGORIES:Parc des expositions
ATTACH;FMTTYPE=image/png:https://www.parisnord2.fr/wp-content/uploads/2024/02/JEC-2024.png
END:VEVENT
BEGIN:VEVENT
DTSTART;TZID=Europe/Paris:20240305T114500
DTEND;TZID=Europe/Paris:20240305T140000
DTSTAMP:20260424T200000
CREATED:20231215T094831Z
LAST-MODIFIED:20240119T085238Z
UID:10000493-1709639100-1709647200@www.parisnord2.fr
SUMMARY:Animation Portugal dans votre restaurant Cap'Nord
DESCRIPTION:Partagez
URL:https://www.parisnord2.fr/event/animation-portugal-dans-votre-restaurant-capnord/
LOCATION:Restaurant Cap’Nord\, 1\, rue des épis\, VILLEPINTE\, France
CATEGORIES:RIE Paris Nord 2
ATTACH;FMTTYPE=image/jpeg:https://www.parisnord2.fr/wp-content/uploads/2023/12/Animation-Portuguaise-.jpg
END:VEVENT
BEGIN:VEVENT
DTSTART;TZID=Europe/Paris:20240305T114500
DTEND;TZID=Europe/Paris:20240305T140000
DTSTAMP:20260424T200000
CREATED:20231215T094933Z
LAST-MODIFIED:20240119T085323Z
UID:10000494-1709639100-1709647200@www.parisnord2.fr
SUMMARY:Animation Portugal dans votre restaurant Cap'Est
DESCRIPTION:Partagez
URL:https://www.parisnord2.fr/event/animation-portugal-dans-votre-restaurant-capest/
LOCATION:Restaurant Cap’Est\, 10 rue de l'Etang\, TREMBLAY-EN-FRANCE\, 93290
CATEGORIES:RIE Paris Nord 2
ATTACH;FMTTYPE=image/jpeg:https://www.parisnord2.fr/wp-content/uploads/2023/12/Animation-portugaise-2024-cap-est-1.jpg
END:VEVENT
BEGIN:VEVENT
DTSTART;VALUE=DATE:20240313
DTEND;VALUE=DATE:20240314
DTSTAMP:20260424T200000
CREATED:20240208T160927Z
LAST-MODIFIED:20240208T160927Z
UID:10000504-1710288000-1710374399@www.parisnord2.fr
SUMMARY:Concours
DESCRIPTION:@pressfoto.freepik\n  \n\nPartagez
URL:https://www.parisnord2.fr/event/concours-5/
LOCATION:Parc des Expositions\, Villepinte\, Ile-de-France\, 93420\, France
CATEGORIES:Parc des expositions
ATTACH;FMTTYPE=image/jpeg:https://www.parisnord2.fr/wp-content/uploads/2023/01/@pressfoto-e1675095219138.jpg
END:VEVENT
BEGIN:VEVENT
DTSTART;VALUE=DATE:20240314
DTEND;VALUE=DATE:20240315
DTSTAMP:20260424T200000
CREATED:20240208T160951Z
LAST-MODIFIED:20240208T160951Z
UID:10000505-1710374400-1710460799@www.parisnord2.fr
SUMMARY:Concours
DESCRIPTION:@pressfoto.freepik\n  \n\nPartagez
URL:https://www.parisnord2.fr/event/concours-6/
LOCATION:Parc des Expositions\, Villepinte\, Ile-de-France\, 93420\, France
CATEGORIES:Parc des expositions
ATTACH;FMTTYPE=image/jpeg:https://www.parisnord2.fr/wp-content/uploads/2023/01/@pressfoto-e1675095219138.jpg
END:VEVENT
BEGIN:VEVENT
DTSTART;VALUE=DATE:20240316
DTEND;VALUE=DATE:20240318
DTSTAMP:20260424T200000
CREATED:20240208T160808Z
LAST-MODIFIED:20240208T160808Z
UID:10000503-1710547200-1710719999@www.parisnord2.fr
SUMMARY:Salon PARIS MANGA
DESCRIPTION:©Paris-mange-sci-fi-show\nParis Manga & Sci-Fi Show est le premier festival parisien de la pop culture ! Nous avons à cœur de partager nos passions avec nos visiteurs sur des thématiques très variées : culture et traditions japonaises\, comics\, jeux vidéo\, cinéma\, séries télévisées\, culture web\, manga\, animation japonaise\, cosplay\, arts martiaux et plein d’autres choses encore ! \n  \n\nPartagez
URL:https://www.parisnord2.fr/event/salon-paris-manga-3/
LOCATION:Parc des Expositions\, Villepinte\, Ile-de-France\, 93420\, France
CATEGORIES:Parc des expositions
ATTACH;FMTTYPE=image/jpeg:https://www.parisnord2.fr/wp-content/uploads/2024/02/Paris-Manga-2024.jpg
END:VEVENT
BEGIN:VEVENT
DTSTART;VALUE=DATE:20240319
DTEND;VALUE=DATE:20240322
DTSTAMP:20260424T200000
CREATED:20240208T161210Z
LAST-MODIFIED:20240208T161619Z
UID:10000506-1710806400-1711065599@www.parisnord2.fr
SUMMARY:Salon SITL
DESCRIPTION:https://www.sitl.eu/fr-fr/le-salon.html \nPartagez
URL:https://www.parisnord2.fr/event/salon-sitl/
LOCATION:Parc des Expositions\, Villepinte\, Ile-de-France\, 93420\, France
CATEGORIES:Parc des expositions
ATTACH;FMTTYPE=image/jpeg:https://www.parisnord2.fr/wp-content/uploads/2024/02/SITL-2024.jpg
END:VEVENT
BEGIN:VEVENT
DTSTART;VALUE=DATE:20240320
DTEND;VALUE=DATE:20240325
DTSTAMP:20260424T200000
CREATED:20240208T161530Z
LAST-MODIFIED:20240208T161530Z
UID:10000507-1710892800-1711324799@www.parisnord2.fr
SUMMARY:ROCKET LEAGUE MAJOR
DESCRIPTION:@pressfoto.freepik\n  \n\nPartagez
URL:https://www.parisnord2.fr/event/rocket-league-major/
LOCATION:Parc des Expositions\, Villepinte\, Ile-de-France\, 93420\, France
CATEGORIES:Parc des expositions
ATTACH;FMTTYPE=image/jpeg:https://www.parisnord2.fr/wp-content/uploads/2024/02/rOCKET-LEAGUE-2024.jpg
END:VEVENT
BEGIN:VEVENT
DTSTART;VALUE=DATE:20240321
DTEND;VALUE=DATE:20240323
DTSTAMP:20260424T200000
CREATED:20240208T162653Z
LAST-MODIFIED:20240208T162653Z
UID:10000510-1710979200-1711151999@www.parisnord2.fr
SUMMARY:Concours
DESCRIPTION:@pressfoto.freepik\n  \n\nPartagez
URL:https://www.parisnord2.fr/event/concours-7/
LOCATION:Parc des Expositions\, Villepinte\, Ile-de-France\, 93420\, France
CATEGORIES:Parc des expositions
ATTACH;FMTTYPE=image/jpeg:https://www.parisnord2.fr/wp-content/uploads/2023/01/@pressfoto-e1675095219138.jpg
END:VEVENT
BEGIN:VEVENT
DTSTART;VALUE=DATE:20240325
DTEND;VALUE=DATE:20240329
DTSTAMP:20260424T200000
CREATED:20240208T163132Z
LAST-MODIFIED:20240208T163132Z
UID:10000511-1711324800-1711670399@www.parisnord2.fr
SUMMARY:Salon SITL
DESCRIPTION:https://www.global-industrie.com/fr/accueil-visiteur \nPartagez
URL:https://www.parisnord2.fr/event/salon-sitl-2/
LOCATION:Parc des Expositions\, Villepinte\, Ile-de-France\, 93420\, France
CATEGORIES:Parc des expositions
ATTACH;FMTTYPE=image/jpeg:https://www.parisnord2.fr/wp-content/uploads/2024/02/global-industrie-2019-eurexpo-lyon.jpg
END:VEVENT
END:VCALENDAR