BEGIN:VCALENDAR
VERSION:2.0
PRODID:-//PARIS NORD 2 - ECPv6.15.18//NONSGML v1.0//EN
CALSCALE:GREGORIAN
METHOD:PUBLISH
X-ORIGINAL-URL:https://www.parisnord2.fr
X-WR-CALDESC:Évènements pour PARIS NORD 2
REFRESH-INTERVAL;VALUE=DURATION:PT1H
X-Robots-Tag:noindex
X-PUBLISHED-TTL:PT1H
BEGIN:VTIMEZONE
TZID:Europe/Paris
BEGIN:DAYLIGHT
TZOFFSETFROM:+0100
TZOFFSETTO:+0200
TZNAME:CEST
DTSTART:20230326T010000
END:DAYLIGHT
BEGIN:STANDARD
TZOFFSETFROM:+0200
TZOFFSETTO:+0100
TZNAME:CET
DTSTART:20231029T010000
END:STANDARD
BEGIN:DAYLIGHT
TZOFFSETFROM:+0100
TZOFFSETTO:+0200
TZNAME:CEST
DTSTART:20240331T010000
END:DAYLIGHT
BEGIN:STANDARD
TZOFFSETFROM:+0200
TZOFFSETTO:+0100
TZNAME:CET
DTSTART:20241027T010000
END:STANDARD
BEGIN:DAYLIGHT
TZOFFSETFROM:+0100
TZOFFSETTO:+0200
TZNAME:CEST
DTSTART:20250330T010000
END:DAYLIGHT
BEGIN:STANDARD
TZOFFSETFROM:+0200
TZOFFSETTO:+0100
TZNAME:CET
DTSTART:20251026T010000
END:STANDARD
BEGIN:DAYLIGHT
TZOFFSETFROM:+0100
TZOFFSETTO:+0200
TZNAME:CEST
DTSTART:20260329T010000
END:DAYLIGHT
BEGIN:STANDARD
TZOFFSETFROM:+0200
TZOFFSETTO:+0100
TZNAME:CET
DTSTART:20261025T010000
END:STANDARD
END:VTIMEZONE
BEGIN:VEVENT
DTSTART;TZID=Europe/Paris:20241216T113000
DTEND;TZID=Europe/Paris:20250203T140000
DTSTAMP:20260423T235939
CREATED:20241213T085623Z
LAST-MODIFIED:20241213T085623Z
UID:10000559-1734348600-1738591200@www.parisnord2.fr
SUMMARY:Galette des rois
DESCRIPTION:Partagez
URL:https://www.parisnord2.fr/event/galette-des-rois-3/
LOCATION:Restaurant Cap’Nord\, 1\, rue des épis\, VILLEPINTE\, France
CATEGORIES:RIE Paris Nord 2
ATTACH;FMTTYPE=image/jpeg:https://www.parisnord2.fr/wp-content/uploads/2024/01/IMG_20231228_112105-e1704444481696.jpg
END:VEVENT
BEGIN:VEVENT
DTSTART;TZID=Europe/Paris:20250206T090000
DTEND;TZID=Europe/Paris:20250206T103000
DTSTAMP:20260423T235939
CREATED:20250124T133102Z
LAST-MODIFIED:20250124T133334Z
UID:10000596-1738832400-1738837800@www.parisnord2.fr
SUMMARY:Petit-Déjeuner Conférence
DESCRIPTION:Partagez
URL:https://www.parisnord2.fr/event/petit-dejeuner-conference-3/
LOCATION:Hôtel Golden Tulip\, Villepinte\, 93420\, France
CATEGORIES:Paris Nord 2
ATTACH;FMTTYPE=image/jpeg:https://www.parisnord2.fr/wp-content/uploads/2025/01/IMG_20241126_112908.jpg
END:VEVENT
BEGIN:VEVENT
DTSTART;VALUE=DATE:20250211
DTEND;VALUE=DATE:20250214
DTSTAMP:20260423T235939
CREATED:20250106T112530Z
LAST-MODIFIED:20250106T112530Z
UID:10000588-1739232000-1739491199@www.parisnord2.fr
SUMMARY:Salon PREMIERE VISION
DESCRIPTION:©PREMIEREVISION\nVenez faire le plein d’inspiration à Première Vision Paris !\nRendez-vous biannuel des professionnels de la mode créative\, Première Vision Paris est un évènement unique pensé pour accompagner votre sourcing et alimenter votre créativité grâce à un panorama complet de matières premières et de services dédiés. \nAu service de votre créativité\, l’équipe de PV Paris s’est donné pour missions de créer un carrefour international de rencontres\, de savoir-faire et d’innovation\, de sélectionner les meilleurs experts pour accompagner votre sourcing\, d’anticiper l’air du temps\, les tendances et les couleurs au fil des saison et de s’engager avec vous pour une mode plus responsable. \nDu fil à la confection\, en passant par les tissus\, les cuirs\, les imprimés\, les couleurs et les accessoires\, vous trouverez de quoi élaborer vos futures collections de A à Z en arpentant les 9 univers du salon. \n  \nPV Paris c’est :\n3 jours de salon\, 2 fois par an à Paris Nord Villepinte \n9 univers dédiés aux tissus\, aux fils\, aux designs\, aux cuirs\, aux accessoires\, à la confection et à l’éco-responsabilité \n+ de 1200 exposants internationaux sélectionnés pour leur créativité \nDes talks pour faire le point sur les sujets du moment et vous inspirer \nDes forums d’inspiration mode avec les points forts de la saison \nUne gamme couleurs exclusive et une information mode pointue chaque saison \nPartagez
URL:https://www.parisnord2.fr/event/salon-premiere-vision-4/
LOCATION:Parc des Expositions\, Villepinte\, Ile-de-France\, 93420\, France
CATEGORIES:Parc des expositions
ATTACH;FMTTYPE=image/jpeg:https://www.parisnord2.fr/wp-content/uploads/2023/01/PremierevisionParisExhibitionHall.jpg
END:VEVENT
BEGIN:VEVENT
DTSTART;TZID=Europe/Paris:20250211T114500
DTEND;TZID=Europe/Paris:20250211T140000
DTSTAMP:20260423T235939
CREATED:20250106T095046Z
LAST-MODIFIED:20250130T154948Z
UID:10000561-1739274300-1739282400@www.parisnord2.fr
SUMMARY:Animation Afrique sur Cap'Est
DESCRIPTION:Partagez
URL:https://www.parisnord2.fr/event/animation-afrique-sur-capest/
LOCATION:Restaurant Cap’Est\, 10 rue de l'Etang\, TREMBLAY-EN-FRANCE\, 93290
CATEGORIES:RIE Paris Nord 2
END:VEVENT
BEGIN:VEVENT
DTSTART;TZID=Europe/Paris:20250213T114500
DTEND;TZID=Europe/Paris:20250213T140000
DTSTAMP:20260423T235939
CREATED:20250106T095543Z
LAST-MODIFIED:20250130T154544Z
UID:10000562-1739447100-1739455200@www.parisnord2.fr
SUMMARY:Animation Guinguette sur Cap'Nord
DESCRIPTION:  \n  \n  \n \nPartagez
URL:https://www.parisnord2.fr/event/animation-guinguette-sur-capnord/
LOCATION:Restaurant Cap’Nord\, 1\, rue des épis\, VILLEPINTE\, France
CATEGORIES:RIE Paris Nord 2
ATTACH;FMTTYPE=image/jpeg:https://www.parisnord2.fr/wp-content/uploads/2025/01/Affiche-A3-Guingette.jpg
END:VEVENT
BEGIN:VEVENT
DTSTART;TZID=Europe/Paris:20250226T123000
DTEND;TZID=Europe/Paris:20250226T143000
DTSTAMP:20260423T235939
CREATED:20250124T152821Z
LAST-MODIFIED:20250124T152821Z
UID:10000598-1740573000-1740580200@www.parisnord2.fr
SUMMARY:Apéritifs-contacts CEEVO
DESCRIPTION:Réunions conviviales qui permettent de développer des relations interentreprises et d’échanger sur un thème autour d’un buffet léger. \nPartagez
URL:https://www.parisnord2.fr/event/aperitifs-contacts-ceevo-6/
LOCATION:Salons du Conseil Départemental du Val d’Oise\, 2 avenue du Parc\, CERGY-PONTOISE\, 95032\, France
CATEGORIES:CEEVO 95
ATTACH;FMTTYPE=image/jpeg:https://www.parisnord2.fr/wp-content/uploads/2022/02/CEEVO.jpg
END:VEVENT
END:VCALENDAR