BEGIN:VCALENDAR
VERSION:2.0
PRODID:-//PARIS NORD 2 - ECPv6.15.18//NONSGML v1.0//EN
CALSCALE:GREGORIAN
METHOD:PUBLISH
X-WR-CALNAME:PARIS NORD 2
X-ORIGINAL-URL:https://www.parisnord2.fr
X-WR-CALDESC:Évènements pour PARIS NORD 2
REFRESH-INTERVAL;VALUE=DURATION:PT1H
X-Robots-Tag:noindex
X-PUBLISHED-TTL:PT1H
BEGIN:VTIMEZONE
TZID:Europe/Paris
BEGIN:DAYLIGHT
TZOFFSETFROM:+0100
TZOFFSETTO:+0200
TZNAME:CEST
DTSTART:20240331T010000
END:DAYLIGHT
BEGIN:STANDARD
TZOFFSETFROM:+0200
TZOFFSETTO:+0100
TZNAME:CET
DTSTART:20241027T010000
END:STANDARD
BEGIN:DAYLIGHT
TZOFFSETFROM:+0100
TZOFFSETTO:+0200
TZNAME:CEST
DTSTART:20250330T010000
END:DAYLIGHT
BEGIN:STANDARD
TZOFFSETFROM:+0200
TZOFFSETTO:+0100
TZNAME:CET
DTSTART:20251026T010000
END:STANDARD
BEGIN:DAYLIGHT
TZOFFSETFROM:+0100
TZOFFSETTO:+0200
TZNAME:CEST
DTSTART:20260329T010000
END:DAYLIGHT
BEGIN:STANDARD
TZOFFSETFROM:+0200
TZOFFSETTO:+0100
TZNAME:CET
DTSTART:20261025T010000
END:STANDARD
END:VTIMEZONE
BEGIN:VEVENT
DTSTART;VALUE=DATE:20250602
DTEND;VALUE=DATE:20250614
DTSTAMP:20260423T065626
CREATED:20250106T104045Z
LAST-MODIFIED:20250106T104045Z
UID:10000582-1748822400-1749859199@www.parisnord2.fr
SUMMARY:Concours
DESCRIPTION:@pressfoto.freepik\n  \n\nPartagez
URL:https://www.parisnord2.fr/event/concours-35/
LOCATION:Parc des Expositions\, Villepinte\, Ile-de-France\, 93420\, France
CATEGORIES:Parc des expositions
ATTACH;FMTTYPE=image/jpeg:https://www.parisnord2.fr/wp-content/uploads/2023/01/@pressfoto-e1675095219138.jpg
END:VEVENT
BEGIN:VEVENT
DTSTART;TZID=Europe/Paris:20250603T120000
DTEND;TZID=Europe/Paris:20250603T140000
DTSTAMP:20260423T065626
CREATED:20250429T084906Z
LAST-MODIFIED:20250429T125344Z
UID:10000615-1748952000-1748959200@www.parisnord2.fr
SUMMARY:Rencontre Interentreprises Time to Work
DESCRIPTION:Inscrivez-vous ici \nPartagez
URL:https://www.parisnord2.fr/event/rencontre-interentreprises-time-to-work/
LOCATION:Time to Work\, 385\, rue de la Belle étoile\, Roissy en France\, 95700\, France
ATTACH;FMTTYPE=image/jpeg:https://www.parisnord2.fr/wp-content/uploads/2025/04/TIME-TO-WORK-WEB.jpg
END:VEVENT
BEGIN:VEVENT
DTSTART;VALUE=DATE:20250604
DTEND;VALUE=DATE:20250606
DTSTAMP:20260423T065626
CREATED:20250106T104110Z
LAST-MODIFIED:20250106T104110Z
UID:10000583-1748995200-1749167999@www.parisnord2.fr
SUMMARY:Concours
DESCRIPTION:@pressfoto.freepik\n  \n\nPartagez
URL:https://www.parisnord2.fr/event/concours-36/
LOCATION:Parc des Expositions\, Villepinte\, Ile-de-France\, 93420\, France
CATEGORIES:Parc des expositions
ATTACH;FMTTYPE=image/jpeg:https://www.parisnord2.fr/wp-content/uploads/2023/01/@pressfoto-e1675095219138.jpg
END:VEVENT
BEGIN:VEVENT
DTSTART;VALUE=DATE:20250604
DTEND;VALUE=DATE:20250606
DTSTAMP:20260423T065626
CREATED:20250106T150745Z
LAST-MODIFIED:20250106T150745Z
UID:10000590-1748995200-1749167999@www.parisnord2.fr
SUMMARY:Salon d’Enseigne GMS BRICOLAGE LEROY MERLIN
DESCRIPTION:Partagez
URL:https://www.parisnord2.fr/event/salon-denseigne-gms-bricolage-leroy-merlin-3/
LOCATION:Parc des Expositions\, Villepinte\, Ile-de-France\, 93420\, France
CATEGORIES:Parc des expositions
ATTACH;FMTTYPE=image/jpeg:https://www.parisnord2.fr/wp-content/uploads/2025/01/paris-nord-villepinte-3.jpg
END:VEVENT
BEGIN:VEVENT
DTSTART;TZID=Europe/Paris:20250605T114500
DTEND;TZID=Europe/Paris:20250605T140000
DTSTAMP:20260423T065626
CREATED:20250605T072147Z
LAST-MODIFIED:20250605T072147Z
UID:10000619-1749123900-1749132000@www.parisnord2.fr
SUMMARY:Animation Super Green
DESCRIPTION:Partagez
URL:https://www.parisnord2.fr/event/animation-super-green-2/
LOCATION:Restaurant Cap’Nord\, 1\, rue des épis\, VILLEPINTE\, France
CATEGORIES:RIE Paris Nord 2
ATTACH;FMTTYPE=image/jpeg:https://www.parisnord2.fr/wp-content/uploads/2025/06/API-Affiche-A3-Super-Green-CapNord-WEB.jpg
END:VEVENT
BEGIN:VEVENT
DTSTART;TZID=Europe/Paris:20250610T114500
DTEND;TZID=Europe/Paris:20250610T140000
DTSTAMP:20260423T065626
CREATED:20250512T152252Z
LAST-MODIFIED:20250512T152252Z
UID:10000618-1749555900-1749564000@www.parisnord2.fr
SUMMARY:Expo-Vente Wonderbox
DESCRIPTION:Partagez
URL:https://www.parisnord2.fr/event/expo-vente-wonderbox-2/
LOCATION:Restaurant Cap’Nord\, 1\, rue des épis\, VILLEPINTE\, France
CATEGORIES:RIE Paris Nord 2
ATTACH;FMTTYPE=image/jpeg:https://www.parisnord2.fr/wp-content/uploads/2025/05/Affiche-A3-Wonderbox-CapNord-WEB.jpg
END:VEVENT
BEGIN:VEVENT
DTSTART;TZID=Europe/Paris:20250611T123000
DTEND;TZID=Europe/Paris:20250611T140000
DTSTAMP:20260423T065626
CREATED:20250401T080223Z
LAST-MODIFIED:20250401T080223Z
UID:10000611-1749645000-1749650400@www.parisnord2.fr
SUMMARY:Session essai Golf
DESCRIPTION:Cliquez sur l’image pour télécharger l’affiche. \nPartagez
URL:https://www.parisnord2.fr/event/session-essai-golf-3/
LOCATION:Golf de Roissy\, Allée du Golf\, ROISSY EN FRANCE\, France
CATEGORIES:Golf de Roissy
ATTACH;FMTTYPE=image/jpeg:https://www.parisnord2.fr/wp-content/uploads/2025/03/Golf-internationaldeRoissy.jpg
END:VEVENT
BEGIN:VEVENT
DTSTART;TZID=Europe/Paris:20250618T140000
DTEND;TZID=Europe/Paris:20250618T170000
DTSTAMP:20260423T065626
CREATED:20250512T151843Z
LAST-MODIFIED:20250512T151843Z
UID:10000616-1750255200-1750266000@www.parisnord2.fr
SUMMARY:journée de Recrutement Logistique et Transport
DESCRIPTION:Découvrez la société Formalogistics et venez recruter vos futurs collaborateurs \n  \nFormalogistics est un centre de formation spécialisé dans les métiers du transport\, de la logistique et de la sécurité au travail. \nNous avons rencontré Imane Zakaria\, Chargée de Marketing et Communication\, qui nous a expliqués son activité et pourquoi Paris Nord 2 a été choisi pour l’implantation de son siège social. Elle vous invite également à participer le 18 juin à la journée Recrutement Logistique et Transport. \nRetour sur son interview. \n  \nLe choix de Paris Nord 2 pour son emplacement stratégique \n  \n« Le siège social de Formalogistics est situé à Tremblay-en-France\, au cœur du parc d’affaires Paris Nord 2 et bénéficie d’un emplacement stratégique. En effet\, sa proximité immédiate avec l’aéroport Paris-Charles de Gaulle\, les autoroutes A1 et A3\, ainsi que son accessibilité\nvia les transports en commun (RER B\, bus)\, en font un point clé pour les secteurs du transport et de la logistique. \nCe choix d’implantation a également été porté par l’excellente desserte de Paris Nord 2. Il s’inscrit dans une logique de proximité\navec les grands pôles logistiques et industriels et facilite la venue de stagiaires provenant de toute l’Île-de-France\, voire d’autres régions. \nLe siège regroupe les bureaux administratifs et un centre de formation complet\, conçu pour accueillir des formations théoriques en salles\net des mises en pratique sur des plateaux techniques spécialisés\, d’une surface totale de 2 800 m²\, répondant aux exigences des métiers du transport et de la logistique. \nAvec environ 150 salariés\, Formalogistics est un centre de formation totalement indépendant. Toutes les ressources nécessaires au bon développement de l’entreprise se trouvent en interne\, ce qui permet une plus grande réactivité. » \n  \nDes formations en logistique\, transport et sécurité au travail \n  \n \n  \n« Grâce à une offre riche et diversifiée\, Formalogistics accompagne les entreprises\, mais aussi les particuliers et les demandeurs d’emploi dans le développement des compétences nécessaires à leur intégration rapide et sécurisée dans le monde professionnel. \n  \n  \nFormalogistics propose de nombreuses formations : \n\nCACES® (Certificats d’Aptitude à la Conduite en Sécurité)\nSST (Sauveteur Secouriste du Travail)\nSSIAP (Service de Sécurité Incendie et d’Assistance à Personnes)\nHabilitations électriques\nFormations échafaudages\nPermis de conduire professionnels : permis C\, CE\, FIMO\, FCO\n\n\nFormaligistics propose des titres professionnels reconnus par l’État dans les domaines du transport et de la logistique\,\nainsi que des formations en alternance pour favoriser l’insertion professionnelle durable. \nCe sont des prestations pour les particuliers\, les demandeurs d’emploi et les entreprises\, afin de former rapidement les candidats\nà travailler en toute sécurité. Les entreprises et leurs collaborateurs bénéficient de prestations modulables et adaptables\n(durée personnalisable\, groupes sur mesure\, prestations en inter ou en intra\, tarifs adaptés…). \n  \nLe Groupe est certifié Qualiopi et Dekra pour la qualité de ses prestations et dispose de 18 centres de formations en France\, dans 8 départements : 77 / 78 / 91 / 93 / 95 / 59 / 67 / 69\net en région Ouest. \nEn 2024\, ce sont plus de 55 000 stagiaires qui ont été formés dans l’ensemble des centres du groupe. » \n  \n\n\n\nParticipez à la journée Recrutement Logistique et Transport et recrutez vos futurs collaborateurs \n  \n\nLe mercredi 18 juin\nÀ partir de 14h\n67\, rue des Chardonnerets – Tremblay-en-France \nÀ partir de 14h\, job dating afin de rencontrer les apprenants en fin de formation :\n– Préparateur de commandes en entrepôt\n– Agent magasinier\n– Gestionnaire informatique des stocks \nDes profils formés\, motivés et prêts à intégrer vos équipes ! \nÀ partir de 17h30\, visite des locaux de Formalogistics\, découverte des solutions de formation et échanges\navec les équipes pédagogiques et commerciales. \n  \nUne belle opportunité de recruter autrement\,\nde créer du lien entre voisins de Paris Nord 2\net de découvrir Formalogistics sous un autre angle. \n  \nCliquez ici pour vous inscrire.\nVous pouvez indiquer votre participation au job dating\, à la visite des locaux\, ou aux deux.\n\n\n\nPartagez
URL:https://www.parisnord2.fr/event/journee-de-recrutement-logistique-et-transport/
LOCATION:Formalogistics\, 65\, rue des chardonnerets\, TREMBLAY EN FRANCE\, Sélectionner un État :\, 93290\, France
CATEGORIES:Paris Nord 2
ATTACH;FMTTYPE=image/jpeg:https://www.parisnord2.fr/wp-content/uploads/2025/05/Formalogistics.jpg
END:VEVENT
BEGIN:VEVENT
DTSTART;TZID=Europe/Paris:20250625T123000
DTEND;TZID=Europe/Paris:20250625T140000
DTSTAMP:20260423T065626
CREATED:20250401T080255Z
LAST-MODIFIED:20250401T080255Z
UID:10000612-1750854600-1750860000@www.parisnord2.fr
SUMMARY:Session essai Golf
DESCRIPTION:Cliquez sur l’image pour télécharger l’affiche. \nPartagez
URL:https://www.parisnord2.fr/event/session-essai-golf-4/
LOCATION:Golf de Roissy\, Allée du Golf\, ROISSY EN FRANCE\, France
CATEGORIES:Golf de Roissy
ATTACH;FMTTYPE=image/jpeg:https://www.parisnord2.fr/wp-content/uploads/2025/03/Golf-internationaldeRoissy.jpg
END:VEVENT
BEGIN:VEVENT
DTSTART;TZID=Europe/Paris:20250625T123000
DTEND;TZID=Europe/Paris:20250625T143000
DTSTAMP:20260423T065626
CREATED:20250124T153303Z
LAST-MODIFIED:20250124T153303Z
UID:10000602-1750854600-1750861800@www.parisnord2.fr
SUMMARY:Apéritifs-contacts CEEVO
DESCRIPTION:Réunions conviviales qui permettent de développer des relations interentreprises et d’échanger sur un thème autour d’un buffet léger. \nPartagez
URL:https://www.parisnord2.fr/event/aperitifs-contacts-ceevo-10/
LOCATION:Salons du Conseil Départemental du Val d’Oise\, 2 avenue du Parc\, CERGY-PONTOISE\, 95032\, France
CATEGORIES:CEEVO 95
ATTACH;FMTTYPE=image/jpeg:https://www.parisnord2.fr/wp-content/uploads/2022/02/CEEVO.jpg
END:VEVENT
END:VCALENDAR