BEGIN:VCALENDAR
VERSION:2.0
PRODID:-//PARIS NORD 2 - ECPv6.15.18//NONSGML v1.0//EN
CALSCALE:GREGORIAN
METHOD:PUBLISH
X-WR-CALNAME:PARIS NORD 2
X-ORIGINAL-URL:https://www.parisnord2.fr
X-WR-CALDESC:Évènements pour PARIS NORD 2
REFRESH-INTERVAL;VALUE=DURATION:PT1H
X-Robots-Tag:noindex
X-PUBLISHED-TTL:PT1H
BEGIN:VTIMEZONE
TZID:Europe/Paris
BEGIN:DAYLIGHT
TZOFFSETFROM:+0100
TZOFFSETTO:+0200
TZNAME:CEST
DTSTART:20240331T010000
END:DAYLIGHT
BEGIN:STANDARD
TZOFFSETFROM:+0200
TZOFFSETTO:+0100
TZNAME:CET
DTSTART:20241027T010000
END:STANDARD
BEGIN:DAYLIGHT
TZOFFSETFROM:+0100
TZOFFSETTO:+0200
TZNAME:CEST
DTSTART:20250330T010000
END:DAYLIGHT
BEGIN:STANDARD
TZOFFSETFROM:+0200
TZOFFSETTO:+0100
TZNAME:CET
DTSTART:20251026T010000
END:STANDARD
BEGIN:DAYLIGHT
TZOFFSETFROM:+0100
TZOFFSETTO:+0200
TZNAME:CEST
DTSTART:20260329T010000
END:DAYLIGHT
BEGIN:STANDARD
TZOFFSETFROM:+0200
TZOFFSETTO:+0100
TZNAME:CET
DTSTART:20261025T010000
END:STANDARD
END:VTIMEZONE
BEGIN:VEVENT
DTSTART;VALUE=DATE:20250804
DTEND;VALUE=DATE:20250830
DTSTAMP:20260423T004745
CREATED:20250627T132307Z
LAST-MODIFIED:20250722T083501Z
UID:10000622-1754265600-1756511999@www.parisnord2.fr
SUMMARY:Fermeture du restaurant Cap'Est
DESCRIPTION:Partagez
URL:https://www.parisnord2.fr/event/fermeture-du-restaurant-capest-2/
LOCATION:Restaurant Cap’Est\, 10 rue de l'Etang\, TREMBLAY-EN-FRANCE\, 93290
CATEGORIES:RIE Paris Nord 2
ATTACH;FMTTYPE=image/jpeg:https://www.parisnord2.fr/wp-content/uploads/2025/06/Fermeture-ete-cap-est-1.jpg
END:VEVENT
BEGIN:VEVENT
DTSTART;TZID=Europe/Paris:20250821T100000
DTEND;TZID=Europe/Paris:20250831T180000
DTSTAMP:20260423T004745
CREATED:20250804T095515Z
LAST-MODIFIED:20250804T095515Z
UID:10000623-1755770400-1756663200@www.parisnord2.fr
SUMMARY:Virée 100 % poétique
DESCRIPTION:Du 20 au 31 août\, la Société des grands projets et Enlarge your Paris organisent la 6e édition du « Tour piéton du Grand Paris Express ». \nCe tour propose différentes balades pour explorer les territoires qui seront traversés par les futures lignes de métro. \n  \nClôture poétique de ce Tour piéton dans les paysages bucoliques – et encore trop méconnus – du nord de la métropole. Découvrez un ancien village figé dans le temps\, écoutez des lectures et partagez un repas de fin de voyage en plein air dans un tiers-lieu aux abords des pistes de l’aéroport Charles-de-Gaulle (Val-d’Oise). Dans le territoire de la ligne 17 du Grand Paris Express\, on repousse les limites de l’imaginaire et de la ville. \n  \nInfos et inscriptions sur eventbrite.fr \nPartagez
URL:https://www.parisnord2.fr/event/viree-100-poetique/
LOCATION:Parc des Expositions\, Villepinte\, Ile-de-France\, 93420\, France
CATEGORIES:Parc des expositions
ATTACH;FMTTYPE=image/jpeg:https://www.parisnord2.fr/wp-content/uploads/2025/08/viree-poetique-Aerolians-SGP.jpeg
END:VEVENT
END:VCALENDAR