BEGIN:VCALENDAR
VERSION:2.0
PRODID:-//PARIS NORD 2 - ECPv6.15.18//NONSGML v1.0//EN
CALSCALE:GREGORIAN
METHOD:PUBLISH
X-WR-CALNAME:PARIS NORD 2
X-ORIGINAL-URL:https://www.parisnord2.fr
X-WR-CALDESC:Évènements pour PARIS NORD 2
REFRESH-INTERVAL;VALUE=DURATION:PT1H
X-Robots-Tag:noindex
X-PUBLISHED-TTL:PT1H
BEGIN:VTIMEZONE
TZID:Europe/Paris
BEGIN:DAYLIGHT
TZOFFSETFROM:+0100
TZOFFSETTO:+0200
TZNAME:CEST
DTSTART:20210328T010000
END:DAYLIGHT
BEGIN:STANDARD
TZOFFSETFROM:+0200
TZOFFSETTO:+0100
TZNAME:CET
DTSTART:20211031T010000
END:STANDARD
BEGIN:DAYLIGHT
TZOFFSETFROM:+0100
TZOFFSETTO:+0200
TZNAME:CEST
DTSTART:20220327T010000
END:DAYLIGHT
BEGIN:STANDARD
TZOFFSETFROM:+0200
TZOFFSETTO:+0100
TZNAME:CET
DTSTART:20221030T010000
END:STANDARD
BEGIN:DAYLIGHT
TZOFFSETFROM:+0100
TZOFFSETTO:+0200
TZNAME:CEST
DTSTART:20230326T010000
END:DAYLIGHT
BEGIN:STANDARD
TZOFFSETFROM:+0200
TZOFFSETTO:+0100
TZNAME:CET
DTSTART:20231029T010000
END:STANDARD
END:VTIMEZONE
BEGIN:VEVENT
DTSTART;TZID=Europe/Paris:20221213T164325
DTEND;TZID=Europe/Paris:20221213T164325
DTSTAMP:20260426T021454
CREATED:20221128T133848Z
LAST-MODIFIED:20221213T154325Z
UID:10000430-1670949805-1670949805@www.parisnord2.fr
SUMMARY:Repas de Noël Cap'Nord
DESCRIPTION:Une formule spéciale Noël sera également disponible sur PN2 Eats pour être livré au bureau. \n  \n \nOn vous donne rendez-vous le 15 décembre ! \nPartagez
URL:https://www.parisnord2.fr/event/repas-de-noel-2/
LOCATION:Restaurant Cap’Nord\, 1\, rue des épis\, VILLEPINTE\, France
CATEGORIES:RIE Paris Nord 2
END:VEVENT
BEGIN:VEVENT
DTSTART;TZID=Europe/Paris:20221215T123000
DTEND;TZID=Europe/Paris:20221215T140000
DTSTAMP:20260426T021454
CREATED:20220704T113706Z
LAST-MODIFIED:20220718T122333Z
UID:10000418-1671107400-1671112800@www.parisnord2.fr
SUMMARY:Apéritif-Contacts CEEVO du 15 décembre
DESCRIPTION:Thème de la conférence de ce jeudi 15 décembre :\nPME-PMI : comment réaliser une étude de marché ? \nIntervenant : Ghislaine Salmat\, PDG de la société Générations Data \n  \nLe CEEVO\, l’Agence de Développement et d’Attractivité des territoires du Val d’Oise\, organise des conférences à thèmes\, les « Apéritifs-Contacts » destinés aux chefs d’entreprises et responsables économiques du Val d’Oise\, afin de leur permettre de s’informer sur des sujets qui les préoccupent. \nCes réunions conviviales permettent aussi de développer des relations interentreprises autour d’un buffet léger. \nLa participation a cette conférence est gratuite\, sur inscription préalable au plus tard 1 semaine avant auprès de Chrystel Berterretche :\n01 34 25 32 43\nc.berterretche@ceevo95.fr \nPartagez
URL:https://www.parisnord2.fr/event/aperitif-contacts-du-15-decembre/
LOCATION:Salons du Conseil Départemental du Val d’Oise\, 2 avenue du Parc\, CERGY-PONTOISE\, 95032\, France
CATEGORIES:CEEVO 95
END:VEVENT
END:VCALENDAR