BEGIN:VCALENDAR
VERSION:2.0
PRODID:-//PARIS NORD 2 - ECPv6.15.18//NONSGML v1.0//EN
CALSCALE:GREGORIAN
METHOD:PUBLISH
X-WR-CALNAME:PARIS NORD 2
X-ORIGINAL-URL:https://www.parisnord2.fr
X-WR-CALDESC:Évènements pour PARIS NORD 2
REFRESH-INTERVAL;VALUE=DURATION:PT1H
X-Robots-Tag:noindex
X-PUBLISHED-TTL:PT1H
BEGIN:VTIMEZONE
TZID:Europe/Paris
BEGIN:DAYLIGHT
TZOFFSETFROM:+0100
TZOFFSETTO:+0200
TZNAME:CEST
DTSTART:20220327T010000
END:DAYLIGHT
BEGIN:STANDARD
TZOFFSETFROM:+0200
TZOFFSETTO:+0100
TZNAME:CET
DTSTART:20221030T010000
END:STANDARD
BEGIN:DAYLIGHT
TZOFFSETFROM:+0100
TZOFFSETTO:+0200
TZNAME:CEST
DTSTART:20230326T010000
END:DAYLIGHT
BEGIN:STANDARD
TZOFFSETFROM:+0200
TZOFFSETTO:+0100
TZNAME:CET
DTSTART:20231029T010000
END:STANDARD
BEGIN:DAYLIGHT
TZOFFSETFROM:+0100
TZOFFSETTO:+0200
TZNAME:CEST
DTSTART:20240331T010000
END:DAYLIGHT
BEGIN:STANDARD
TZOFFSETFROM:+0200
TZOFFSETTO:+0100
TZNAME:CET
DTSTART:20241027T010000
END:STANDARD
END:VTIMEZONE
BEGIN:VEVENT
DTSTART;VALUE=DATE:20230619
DTEND;VALUE=DATE:20230623
DTSTAMP:20260425T140322
CREATED:20230131T093032Z
LAST-MODIFIED:20230131T093032Z
UID:10000452-1687132800-1687478399@www.parisnord2.fr
SUMMARY:Examens
DESCRIPTION:@pressfoto.freepik\n  \n\nPartagez
URL:https://www.parisnord2.fr/event/examens-8/
LOCATION:Parc des Expositions\, Villepinte\, Ile-de-France\, 93420\, France
CATEGORIES:Parc des expositions
ATTACH;FMTTYPE=image/jpeg:https://www.parisnord2.fr/wp-content/uploads/2023/01/@pressfoto-e1675095219138.jpg
END:VEVENT
BEGIN:VEVENT
DTSTART;TZID=Europe/Paris:20230622T124500
DTEND;TZID=Europe/Paris:20230622T133000
DTSTAMP:20260425T140322
CREATED:20230620T123412Z
LAST-MODIFIED:20230620T123412Z
UID:10000464-1687437900-1687440600@www.parisnord2.fr
SUMMARY:ANNULE Les jeudis sportifs
DESCRIPTION:Partagez
URL:https://www.parisnord2.fr/event/annule-les-jeudis-sportifs/
LOCATION:Sélectionner un État :
CATEGORIES:Paris Nord 2
ATTACH;FMTTYPE=image/jpeg:https://www.parisnord2.fr/wp-content/uploads/2023/05/coup-moyen-femme-qui-s-etend-exterieur-e1684853695108.jpg
END:VEVENT
END:VCALENDAR