BEGIN:VCALENDAR
VERSION:2.0
PRODID:-//PARIS NORD 2 - ECPv6.15.18//NONSGML v1.0//EN
CALSCALE:GREGORIAN
METHOD:PUBLISH
X-ORIGINAL-URL:https://www.parisnord2.fr
X-WR-CALDESC:Évènements pour PARIS NORD 2
REFRESH-INTERVAL;VALUE=DURATION:PT1H
X-Robots-Tag:noindex
X-PUBLISHED-TTL:PT1H
BEGIN:VTIMEZONE
TZID:Europe/Paris
BEGIN:DAYLIGHT
TZOFFSETFROM:+0100
TZOFFSETTO:+0200
TZNAME:CEST
DTSTART:20220327T010000
END:DAYLIGHT
BEGIN:STANDARD
TZOFFSETFROM:+0200
TZOFFSETTO:+0100
TZNAME:CET
DTSTART:20221030T010000
END:STANDARD
BEGIN:DAYLIGHT
TZOFFSETFROM:+0100
TZOFFSETTO:+0200
TZNAME:CEST
DTSTART:20230326T010000
END:DAYLIGHT
BEGIN:STANDARD
TZOFFSETFROM:+0200
TZOFFSETTO:+0100
TZNAME:CET
DTSTART:20231029T010000
END:STANDARD
BEGIN:DAYLIGHT
TZOFFSETFROM:+0100
TZOFFSETTO:+0200
TZNAME:CEST
DTSTART:20240331T010000
END:DAYLIGHT
BEGIN:STANDARD
TZOFFSETFROM:+0200
TZOFFSETTO:+0100
TZNAME:CET
DTSTART:20241027T010000
END:STANDARD
END:VTIMEZONE
BEGIN:VEVENT
DTSTART;VALUE=DATE:20230713
DTEND;VALUE=DATE:20230717
DTSTAMP:20260425T154758
CREATED:20230131T093952Z
LAST-MODIFIED:20230131T093952Z
UID:10000454-1689206400-1689551999@www.parisnord2.fr
SUMMARY:Salon JAPAN EXPO
DESCRIPTION:©Japan-Expo\n  \n  \n  \n\nPartagez
URL:https://www.parisnord2.fr/event/salon-japan-expo/
LOCATION:Parc des Expositions\, Villepinte\, Ile-de-France\, 93420\, France
CATEGORIES:Parc des expositions
ATTACH;FMTTYPE=image/jpeg:https://www.parisnord2.fr/wp-content/uploads/2023/01/japan-expo.jpg
END:VEVENT
END:VCALENDAR