BEGIN:VCALENDAR
VERSION:2.0
PRODID:-//PARIS NORD 2 - ECPv6.15.18//NONSGML v1.0//EN
CALSCALE:GREGORIAN
METHOD:PUBLISH
X-ORIGINAL-URL:https://www.parisnord2.fr
X-WR-CALDESC:Évènements pour PARIS NORD 2
REFRESH-INTERVAL;VALUE=DURATION:PT1H
X-Robots-Tag:noindex
X-PUBLISHED-TTL:PT1H
BEGIN:VTIMEZONE
TZID:Europe/Paris
BEGIN:DAYLIGHT
TZOFFSETFROM:+0100
TZOFFSETTO:+0200
TZNAME:CEST
DTSTART:20230326T010000
END:DAYLIGHT
BEGIN:STANDARD
TZOFFSETFROM:+0200
TZOFFSETTO:+0100
TZNAME:CET
DTSTART:20231029T010000
END:STANDARD
BEGIN:DAYLIGHT
TZOFFSETFROM:+0100
TZOFFSETTO:+0200
TZNAME:CEST
DTSTART:20240331T010000
END:DAYLIGHT
BEGIN:STANDARD
TZOFFSETFROM:+0200
TZOFFSETTO:+0100
TZNAME:CET
DTSTART:20241027T010000
END:STANDARD
BEGIN:DAYLIGHT
TZOFFSETFROM:+0100
TZOFFSETTO:+0200
TZNAME:CEST
DTSTART:20250330T010000
END:DAYLIGHT
BEGIN:STANDARD
TZOFFSETFROM:+0200
TZOFFSETTO:+0100
TZNAME:CET
DTSTART:20251026T010000
END:STANDARD
BEGIN:DAYLIGHT
TZOFFSETFROM:+0100
TZOFFSETTO:+0200
TZNAME:CEST
DTSTART:20260329T010000
END:DAYLIGHT
BEGIN:STANDARD
TZOFFSETFROM:+0200
TZOFFSETTO:+0100
TZNAME:CET
DTSTART:20261025T010000
END:STANDARD
END:VTIMEZONE
BEGIN:VEVENT
DTSTART;TZID=Europe/Paris:20241216T113000
DTEND;TZID=Europe/Paris:20250203T140000
DTSTAMP:20260424T080427
CREATED:20241213T085623Z
LAST-MODIFIED:20241213T085623Z
UID:10000559-1734348600-1738591200@www.parisnord2.fr
SUMMARY:Galette des rois
DESCRIPTION:Partagez
URL:https://www.parisnord2.fr/event/galette-des-rois-3/
LOCATION:Restaurant Cap’Nord\, 1\, rue des épis\, VILLEPINTE\, France
CATEGORIES:RIE Paris Nord 2
ATTACH;FMTTYPE=image/jpeg:https://www.parisnord2.fr/wp-content/uploads/2024/01/IMG_20231228_112105-e1704444481696.jpg
END:VEVENT
BEGIN:VEVENT
DTSTART;TZID=Europe/Paris:20250129T114500
DTEND;TZID=Europe/Paris:20250129T140000
DTSTAMP:20260424T080427
CREATED:20250124T131838Z
LAST-MODIFIED:20250124T131838Z
UID:10000595-1738151100-1738159200@www.parisnord2.fr
SUMMARY:Animation "Nouvel an chinois"
DESCRIPTION:  \n \n  \n \nPartagez
URL:https://www.parisnord2.fr/event/animation-nouvel-an-chinois/
LOCATION:Restaurant Cap’Nord\, 1\, rue des épis\, VILLEPINTE\, France
CATEGORIES:RIE Paris Nord 2
ATTACH;FMTTYPE=image/jpeg:https://www.parisnord2.fr/wp-content/uploads/2025/01/API-Affiche-A3-Nouvel-an-chinois-WEB.jpg
END:VEVENT
BEGIN:VEVENT
DTSTART;TZID=Europe/Paris:20250129T123000
DTEND;TZID=Europe/Paris:20250129T143000
DTSTAMP:20260424T080427
CREATED:20250124T152626Z
LAST-MODIFIED:20250124T152626Z
UID:10000597-1738153800-1738161000@www.parisnord2.fr
SUMMARY:Apéritifs-contacts CEEVO
DESCRIPTION:Réunions conviviales qui permettent de développer des relations interentreprises et d’échanger sur un thème autour d’un buffet léger. \nPartagez
URL:https://www.parisnord2.fr/event/aperitifs-contacts-ceevo/
LOCATION:Salons du Conseil Départemental du Val d’Oise\, 2 avenue du Parc\, CERGY-PONTOISE\, 95032\, France
CATEGORIES:CEEVO 95
ATTACH;FMTTYPE=image/jpeg:https://www.parisnord2.fr/wp-content/uploads/2022/02/CEEVO.jpg
END:VEVENT
END:VCALENDAR