BEGIN:VCALENDAR
VERSION:2.0
PRODID:-//PARIS NORD 2 - ECPv6.15.18//NONSGML v1.0//EN
CALSCALE:GREGORIAN
METHOD:PUBLISH
X-WR-CALNAME:PARIS NORD 2
X-ORIGINAL-URL:https://www.parisnord2.fr
X-WR-CALDESC:Évènements pour PARIS NORD 2
REFRESH-INTERVAL;VALUE=DURATION:PT1H
X-Robots-Tag:noindex
X-PUBLISHED-TTL:PT1H
BEGIN:VTIMEZONE
TZID:Europe/Paris
BEGIN:DAYLIGHT
TZOFFSETFROM:+0100
TZOFFSETTO:+0200
TZNAME:CEST
DTSTART:20240331T010000
END:DAYLIGHT
BEGIN:STANDARD
TZOFFSETFROM:+0200
TZOFFSETTO:+0100
TZNAME:CET
DTSTART:20241027T010000
END:STANDARD
BEGIN:DAYLIGHT
TZOFFSETFROM:+0100
TZOFFSETTO:+0200
TZNAME:CEST
DTSTART:20250330T010000
END:DAYLIGHT
BEGIN:STANDARD
TZOFFSETFROM:+0200
TZOFFSETTO:+0100
TZNAME:CET
DTSTART:20251026T010000
END:STANDARD
BEGIN:DAYLIGHT
TZOFFSETFROM:+0100
TZOFFSETTO:+0200
TZNAME:CEST
DTSTART:20260329T010000
END:DAYLIGHT
BEGIN:STANDARD
TZOFFSETFROM:+0200
TZOFFSETTO:+0100
TZNAME:CET
DTSTART:20261025T010000
END:STANDARD
END:VTIMEZONE
BEGIN:VEVENT
DTSTART;VALUE=DATE:20251117
DTEND;VALUE=DATE:20251206
DTSTAMP:20260422T014535
CREATED:20251104T094833Z
LAST-MODIFIED:20251104T094833Z
UID:10000902-1763337600-1764979199@www.parisnord2.fr
SUMMARY:collecte de jouets pour les enfants des Restos du Cœur
DESCRIPTION:Un Noël pour tous : la collecte de jouets pour les enfants des Restos du Cœur \n  \nPour que chaque enfant puisse vivre la magie de Noël\, nous organisons notre traditionnelle collecte de jouets1 et de confiseries pour les enfants des Restos du Cœur.\nUn Noël pour tous\, c’est du 17 novembre au 5 décembre 2025\, dans 5 points de collecte : dans les restaurants Cap’Nord et Cap’Est\, au Pôle Mobilité et au Centre de Gestion de Paris Nord 2 & au Trampoline Park. \n  \nVous n’avez pas de jouets ? Et bien offrez-leur des bonbons\, chocolats ou papillotes.\nQuelle que soit votre surprise\, vous assurez un sourire ! \n  \nRestaurant Cap’Nord \n \n restaurant Cap’Nord \n\n1\, rue des Epis – Villepinte\nDu lundi au vendredi\, de 11h45 à 14h \nRestaurant Cap’Est\n10\, rue de l’Etang – Tremblay-en-France\nDu lundi au vendredi\, de 11h45 à 14h \nPôle Mobilité\nParvis gare RER B Parc des Expositions\nDu lundi au vendredi\, de 8h à 19h \nCentre de Gestion de Paris Nord 2\n102\, avenue des Nations – Villepinte\nDu lundi au vendredi\, de 9h à 12h30 et de 14h à 17h30 \nTrampoline Park\n74\, rue Belle Etoile – Roissy en France \nMercredi 9h45 à 20h\, \nJeudi & vendredi 15h45 à 20h\, \nSamedi 9h45 à 22h \nDimanche 9h45 à 20h. \nPartagez
URL:https://www.parisnord2.fr/event/collecte-de-jouets-pour-les-enfants-des-restos-du-coeur-2/
LOCATION:Restaurant Cap’Nord\, 1\, rue des épis\, VILLEPINTE\, France
CATEGORIES:RIE Paris Nord 2
END:VEVENT
BEGIN:VEVENT
DTSTART;TZID=Europe/Paris:20251125T114500
DTEND;TZID=Europe/Paris:20251125T140000
DTSTAMP:20260422T014536
CREATED:20251124T155342Z
LAST-MODIFIED:20251124T155342Z
UID:10000906-1764071100-1764079200@www.parisnord2.fr
SUMMARY:Menu Fête foraine
DESCRIPTION:Partagez
URL:https://www.parisnord2.fr/event/menu-fete-foraine/
LOCATION:Restaurant Cap’Est\, 10 rue de l'Etang\, TREMBLAY-EN-FRANCE\, 93290
CATEGORIES:RIE Paris Nord 2
ATTACH;FMTTYPE=image/jpeg:https://www.parisnord2.fr/wp-content/uploads/2025/11/Affiche-Fete-foraine-WEB.jpg
END:VEVENT
END:VCALENDAR