BEGIN:VCALENDAR
VERSION:2.0
PRODID:-//PARIS NORD 2 - ECPv6.15.18//NONSGML v1.0//EN
CALSCALE:GREGORIAN
METHOD:PUBLISH
X-ORIGINAL-URL:https://www.parisnord2.fr
X-WR-CALDESC:Évènements pour PARIS NORD 2
REFRESH-INTERVAL;VALUE=DURATION:PT1H
X-Robots-Tag:noindex
X-PUBLISHED-TTL:PT1H
BEGIN:VTIMEZONE
TZID:Europe/Paris
BEGIN:DAYLIGHT
TZOFFSETFROM:+0100
TZOFFSETTO:+0200
TZNAME:CEST
DTSTART:20240331T010000
END:DAYLIGHT
BEGIN:STANDARD
TZOFFSETFROM:+0200
TZOFFSETTO:+0100
TZNAME:CET
DTSTART:20241027T010000
END:STANDARD
BEGIN:DAYLIGHT
TZOFFSETFROM:+0100
TZOFFSETTO:+0200
TZNAME:CEST
DTSTART:20250330T010000
END:DAYLIGHT
BEGIN:STANDARD
TZOFFSETFROM:+0200
TZOFFSETTO:+0100
TZNAME:CET
DTSTART:20251026T010000
END:STANDARD
BEGIN:DAYLIGHT
TZOFFSETFROM:+0100
TZOFFSETTO:+0200
TZNAME:CEST
DTSTART:20260329T010000
END:DAYLIGHT
BEGIN:STANDARD
TZOFFSETFROM:+0200
TZOFFSETTO:+0100
TZNAME:CET
DTSTART:20261025T010000
END:STANDARD
END:VTIMEZONE
BEGIN:VEVENT
DTSTART;TZID=Europe/Paris:20251209T114500
DTEND;TZID=Europe/Paris:20251209T140000
DTSTAMP:20260421T165904
CREATED:20251126T155501Z
LAST-MODIFIED:20251208T150745Z
UID:10000907-1765280700-1765288800@www.parisnord2.fr
SUMMARY:Menu de Noël Cap'Nord
DESCRIPTION:Partagez
URL:https://www.parisnord2.fr/event/menu-de-noel-capnord-2/
LOCATION:Restaurant Cap’Nord\, 1\, rue des épis\, VILLEPINTE\, France
CATEGORIES:RIE Paris Nord 2
ATTACH;FMTTYPE=image/jpeg:https://www.parisnord2.fr/wp-content/uploads/2025/11/CAPNORD-Noel-2025.jpg
END:VEVENT
END:VCALENDAR