BEGIN:VCALENDAR
VERSION:2.0
PRODID:-//PARIS NORD 2 - ECPv6.15.18//NONSGML v1.0//EN
CALSCALE:GREGORIAN
METHOD:PUBLISH
X-ORIGINAL-URL:https://www.parisnord2.fr
X-WR-CALDESC:Évènements pour PARIS NORD 2
REFRESH-INTERVAL;VALUE=DURATION:PT1H
X-Robots-Tag:noindex
X-PUBLISHED-TTL:PT1H
BEGIN:VTIMEZONE
TZID:Europe/Paris
BEGIN:DAYLIGHT
TZOFFSETFROM:+0100
TZOFFSETTO:+0200
TZNAME:CEST
DTSTART:20250330T010000
END:DAYLIGHT
BEGIN:STANDARD
TZOFFSETFROM:+0200
TZOFFSETTO:+0100
TZNAME:CET
DTSTART:20251026T010000
END:STANDARD
BEGIN:DAYLIGHT
TZOFFSETFROM:+0100
TZOFFSETTO:+0200
TZNAME:CEST
DTSTART:20260329T010000
END:DAYLIGHT
BEGIN:STANDARD
TZOFFSETFROM:+0200
TZOFFSETTO:+0100
TZNAME:CET
DTSTART:20261025T010000
END:STANDARD
BEGIN:DAYLIGHT
TZOFFSETFROM:+0100
TZOFFSETTO:+0200
TZNAME:CEST
DTSTART:20270328T010000
END:DAYLIGHT
BEGIN:STANDARD
TZOFFSETFROM:+0200
TZOFFSETTO:+0100
TZNAME:CET
DTSTART:20271031T010000
END:STANDARD
END:VTIMEZONE
BEGIN:VEVENT
DTSTART;TZID=Europe/Paris:20260216T114500
DTEND;TZID=Europe/Paris:20260216T140000
DTSTAMP:20260420T065826
CREATED:20260205T111816Z
LAST-MODIFIED:20260330T083336Z
UID:10000912-1771242300-1771250400@www.parisnord2.fr
SUMMARY:🍽️Menu Italien
DESCRIPTION:Partagez
URL:https://www.parisnord2.fr/event/menu-italien-2/
LOCATION:Restaurant Cap’Est\, 10 rue de l'Etang\, TREMBLAY-EN-FRANCE\, 93290
CATEGORIES:RIE Paris Nord 2
ATTACH;FMTTYPE=image/jpeg:https://www.parisnord2.fr/wp-content/uploads/2026/02/Affiche-Italie-CapEst-WEB.jpg
END:VEVENT
BEGIN:VEVENT
DTSTART;TZID=Europe/Paris:20260217T114500
DTEND;TZID=Europe/Paris:20260217T140000
DTSTAMP:20260420T065826
CREATED:20260205T110917Z
LAST-MODIFIED:20260205T111002Z
UID:10000911-1771328700-1771336800@www.parisnord2.fr
SUMMARY:Menu Nouvel an chinois
DESCRIPTION:Partagez
URL:https://www.parisnord2.fr/event/menu-italien/
LOCATION:Restaurant Cap’Nord\, 1\, rue des épis\, VILLEPINTE\, France
CATEGORIES:RIE Paris Nord 2
ATTACH;FMTTYPE=image/jpeg:https://www.parisnord2.fr/wp-content/uploads/2026/02/Nouvel-an-chinois-CapNord-WEB.jpg
END:VEVENT
END:VCALENDAR