BEGIN:VCALENDAR
VERSION:2.0
PRODID:-//PARIS NORD 2 - ECPv6.15.18//NONSGML v1.0//EN
CALSCALE:GREGORIAN
METHOD:PUBLISH
X-ORIGINAL-URL:https://www.parisnord2.fr
X-WR-CALDESC:Évènements pour PARIS NORD 2
REFRESH-INTERVAL;VALUE=DURATION:PT1H
X-Robots-Tag:noindex
X-PUBLISHED-TTL:PT1H
BEGIN:VTIMEZONE
TZID:Europe/Paris
BEGIN:DAYLIGHT
TZOFFSETFROM:+0100
TZOFFSETTO:+0200
TZNAME:CEST
DTSTART:20250330T010000
END:DAYLIGHT
BEGIN:STANDARD
TZOFFSETFROM:+0200
TZOFFSETTO:+0100
TZNAME:CET
DTSTART:20251026T010000
END:STANDARD
BEGIN:DAYLIGHT
TZOFFSETFROM:+0100
TZOFFSETTO:+0200
TZNAME:CEST
DTSTART:20260329T010000
END:DAYLIGHT
BEGIN:STANDARD
TZOFFSETFROM:+0200
TZOFFSETTO:+0100
TZNAME:CET
DTSTART:20261025T010000
END:STANDARD
BEGIN:DAYLIGHT
TZOFFSETFROM:+0100
TZOFFSETTO:+0200
TZNAME:CEST
DTSTART:20270328T010000
END:DAYLIGHT
BEGIN:STANDARD
TZOFFSETFROM:+0200
TZOFFSETTO:+0100
TZNAME:CET
DTSTART:20271031T010000
END:STANDARD
END:VTIMEZONE
BEGIN:VEVENT
DTSTART;VALUE=DATE:20260310
DTEND;VALUE=DATE:20260313
DTSTAMP:20260420T110531
CREATED:20260220T104235Z
LAST-MODIFIED:20260220T104235Z
UID:10000915-1773100800-1773359999@www.parisnord2.fr
SUMMARY:Salon JEC 2026
DESCRIPTION:https://www.jec-world.events/ \n  \n\nPartagez
URL:https://www.parisnord2.fr/event/salon-jec-2026/
LOCATION:Parc des Expositions\, Villepinte\, Ile-de-France\, 93420\, France
CATEGORIES:Parc des expositions
ATTACH;FMTTYPE=image/png:https://www.parisnord2.fr/wp-content/uploads/2025/01/sALON-JEC-.png
END:VEVENT
BEGIN:VEVENT
DTSTART;VALUE=DATE:20260313
DTEND;VALUE=DATE:20260315
DTSTAMP:20260420T110531
CREATED:20260220T104352Z
LAST-MODIFIED:20260220T104352Z
UID:10000916-1773360000-1773532799@www.parisnord2.fr
SUMMARY:Festival Mme LOYAL
DESCRIPTION:Festival Loyal inscription \nPartagez
URL:https://www.parisnord2.fr/event/festival-mme-loyal-2/
LOCATION:Parc des Expositions\, Villepinte\, Ile-de-France\, 93420\, France
CATEGORIES:Parc des expositions
ATTACH;FMTTYPE=image/png:https://www.parisnord2.fr/wp-content/uploads/2025/01/Festival-Mme-Loyal.png
END:VEVENT
BEGIN:VEVENT
DTSTART;VALUE=DATE:20260314
DTEND;VALUE=DATE:20260316
DTSTAMP:20260420T110531
CREATED:20260220T104429Z
LAST-MODIFIED:20260220T104429Z
UID:10000917-1773446400-1773619199@www.parisnord2.fr
SUMMARY:Salon PARIS MANGA
DESCRIPTION:©Paris-mange-sci-fi-show\nParis Manga & Sci-Fi Show est le premier festival parisien de la pop culture ! Nous avons à cœur de partager nos passions avec nos visiteurs sur des thématiques très variées : culture et traditions japonaises\, comics\, jeux vidéo\, cinéma\, séries télévisées\, culture web\, manga\, animation japonaise\, cosplay\, arts martiaux et plein d’autres choses encore ! \n  \n\nPartagez
URL:https://www.parisnord2.fr/event/salon-paris-manga-7/
LOCATION:Parc des Expositions\, Villepinte\, Ile-de-France\, 93420\, France
CATEGORIES:Parc des expositions
ATTACH;FMTTYPE=image/jpeg:https://www.parisnord2.fr/wp-content/uploads/2024/02/paris-manga-tgs.jpg
END:VEVENT
BEGIN:VEVENT
DTSTART;TZID=Europe/Paris:20260314T103000
DTEND;TZID=Europe/Paris:20260314T140000
DTSTAMP:20260420T110531
CREATED:20260217T084417Z
LAST-MODIFIED:20260217T084417Z
UID:10000913-1773484200-1773496800@www.parisnord2.fr
SUMMARY:Porte ouvertes Evoya Conseils
DESCRIPTION:Partagez
URL:https://www.parisnord2.fr/event/porte-ouvertes-evoya-conseils/
LOCATION:Sélectionner un État :
CATEGORIES:Paris Nord 2
ATTACH;FMTTYPE=image/png:https://www.parisnord2.fr/wp-content/uploads/2026/02/flyer.png
END:VEVENT
END:VCALENDAR