BEGIN:VCALENDAR
VERSION:2.0
PRODID:-//PARIS NORD 2 - ECPv6.15.18//NONSGML v1.0//EN
CALSCALE:GREGORIAN
METHOD:PUBLISH
X-WR-CALNAME:PARIS NORD 2
X-ORIGINAL-URL:https://www.parisnord2.fr
X-WR-CALDESC:Évènements pour PARIS NORD 2
REFRESH-INTERVAL;VALUE=DURATION:PT1H
X-Robots-Tag:noindex
X-PUBLISHED-TTL:PT1H
BEGIN:VTIMEZONE
TZID:Europe/Paris
BEGIN:DAYLIGHT
TZOFFSETFROM:+0100
TZOFFSETTO:+0200
TZNAME:CEST
DTSTART:20250330T010000
END:DAYLIGHT
BEGIN:STANDARD
TZOFFSETFROM:+0200
TZOFFSETTO:+0100
TZNAME:CET
DTSTART:20251026T010000
END:STANDARD
BEGIN:DAYLIGHT
TZOFFSETFROM:+0100
TZOFFSETTO:+0200
TZNAME:CEST
DTSTART:20260329T010000
END:DAYLIGHT
BEGIN:STANDARD
TZOFFSETFROM:+0200
TZOFFSETTO:+0100
TZNAME:CET
DTSTART:20261025T010000
END:STANDARD
BEGIN:DAYLIGHT
TZOFFSETFROM:+0100
TZOFFSETTO:+0200
TZNAME:CEST
DTSTART:20270328T010000
END:DAYLIGHT
BEGIN:STANDARD
TZOFFSETFROM:+0200
TZOFFSETTO:+0100
TZNAME:CET
DTSTART:20271031T010000
END:STANDARD
END:VTIMEZONE
BEGIN:VEVENT
DTSTART;VALUE=DATE:20260330
DTEND;VALUE=DATE:20260403
DTSTAMP:20260420T064729
CREATED:20260220T104830Z
LAST-MODIFIED:20260220T104830Z
UID:10000920-1774828800-1775174399@www.parisnord2.fr
SUMMARY:Salon GLOBAL INDUSTRIE
DESCRIPTION:https://visiteurs.global-industrie.com/votre-badge-gratuit-2026/?ca=GDGS1&utm_source=google&utm_medium=ads&utm_campaign=search-univers&gad_source=1&gad_campaignid=23450308707&gbraid=0AAAAABOFTCrq1HVWXEOzQ5PT0A-t18n-_&gclid=Cj0KCQiAqeDMBhDcARIsAJEbU9RrsIKDF6brPSoEhgUad4LelstsUifziRMFoWj4rin2FQiUMaQLQssaAiThEALw_wcB \n  \n  \n\nPartagez
URL:https://www.parisnord2.fr/event/salon-global-industrie/
LOCATION:Parc des Expositions\, Villepinte\, Ile-de-France\, 93420\, France
CATEGORIES:Parc des expositions
ATTACH;FMTTYPE=image/png:https://www.parisnord2.fr/wp-content/uploads/2025/01/sALON-JEC-.png
END:VEVENT
BEGIN:VEVENT
DTSTART;TZID=Europe/Paris:20260331T090000
DTEND;TZID=Europe/Paris:20260331T103000
DTSTAMP:20260420T064729
CREATED:20260324T153024Z
LAST-MODIFIED:20260330T083600Z
UID:10000928-1774947600-1774953000@www.parisnord2.fr
SUMMARY:🎤Petit-déjeuner Conférence sur l’IA & les entrepreneurs d’aujourd’hui
DESCRIPTION:Partagez
URL:https://www.parisnord2.fr/event/petit-dejeuner-conference-sur-lia-les-entrepreneurs-daujourdhui/
LOCATION:Hôtel Golden Tulip\, Villepinte\, 93420\, France
ATTACH;FMTTYPE=image/png:https://www.parisnord2.fr/wp-content/uploads/2024/05/Copilot_20260305_155401-e1773138956195.png
END:VEVENT
BEGIN:VEVENT
DTSTART;TZID=Europe/Paris:20260402T114500
DTEND;TZID=Europe/Paris:20260402T140000
DTSTAMP:20260420T064729
CREATED:20260327T110251Z
LAST-MODIFIED:20260330T083306Z
UID:10000930-1775130300-1775138400@www.parisnord2.fr
SUMMARY:🍽️ Animation Orientale
DESCRIPTION:Partagez
URL:https://www.parisnord2.fr/event/animation-orientale/
LOCATION:Restaurant Cap’Nord\, 1\, rue des épis\, VILLEPINTE\, France
CATEGORIES:RIE Paris Nord 2
ATTACH;FMTTYPE=image/jpeg:https://www.parisnord2.fr/wp-content/uploads/2026/03/Oriental-CapNord-WEB.jpg
END:VEVENT
END:VCALENDAR